BEGIN:VCALENDAR
VERSION:2.0
PRODID:-//Lehighton Area Memorial Library - ECPv6.15.20//NONSGML v1.0//EN
CALSCALE:GREGORIAN
METHOD:PUBLISH
X-WR-CALNAME:Lehighton Area Memorial Library
X-ORIGINAL-URL:https://lehightonlibrary.com
X-WR-CALDESC:Events for Lehighton Area Memorial Library
REFRESH-INTERVAL;VALUE=DURATION:PT1H
X-Robots-Tag:noindex
X-PUBLISHED-TTL:PT1H
BEGIN:VTIMEZONE
TZID:UTC
BEGIN:STANDARD
TZOFFSETFROM:+0000
TZOFFSETTO:+0000
TZNAME:UTC
DTSTART:20250101T000000
END:STANDARD
END:VTIMEZONE
BEGIN:VEVENT
DTSTART;TZID=UTC:20260502T110000
DTEND;TZID=UTC:20260502T120000
DTSTAMP:20260420T112544
CREATED:20250401T181509Z
LAST-MODIFIED:20260319T202131Z
UID:10002365-1777719600-1777723200@lehightonlibrary.com
SUMMARY:STEAM Club
DESCRIPTION:STEAM Club is a program for kids in 3rd\, 4th\, 5th\, and 6th grades. \n Join us the 1st Saturday of each month.  \nKids will use the scientific process to experiment\, build\, observe\, discover\, and explore interesting topics. Hands on activities and both old and new tech make it fun!  \nRegistration preferred but not required.
URL:https://lehightonlibrary.com/event/saturday-steam-3/2026-05-02/
CATEGORIES:3rd - 5th Grade Programs
ATTACH;FMTTYPE=image/png:https://lehightonlibrary.com/wp-content/uploads/2025/04/2025-fall-2.png
END:VEVENT
BEGIN:VEVENT
DTSTART;TZID=UTC:20260516T110000
DTEND;TZID=UTC:20260516T120000
DTSTAMP:20260420T112544
CREATED:20250827T181851Z
LAST-MODIFIED:20250827T181851Z
UID:10002485-1778929200-1778932800@lehightonlibrary.com
SUMMARY:ART Club
DESCRIPTION:ART Club is a program for kids in Kindergarten\, 1st\, 2nd\, and 3rd grades. \n Join us the 3rd Saturday of each month.  \nKids will use learn about artists\, techniques\, and materials. Hands on projects will help foster creativity!  \nRegistration preferred but not required.
URL:https://lehightonlibrary.com/event/art-club/2026-05-16/
CATEGORIES:3rd - 5th Grade Programs
ATTACH;FMTTYPE=image/png:https://lehightonlibrary.com/wp-content/uploads/2025/08/2025-fall-3.png
END:VEVENT
BEGIN:VEVENT
DTSTART;TZID=UTC:20260606T110000
DTEND;TZID=UTC:20260606T120000
DTSTAMP:20260420T112544
CREATED:20250401T181509Z
LAST-MODIFIED:20260319T202131Z
UID:10002366-1780743600-1780747200@lehightonlibrary.com
SUMMARY:STEAM Club
DESCRIPTION:STEAM Club is a program for kids in 3rd\, 4th\, 5th\, and 6th grades. \n Join us the 1st Saturday of each month.  \nKids will use the scientific process to experiment\, build\, observe\, discover\, and explore interesting topics. Hands on activities and both old and new tech make it fun!  \nRegistration preferred but not required.
URL:https://lehightonlibrary.com/event/saturday-steam-3/2026-06-06/
CATEGORIES:3rd - 5th Grade Programs
ATTACH;FMTTYPE=image/png:https://lehightonlibrary.com/wp-content/uploads/2025/04/2025-fall-2.png
END:VEVENT
BEGIN:VEVENT
DTSTART;TZID=UTC:20260620T110000
DTEND;TZID=UTC:20260620T120000
DTSTAMP:20260420T112544
CREATED:20250827T181851Z
LAST-MODIFIED:20250827T181851Z
UID:10002486-1781953200-1781956800@lehightonlibrary.com
SUMMARY:ART Club
DESCRIPTION:ART Club is a program for kids in Kindergarten\, 1st\, 2nd\, and 3rd grades. \n Join us the 3rd Saturday of each month.  \nKids will use learn about artists\, techniques\, and materials. Hands on projects will help foster creativity!  \nRegistration preferred but not required.
URL:https://lehightonlibrary.com/event/art-club/2026-06-20/
CATEGORIES:3rd - 5th Grade Programs
ATTACH;FMTTYPE=image/png:https://lehightonlibrary.com/wp-content/uploads/2025/08/2025-fall-3.png
END:VEVENT
BEGIN:VEVENT
DTSTART;TZID=UTC:20260704T110000
DTEND;TZID=UTC:20260704T120000
DTSTAMP:20260420T112544
CREATED:20250401T181509Z
LAST-MODIFIED:20260319T202131Z
UID:10002367-1783162800-1783166400@lehightonlibrary.com
SUMMARY:STEAM Club
DESCRIPTION:STEAM Club is a program for kids in 3rd\, 4th\, 5th\, and 6th grades. \n Join us the 1st Saturday of each month.  \nKids will use the scientific process to experiment\, build\, observe\, discover\, and explore interesting topics. Hands on activities and both old and new tech make it fun!  \nRegistration preferred but not required.
URL:https://lehightonlibrary.com/event/saturday-steam-3/2026-07-04/
CATEGORIES:3rd - 5th Grade Programs
ATTACH;FMTTYPE=image/png:https://lehightonlibrary.com/wp-content/uploads/2025/04/2025-fall-2.png
END:VEVENT
BEGIN:VEVENT
DTSTART;TZID=UTC:20260718T110000
DTEND;TZID=UTC:20260718T120000
DTSTAMP:20260420T112544
CREATED:20250827T181851Z
LAST-MODIFIED:20250827T181851Z
UID:10002487-1784372400-1784376000@lehightonlibrary.com
SUMMARY:ART Club
DESCRIPTION:ART Club is a program for kids in Kindergarten\, 1st\, 2nd\, and 3rd grades. \n Join us the 3rd Saturday of each month.  \nKids will use learn about artists\, techniques\, and materials. Hands on projects will help foster creativity!  \nRegistration preferred but not required.
URL:https://lehightonlibrary.com/event/art-club/2026-07-18/
CATEGORIES:3rd - 5th Grade Programs
ATTACH;FMTTYPE=image/png:https://lehightonlibrary.com/wp-content/uploads/2025/08/2025-fall-3.png
END:VEVENT
BEGIN:VEVENT
DTSTART;TZID=UTC:20260801T110000
DTEND;TZID=UTC:20260801T120000
DTSTAMP:20260420T112544
CREATED:20250401T181509Z
LAST-MODIFIED:20260319T202131Z
UID:10002368-1785582000-1785585600@lehightonlibrary.com
SUMMARY:STEAM Club
DESCRIPTION:STEAM Club is a program for kids in 3rd\, 4th\, 5th\, and 6th grades. \n Join us the 1st Saturday of each month.  \nKids will use the scientific process to experiment\, build\, observe\, discover\, and explore interesting topics. Hands on activities and both old and new tech make it fun!  \nRegistration preferred but not required.
URL:https://lehightonlibrary.com/event/saturday-steam-3/2026-08-01/
CATEGORIES:3rd - 5th Grade Programs
ATTACH;FMTTYPE=image/png:https://lehightonlibrary.com/wp-content/uploads/2025/04/2025-fall-2.png
END:VEVENT
BEGIN:VEVENT
DTSTART;TZID=UTC:20260815T110000
DTEND;TZID=UTC:20260815T120000
DTSTAMP:20260420T112544
CREATED:20250827T181851Z
LAST-MODIFIED:20250827T181851Z
UID:10002488-1786791600-1786795200@lehightonlibrary.com
SUMMARY:ART Club
DESCRIPTION:ART Club is a program for kids in Kindergarten\, 1st\, 2nd\, and 3rd grades. \n Join us the 3rd Saturday of each month.  \nKids will use learn about artists\, techniques\, and materials. Hands on projects will help foster creativity!  \nRegistration preferred but not required.
URL:https://lehightonlibrary.com/event/art-club/2026-08-15/
CATEGORIES:3rd - 5th Grade Programs
ATTACH;FMTTYPE=image/png:https://lehightonlibrary.com/wp-content/uploads/2025/08/2025-fall-3.png
END:VEVENT
BEGIN:VEVENT
DTSTART;TZID=UTC:20260905T110000
DTEND;TZID=UTC:20260905T120000
DTSTAMP:20260420T112544
CREATED:20250401T181509Z
LAST-MODIFIED:20260319T202131Z
UID:10002369-1788606000-1788609600@lehightonlibrary.com
SUMMARY:STEAM Club
DESCRIPTION:STEAM Club is a program for kids in 3rd\, 4th\, 5th\, and 6th grades. \n Join us the 1st Saturday of each month.  \nKids will use the scientific process to experiment\, build\, observe\, discover\, and explore interesting topics. Hands on activities and both old and new tech make it fun!  \nRegistration preferred but not required.
URL:https://lehightonlibrary.com/event/saturday-steam-3/2026-09-05/
CATEGORIES:3rd - 5th Grade Programs
ATTACH;FMTTYPE=image/png:https://lehightonlibrary.com/wp-content/uploads/2025/04/2025-fall-2.png
END:VEVENT
BEGIN:VEVENT
DTSTART;TZID=UTC:20260919T110000
DTEND;TZID=UTC:20260919T120000
DTSTAMP:20260420T112544
CREATED:20250827T181851Z
LAST-MODIFIED:20250827T181851Z
UID:10002489-1789815600-1789819200@lehightonlibrary.com
SUMMARY:ART Club
DESCRIPTION:ART Club is a program for kids in Kindergarten\, 1st\, 2nd\, and 3rd grades. \n Join us the 3rd Saturday of each month.  \nKids will use learn about artists\, techniques\, and materials. Hands on projects will help foster creativity!  \nRegistration preferred but not required.
URL:https://lehightonlibrary.com/event/art-club/2026-09-19/
CATEGORIES:3rd - 5th Grade Programs
ATTACH;FMTTYPE=image/png:https://lehightonlibrary.com/wp-content/uploads/2025/08/2025-fall-3.png
END:VEVENT
BEGIN:VEVENT
DTSTART;TZID=UTC:20261003T110000
DTEND;TZID=UTC:20261003T120000
DTSTAMP:20260420T112544
CREATED:20250401T181509Z
LAST-MODIFIED:20260319T202131Z
UID:10002370-1791025200-1791028800@lehightonlibrary.com
SUMMARY:STEAM Club
DESCRIPTION:STEAM Club is a program for kids in 3rd\, 4th\, 5th\, and 6th grades. \n Join us the 1st Saturday of each month.  \nKids will use the scientific process to experiment\, build\, observe\, discover\, and explore interesting topics. Hands on activities and both old and new tech make it fun!  \nRegistration preferred but not required.
URL:https://lehightonlibrary.com/event/saturday-steam-3/2026-10-03/
CATEGORIES:3rd - 5th Grade Programs
ATTACH;FMTTYPE=image/png:https://lehightonlibrary.com/wp-content/uploads/2025/04/2025-fall-2.png
END:VEVENT
BEGIN:VEVENT
DTSTART;TZID=UTC:20261017T110000
DTEND;TZID=UTC:20261017T120000
DTSTAMP:20260420T112544
CREATED:20250827T181851Z
LAST-MODIFIED:20250827T181851Z
UID:10002490-1792234800-1792238400@lehightonlibrary.com
SUMMARY:ART Club
DESCRIPTION:ART Club is a program for kids in Kindergarten\, 1st\, 2nd\, and 3rd grades. \n Join us the 3rd Saturday of each month.  \nKids will use learn about artists\, techniques\, and materials. Hands on projects will help foster creativity!  \nRegistration preferred but not required.
URL:https://lehightonlibrary.com/event/art-club/2026-10-17/
CATEGORIES:3rd - 5th Grade Programs
ATTACH;FMTTYPE=image/png:https://lehightonlibrary.com/wp-content/uploads/2025/08/2025-fall-3.png
END:VEVENT
BEGIN:VEVENT
DTSTART;TZID=UTC:20261107T110000
DTEND;TZID=UTC:20261107T120000
DTSTAMP:20260420T112544
CREATED:20250401T181509Z
LAST-MODIFIED:20260319T202131Z
UID:10002371-1794049200-1794052800@lehightonlibrary.com
SUMMARY:STEAM Club
DESCRIPTION:STEAM Club is a program for kids in 3rd\, 4th\, 5th\, and 6th grades. \n Join us the 1st Saturday of each month.  \nKids will use the scientific process to experiment\, build\, observe\, discover\, and explore interesting topics. Hands on activities and both old and new tech make it fun!  \nRegistration preferred but not required.
URL:https://lehightonlibrary.com/event/saturday-steam-3/2026-11-07/
CATEGORIES:3rd - 5th Grade Programs
ATTACH;FMTTYPE=image/png:https://lehightonlibrary.com/wp-content/uploads/2025/04/2025-fall-2.png
END:VEVENT
BEGIN:VEVENT
DTSTART;TZID=UTC:20261121T110000
DTEND;TZID=UTC:20261121T120000
DTSTAMP:20260420T112544
CREATED:20250827T181851Z
LAST-MODIFIED:20250827T181851Z
UID:10002491-1795258800-1795262400@lehightonlibrary.com
SUMMARY:ART Club
DESCRIPTION:ART Club is a program for kids in Kindergarten\, 1st\, 2nd\, and 3rd grades. \n Join us the 3rd Saturday of each month.  \nKids will use learn about artists\, techniques\, and materials. Hands on projects will help foster creativity!  \nRegistration preferred but not required.
URL:https://lehightonlibrary.com/event/art-club/2026-11-21/
CATEGORIES:3rd - 5th Grade Programs
ATTACH;FMTTYPE=image/png:https://lehightonlibrary.com/wp-content/uploads/2025/08/2025-fall-3.png
END:VEVENT
BEGIN:VEVENT
DTSTART;TZID=UTC:20261205T110000
DTEND;TZID=UTC:20261205T120000
DTSTAMP:20260420T112544
CREATED:20250401T181509Z
LAST-MODIFIED:20260319T202131Z
UID:10002372-1796468400-1796472000@lehightonlibrary.com
SUMMARY:STEAM Club
DESCRIPTION:STEAM Club is a program for kids in 3rd\, 4th\, 5th\, and 6th grades. \n Join us the 1st Saturday of each month.  \nKids will use the scientific process to experiment\, build\, observe\, discover\, and explore interesting topics. Hands on activities and both old and new tech make it fun!  \nRegistration preferred but not required.
URL:https://lehightonlibrary.com/event/saturday-steam-3/2026-12-05/
CATEGORIES:3rd - 5th Grade Programs
ATTACH;FMTTYPE=image/png:https://lehightonlibrary.com/wp-content/uploads/2025/04/2025-fall-2.png
END:VEVENT
BEGIN:VEVENT
DTSTART;TZID=UTC:20261219T110000
DTEND;TZID=UTC:20261219T120000
DTSTAMP:20260420T112544
CREATED:20250827T181851Z
LAST-MODIFIED:20250827T181851Z
UID:10002492-1797678000-1797681600@lehightonlibrary.com
SUMMARY:ART Club
DESCRIPTION:ART Club is a program for kids in Kindergarten\, 1st\, 2nd\, and 3rd grades. \n Join us the 3rd Saturday of each month.  \nKids will use learn about artists\, techniques\, and materials. Hands on projects will help foster creativity!  \nRegistration preferred but not required.
URL:https://lehightonlibrary.com/event/art-club/2026-12-19/
CATEGORIES:3rd - 5th Grade Programs
ATTACH;FMTTYPE=image/png:https://lehightonlibrary.com/wp-content/uploads/2025/08/2025-fall-3.png
END:VEVENT
BEGIN:VEVENT
DTSTART;TZID=UTC:20270102T110000
DTEND;TZID=UTC:20270102T120000
DTSTAMP:20260420T112544
CREATED:20250401T181509Z
LAST-MODIFIED:20260319T202131Z
UID:10002373-1798887600-1798891200@lehightonlibrary.com
SUMMARY:STEAM Club
DESCRIPTION:STEAM Club is a program for kids in 3rd\, 4th\, 5th\, and 6th grades. \n Join us the 1st Saturday of each month.  \nKids will use the scientific process to experiment\, build\, observe\, discover\, and explore interesting topics. Hands on activities and both old and new tech make it fun!  \nRegistration preferred but not required.
URL:https://lehightonlibrary.com/event/saturday-steam-3/2027-01-02/
CATEGORIES:3rd - 5th Grade Programs
ATTACH;FMTTYPE=image/png:https://lehightonlibrary.com/wp-content/uploads/2025/04/2025-fall-2.png
END:VEVENT
BEGIN:VEVENT
DTSTART;TZID=UTC:20270116T110000
DTEND;TZID=UTC:20270116T120000
DTSTAMP:20260420T112544
CREATED:20250827T181851Z
LAST-MODIFIED:20250827T181851Z
UID:10002493-1800097200-1800100800@lehightonlibrary.com
SUMMARY:ART Club
DESCRIPTION:ART Club is a program for kids in Kindergarten\, 1st\, 2nd\, and 3rd grades. \n Join us the 3rd Saturday of each month.  \nKids will use learn about artists\, techniques\, and materials. Hands on projects will help foster creativity!  \nRegistration preferred but not required.
URL:https://lehightonlibrary.com/event/art-club/2027-01-16/
CATEGORIES:3rd - 5th Grade Programs
ATTACH;FMTTYPE=image/png:https://lehightonlibrary.com/wp-content/uploads/2025/08/2025-fall-3.png
END:VEVENT
BEGIN:VEVENT
DTSTART;TZID=UTC:20270206T110000
DTEND;TZID=UTC:20270206T120000
DTSTAMP:20260420T112544
CREATED:20250401T181509Z
LAST-MODIFIED:20260319T202131Z
UID:10002374-1801911600-1801915200@lehightonlibrary.com
SUMMARY:STEAM Club
DESCRIPTION:STEAM Club is a program for kids in 3rd\, 4th\, 5th\, and 6th grades. \n Join us the 1st Saturday of each month.  \nKids will use the scientific process to experiment\, build\, observe\, discover\, and explore interesting topics. Hands on activities and both old and new tech make it fun!  \nRegistration preferred but not required.
URL:https://lehightonlibrary.com/event/saturday-steam-3/2027-02-06/
CATEGORIES:3rd - 5th Grade Programs
ATTACH;FMTTYPE=image/png:https://lehightonlibrary.com/wp-content/uploads/2025/04/2025-fall-2.png
END:VEVENT
BEGIN:VEVENT
DTSTART;TZID=UTC:20270220T110000
DTEND;TZID=UTC:20270220T120000
DTSTAMP:20260420T112544
CREATED:20250827T181851Z
LAST-MODIFIED:20250827T181851Z
UID:10002494-1803121200-1803124800@lehightonlibrary.com
SUMMARY:ART Club
DESCRIPTION:ART Club is a program for kids in Kindergarten\, 1st\, 2nd\, and 3rd grades. \n Join us the 3rd Saturday of each month.  \nKids will use learn about artists\, techniques\, and materials. Hands on projects will help foster creativity!  \nRegistration preferred but not required.
URL:https://lehightonlibrary.com/event/art-club/2027-02-20/
CATEGORIES:3rd - 5th Grade Programs
ATTACH;FMTTYPE=image/png:https://lehightonlibrary.com/wp-content/uploads/2025/08/2025-fall-3.png
END:VEVENT
BEGIN:VEVENT
DTSTART;TZID=UTC:20270306T110000
DTEND;TZID=UTC:20270306T120000
DTSTAMP:20260420T112544
CREATED:20250401T181509Z
LAST-MODIFIED:20260319T202131Z
UID:10002375-1804330800-1804334400@lehightonlibrary.com
SUMMARY:STEAM Club
DESCRIPTION:STEAM Club is a program for kids in 3rd\, 4th\, 5th\, and 6th grades. \n Join us the 1st Saturday of each month.  \nKids will use the scientific process to experiment\, build\, observe\, discover\, and explore interesting topics. Hands on activities and both old and new tech make it fun!  \nRegistration preferred but not required.
URL:https://lehightonlibrary.com/event/saturday-steam-3/2027-03-06/
CATEGORIES:3rd - 5th Grade Programs
ATTACH;FMTTYPE=image/png:https://lehightonlibrary.com/wp-content/uploads/2025/04/2025-fall-2.png
END:VEVENT
BEGIN:VEVENT
DTSTART;TZID=UTC:20270320T110000
DTEND;TZID=UTC:20270320T120000
DTSTAMP:20260420T112544
CREATED:20250827T181851Z
LAST-MODIFIED:20250827T181851Z
UID:10002495-1805540400-1805544000@lehightonlibrary.com
SUMMARY:ART Club
DESCRIPTION:ART Club is a program for kids in Kindergarten\, 1st\, 2nd\, and 3rd grades. \n Join us the 3rd Saturday of each month.  \nKids will use learn about artists\, techniques\, and materials. Hands on projects will help foster creativity!  \nRegistration preferred but not required.
URL:https://lehightonlibrary.com/event/art-club/2027-03-20/
CATEGORIES:3rd - 5th Grade Programs
ATTACH;FMTTYPE=image/png:https://lehightonlibrary.com/wp-content/uploads/2025/08/2025-fall-3.png
END:VEVENT
BEGIN:VEVENT
DTSTART;TZID=UTC:20270403T110000
DTEND;TZID=UTC:20270403T120000
DTSTAMP:20260420T112544
CREATED:20250401T181509Z
LAST-MODIFIED:20260319T202131Z
UID:10002376-1806750000-1806753600@lehightonlibrary.com
SUMMARY:STEAM Club
DESCRIPTION:STEAM Club is a program for kids in 3rd\, 4th\, 5th\, and 6th grades. \n Join us the 1st Saturday of each month.  \nKids will use the scientific process to experiment\, build\, observe\, discover\, and explore interesting topics. Hands on activities and both old and new tech make it fun!  \nRegistration preferred but not required.
URL:https://lehightonlibrary.com/event/saturday-steam-3/2027-04-03/
CATEGORIES:3rd - 5th Grade Programs
ATTACH;FMTTYPE=image/png:https://lehightonlibrary.com/wp-content/uploads/2025/04/2025-fall-2.png
END:VEVENT
BEGIN:VEVENT
DTSTART;TZID=UTC:20270417T110000
DTEND;TZID=UTC:20270417T120000
DTSTAMP:20260420T112544
CREATED:20250827T181851Z
LAST-MODIFIED:20250827T181851Z
UID:10002496-1807959600-1807963200@lehightonlibrary.com
SUMMARY:ART Club
DESCRIPTION:ART Club is a program for kids in Kindergarten\, 1st\, 2nd\, and 3rd grades. \n Join us the 3rd Saturday of each month.  \nKids will use learn about artists\, techniques\, and materials. Hands on projects will help foster creativity!  \nRegistration preferred but not required.
URL:https://lehightonlibrary.com/event/art-club/2027-04-17/
CATEGORIES:3rd - 5th Grade Programs
ATTACH;FMTTYPE=image/png:https://lehightonlibrary.com/wp-content/uploads/2025/08/2025-fall-3.png
END:VEVENT
BEGIN:VEVENT
DTSTART;TZID=UTC:20270501T110000
DTEND;TZID=UTC:20270501T120000
DTSTAMP:20260420T112544
CREATED:20250401T181509Z
LAST-MODIFIED:20260319T202131Z
UID:10002377-1809169200-1809172800@lehightonlibrary.com
SUMMARY:STEAM Club
DESCRIPTION:STEAM Club is a program for kids in 3rd\, 4th\, 5th\, and 6th grades. \n Join us the 1st Saturday of each month.  \nKids will use the scientific process to experiment\, build\, observe\, discover\, and explore interesting topics. Hands on activities and both old and new tech make it fun!  \nRegistration preferred but not required.
URL:https://lehightonlibrary.com/event/saturday-steam-3/2027-05-01/
CATEGORIES:3rd - 5th Grade Programs
ATTACH;FMTTYPE=image/png:https://lehightonlibrary.com/wp-content/uploads/2025/04/2025-fall-2.png
END:VEVENT
BEGIN:VEVENT
DTSTART;TZID=UTC:20270515T110000
DTEND;TZID=UTC:20270515T120000
DTSTAMP:20260420T112544
CREATED:20250827T181851Z
LAST-MODIFIED:20250827T181851Z
UID:10002497-1810378800-1810382400@lehightonlibrary.com
SUMMARY:ART Club
DESCRIPTION:ART Club is a program for kids in Kindergarten\, 1st\, 2nd\, and 3rd grades. \n Join us the 3rd Saturday of each month.  \nKids will use learn about artists\, techniques\, and materials. Hands on projects will help foster creativity!  \nRegistration preferred but not required.
URL:https://lehightonlibrary.com/event/art-club/2027-05-15/
CATEGORIES:3rd - 5th Grade Programs
ATTACH;FMTTYPE=image/png:https://lehightonlibrary.com/wp-content/uploads/2025/08/2025-fall-3.png
END:VEVENT
BEGIN:VEVENT
DTSTART;TZID=UTC:20270605T110000
DTEND;TZID=UTC:20270605T120000
DTSTAMP:20260420T112544
CREATED:20250401T181509Z
LAST-MODIFIED:20260319T202131Z
UID:10002378-1812193200-1812196800@lehightonlibrary.com
SUMMARY:STEAM Club
DESCRIPTION:STEAM Club is a program for kids in 3rd\, 4th\, 5th\, and 6th grades. \n Join us the 1st Saturday of each month.  \nKids will use the scientific process to experiment\, build\, observe\, discover\, and explore interesting topics. Hands on activities and both old and new tech make it fun!  \nRegistration preferred but not required.
URL:https://lehightonlibrary.com/event/saturday-steam-3/2027-06-05/
CATEGORIES:3rd - 5th Grade Programs
ATTACH;FMTTYPE=image/png:https://lehightonlibrary.com/wp-content/uploads/2025/04/2025-fall-2.png
END:VEVENT
BEGIN:VEVENT
DTSTART;TZID=UTC:20270619T110000
DTEND;TZID=UTC:20270619T120000
DTSTAMP:20260420T112544
CREATED:20250827T181851Z
LAST-MODIFIED:20250827T181851Z
UID:10002498-1813402800-1813406400@lehightonlibrary.com
SUMMARY:ART Club
DESCRIPTION:ART Club is a program for kids in Kindergarten\, 1st\, 2nd\, and 3rd grades. \n Join us the 3rd Saturday of each month.  \nKids will use learn about artists\, techniques\, and materials. Hands on projects will help foster creativity!  \nRegistration preferred but not required.
URL:https://lehightonlibrary.com/event/art-club/2027-06-19/
CATEGORIES:3rd - 5th Grade Programs
ATTACH;FMTTYPE=image/png:https://lehightonlibrary.com/wp-content/uploads/2025/08/2025-fall-3.png
END:VEVENT
BEGIN:VEVENT
DTSTART;TZID=UTC:20270703T110000
DTEND;TZID=UTC:20270703T120000
DTSTAMP:20260420T112544
CREATED:20250401T181509Z
LAST-MODIFIED:20260319T202131Z
UID:10002379-1814612400-1814616000@lehightonlibrary.com
SUMMARY:STEAM Club
DESCRIPTION:STEAM Club is a program for kids in 3rd\, 4th\, 5th\, and 6th grades. \n Join us the 1st Saturday of each month.  \nKids will use the scientific process to experiment\, build\, observe\, discover\, and explore interesting topics. Hands on activities and both old and new tech make it fun!  \nRegistration preferred but not required.
URL:https://lehightonlibrary.com/event/saturday-steam-3/2027-07-03/
CATEGORIES:3rd - 5th Grade Programs
ATTACH;FMTTYPE=image/png:https://lehightonlibrary.com/wp-content/uploads/2025/04/2025-fall-2.png
END:VEVENT
BEGIN:VEVENT
DTSTART;TZID=UTC:20270717T110000
DTEND;TZID=UTC:20270717T120000
DTSTAMP:20260420T112544
CREATED:20250827T181851Z
LAST-MODIFIED:20250827T181851Z
UID:10002499-1815822000-1815825600@lehightonlibrary.com
SUMMARY:ART Club
DESCRIPTION:ART Club is a program for kids in Kindergarten\, 1st\, 2nd\, and 3rd grades. \n Join us the 3rd Saturday of each month.  \nKids will use learn about artists\, techniques\, and materials. Hands on projects will help foster creativity!  \nRegistration preferred but not required.
URL:https://lehightonlibrary.com/event/art-club/2027-07-17/
CATEGORIES:3rd - 5th Grade Programs
ATTACH;FMTTYPE=image/png:https://lehightonlibrary.com/wp-content/uploads/2025/08/2025-fall-3.png
END:VEVENT
END:VCALENDAR