BEGIN:VCALENDAR
VERSION:2.0
PRODID:-//Lehighton Area Memorial Library - ECPv6.15.20//NONSGML v1.0//EN
CALSCALE:GREGORIAN
METHOD:PUBLISH
X-ORIGINAL-URL:https://lehightonlibrary.com
X-WR-CALDESC:Events for Lehighton Area Memorial Library
REFRESH-INTERVAL;VALUE=DURATION:PT1H
X-Robots-Tag:noindex
X-PUBLISHED-TTL:PT1H
BEGIN:VTIMEZONE
TZID:America/New_York
BEGIN:DAYLIGHT
TZOFFSETFROM:-0500
TZOFFSETTO:-0400
TZNAME:EDT
DTSTART:20290311T070000
END:DAYLIGHT
BEGIN:STANDARD
TZOFFSETFROM:-0400
TZOFFSETTO:-0500
TZNAME:EST
DTSTART:20291104T060000
END:STANDARD
BEGIN:DAYLIGHT
TZOFFSETFROM:-0500
TZOFFSETTO:-0400
TZNAME:EDT
DTSTART:20300310T070000
END:DAYLIGHT
BEGIN:STANDARD
TZOFFSETFROM:-0400
TZOFFSETTO:-0500
TZNAME:EST
DTSTART:20301103T060000
END:STANDARD
BEGIN:DAYLIGHT
TZOFFSETFROM:-0500
TZOFFSETTO:-0400
TZNAME:EDT
DTSTART:20310309T070000
END:DAYLIGHT
BEGIN:STANDARD
TZOFFSETFROM:-0400
TZOFFSETTO:-0500
TZNAME:EST
DTSTART:20311102T060000
END:STANDARD
END:VTIMEZONE
BEGIN:VEVENT
DTSTART;TZID=America/New_York:20300613T170000
DTEND;TZID=America/New_York:20300613T183000
DTSTAMP:20260419T095144
CREATED:20250827T162933Z
LAST-MODIFIED:20250827T162933Z
UID:10002167-1907600400-1907605800@lehightonlibrary.com
SUMMARY:Game Night
DESCRIPTION:Join us on the 2nd Thursday of each month for Game Night! Come alone and join a game\, or bring friends and family. We provide the games. This program is open to everyone and free of charge.
URL:https://lehightonlibrary.com/event/game-night-2/2030-06-13/
CATEGORIES:3rd - 5th Grade Programs,6th - 8th Grade Programs,Adult Programs,Family Programs,General Interest Programs,Kindergarten to 2nd Grade Programs,Teen & Adult Programs,Teen Programs
ATTACH;FMTTYPE=image/png:https://lehightonlibrary.com/wp-content/uploads/2025/08/2025-Calendar-and-program-list-8.5-x-11-in-11-x-8.5-in.png
END:VEVENT
BEGIN:VEVENT
DTSTART;TZID=America/New_York:20300627T170000
DTEND;TZID=America/New_York:20300627T183000
DTSTAMP:20260419T095144
CREATED:20250829T194352Z
LAST-MODIFIED:20251118T215526Z
UID:10002774-1908810000-1908815400@lehightonlibrary.com
SUMMARY:Puzzle Night
DESCRIPTION:Join us on the 4th Thursday of each month for Puzzle Night! Come alone or bring friends and family. We provide the puzzles. This program is open to everyone and free of charge.
URL:https://lehightonlibrary.com/event/puzzle-night/2030-06-27/
CATEGORIES:3rd - 5th Grade Programs,6th - 8th Grade Programs,Adult Programs,Family Programs,General Interest Programs,Kindergarten to 2nd Grade Programs,Teen & Adult Programs,Teen Programs
ATTACH;FMTTYPE=image/png:https://lehightonlibrary.com/wp-content/uploads/2025/08/Copy-of-Copy-of-Copy-of-Copy-of-Copy-of-Copy-of-Copy-of-Copy-of-Copy-of-Copy-of-Copy-of-Copy-of-Copy-of-Copy-of-Copy-of-Copy-of-Copy-of-Copy-of-Copy-of-nov-6-1.png
END:VEVENT
BEGIN:VEVENT
DTSTART;TZID=America/New_York:20300711T170000
DTEND;TZID=America/New_York:20300711T183000
DTSTAMP:20260419T095144
CREATED:20250827T162933Z
LAST-MODIFIED:20250827T162933Z
UID:10002168-1910019600-1910025000@lehightonlibrary.com
SUMMARY:Game Night
DESCRIPTION:Join us on the 2nd Thursday of each month for Game Night! Come alone and join a game\, or bring friends and family. We provide the games. This program is open to everyone and free of charge.
URL:https://lehightonlibrary.com/event/game-night-2/2030-07-11/
CATEGORIES:3rd - 5th Grade Programs,6th - 8th Grade Programs,Adult Programs,Family Programs,General Interest Programs,Kindergarten to 2nd Grade Programs,Teen & Adult Programs,Teen Programs
ATTACH;FMTTYPE=image/png:https://lehightonlibrary.com/wp-content/uploads/2025/08/2025-Calendar-and-program-list-8.5-x-11-in-11-x-8.5-in.png
END:VEVENT
BEGIN:VEVENT
DTSTART;TZID=America/New_York:20300725T170000
DTEND;TZID=America/New_York:20300725T183000
DTSTAMP:20260419T095144
CREATED:20250829T194352Z
LAST-MODIFIED:20251118T215526Z
UID:10002775-1911229200-1911234600@lehightonlibrary.com
SUMMARY:Puzzle Night
DESCRIPTION:Join us on the 4th Thursday of each month for Puzzle Night! Come alone or bring friends and family. We provide the puzzles. This program is open to everyone and free of charge.
URL:https://lehightonlibrary.com/event/puzzle-night/2030-07-25/
CATEGORIES:3rd - 5th Grade Programs,6th - 8th Grade Programs,Adult Programs,Family Programs,General Interest Programs,Kindergarten to 2nd Grade Programs,Teen & Adult Programs,Teen Programs
ATTACH;FMTTYPE=image/png:https://lehightonlibrary.com/wp-content/uploads/2025/08/Copy-of-Copy-of-Copy-of-Copy-of-Copy-of-Copy-of-Copy-of-Copy-of-Copy-of-Copy-of-Copy-of-Copy-of-Copy-of-Copy-of-Copy-of-Copy-of-Copy-of-Copy-of-Copy-of-nov-6-1.png
END:VEVENT
BEGIN:VEVENT
DTSTART;TZID=America/New_York:20300808T170000
DTEND;TZID=America/New_York:20300808T183000
DTSTAMP:20260419T095144
CREATED:20250827T162933Z
LAST-MODIFIED:20250827T162933Z
UID:10002169-1912438800-1912444200@lehightonlibrary.com
SUMMARY:Game Night
DESCRIPTION:Join us on the 2nd Thursday of each month for Game Night! Come alone and join a game\, or bring friends and family. We provide the games. This program is open to everyone and free of charge.
URL:https://lehightonlibrary.com/event/game-night-2/2030-08-08/
CATEGORIES:3rd - 5th Grade Programs,6th - 8th Grade Programs,Adult Programs,Family Programs,General Interest Programs,Kindergarten to 2nd Grade Programs,Teen & Adult Programs,Teen Programs
ATTACH;FMTTYPE=image/png:https://lehightonlibrary.com/wp-content/uploads/2025/08/2025-Calendar-and-program-list-8.5-x-11-in-11-x-8.5-in.png
END:VEVENT
BEGIN:VEVENT
DTSTART;TZID=America/New_York:20300822T170000
DTEND;TZID=America/New_York:20300822T183000
DTSTAMP:20260419T095144
CREATED:20250829T194352Z
LAST-MODIFIED:20251118T215526Z
UID:10002776-1913648400-1913653800@lehightonlibrary.com
SUMMARY:Puzzle Night
DESCRIPTION:Join us on the 4th Thursday of each month for Puzzle Night! Come alone or bring friends and family. We provide the puzzles. This program is open to everyone and free of charge.
URL:https://lehightonlibrary.com/event/puzzle-night/2030-08-22/
CATEGORIES:3rd - 5th Grade Programs,6th - 8th Grade Programs,Adult Programs,Family Programs,General Interest Programs,Kindergarten to 2nd Grade Programs,Teen & Adult Programs,Teen Programs
ATTACH;FMTTYPE=image/png:https://lehightonlibrary.com/wp-content/uploads/2025/08/Copy-of-Copy-of-Copy-of-Copy-of-Copy-of-Copy-of-Copy-of-Copy-of-Copy-of-Copy-of-Copy-of-Copy-of-Copy-of-Copy-of-Copy-of-Copy-of-Copy-of-Copy-of-Copy-of-nov-6-1.png
END:VEVENT
BEGIN:VEVENT
DTSTART;TZID=America/New_York:20300926T170000
DTEND;TZID=America/New_York:20300926T183000
DTSTAMP:20260419T095144
CREATED:20250829T194352Z
LAST-MODIFIED:20251118T215526Z
UID:10002780-1916672400-1916677800@lehightonlibrary.com
SUMMARY:Puzzle Night
DESCRIPTION:Join us on the 4th Thursday of each month for Puzzle Night! Come alone or bring friends and family. We provide the puzzles. This program is open to everyone and free of charge.
URL:https://lehightonlibrary.com/event/puzzle-night/2030-09-26/
CATEGORIES:3rd - 5th Grade Programs,6th - 8th Grade Programs,Adult Programs,Family Programs,General Interest Programs,Kindergarten to 2nd Grade Programs,Teen & Adult Programs,Teen Programs
ATTACH;FMTTYPE=image/png:https://lehightonlibrary.com/wp-content/uploads/2025/08/Copy-of-Copy-of-Copy-of-Copy-of-Copy-of-Copy-of-Copy-of-Copy-of-Copy-of-Copy-of-Copy-of-Copy-of-Copy-of-Copy-of-Copy-of-Copy-of-Copy-of-Copy-of-Copy-of-nov-6-1.png
END:VEVENT
BEGIN:VEVENT
DTSTART;TZID=America/New_York:20301024T170000
DTEND;TZID=America/New_York:20301024T183000
DTSTAMP:20260419T095144
CREATED:20250829T194352Z
LAST-MODIFIED:20251118T215526Z
UID:10002781-1919091600-1919097000@lehightonlibrary.com
SUMMARY:Puzzle Night
DESCRIPTION:Join us on the 4th Thursday of each month for Puzzle Night! Come alone or bring friends and family. We provide the puzzles. This program is open to everyone and free of charge.
URL:https://lehightonlibrary.com/event/puzzle-night/2030-10-24/
CATEGORIES:3rd - 5th Grade Programs,6th - 8th Grade Programs,Adult Programs,Family Programs,General Interest Programs,Kindergarten to 2nd Grade Programs,Teen & Adult Programs,Teen Programs
ATTACH;FMTTYPE=image/png:https://lehightonlibrary.com/wp-content/uploads/2025/08/Copy-of-Copy-of-Copy-of-Copy-of-Copy-of-Copy-of-Copy-of-Copy-of-Copy-of-Copy-of-Copy-of-Copy-of-Copy-of-Copy-of-Copy-of-Copy-of-Copy-of-Copy-of-Copy-of-nov-6-1.png
END:VEVENT
END:VCALENDAR