BEGIN:VCALENDAR
VERSION:2.0
PRODID:-//Lehighton Area Memorial Library - ECPv6.15.20//NONSGML v1.0//EN
CALSCALE:GREGORIAN
METHOD:PUBLISH
X-ORIGINAL-URL:https://lehightonlibrary.com
X-WR-CALDESC:Events for Lehighton Area Memorial Library
REFRESH-INTERVAL;VALUE=DURATION:PT1H
X-Robots-Tag:noindex
X-PUBLISHED-TTL:PT1H
BEGIN:VTIMEZONE
TZID:America/New_York
BEGIN:DAYLIGHT
TZOFFSETFROM:-0500
TZOFFSETTO:-0400
TZNAME:EDT
DTSTART:20270314T070000
END:DAYLIGHT
BEGIN:STANDARD
TZOFFSETFROM:-0400
TZOFFSETTO:-0500
TZNAME:EST
DTSTART:20271107T060000
END:STANDARD
BEGIN:DAYLIGHT
TZOFFSETFROM:-0500
TZOFFSETTO:-0400
TZNAME:EDT
DTSTART:20280312T070000
END:DAYLIGHT
BEGIN:STANDARD
TZOFFSETFROM:-0400
TZOFFSETTO:-0500
TZNAME:EST
DTSTART:20281105T060000
END:STANDARD
BEGIN:DAYLIGHT
TZOFFSETFROM:-0500
TZOFFSETTO:-0400
TZNAME:EDT
DTSTART:20290311T070000
END:DAYLIGHT
BEGIN:STANDARD
TZOFFSETFROM:-0400
TZOFFSETTO:-0500
TZNAME:EST
DTSTART:20291104T060000
END:STANDARD
BEGIN:DAYLIGHT
TZOFFSETFROM:-0500
TZOFFSETTO:-0400
TZNAME:EDT
DTSTART:20300310T070000
END:DAYLIGHT
BEGIN:STANDARD
TZOFFSETFROM:-0400
TZOFFSETTO:-0500
TZNAME:EST
DTSTART:20301103T060000
END:STANDARD
END:VTIMEZONE
BEGIN:VEVENT
DTSTART;TZID=America/New_York:20280413T170000
DTEND;TZID=America/New_York:20280413T183000
DTSTAMP:20260425T085647
CREATED:20250827T162933Z
LAST-MODIFIED:20250827T162933Z
UID:10002141-1839258000-1839263400@lehightonlibrary.com
SUMMARY:Game Night
DESCRIPTION:Join us on the 2nd Thursday of each month for Game Night! Come alone and join a game\, or bring friends and family. We provide the games. This program is open to everyone and free of charge.
URL:https://lehightonlibrary.com/event/game-night-2/2028-04-13/
CATEGORIES:3rd - 5th Grade Programs,6th - 8th Grade Programs,Adult Programs,Family Programs,General Interest Programs,Kindergarten to 2nd Grade Programs,Teen & Adult Programs,Teen Programs
ATTACH;FMTTYPE=image/png:https://lehightonlibrary.com/wp-content/uploads/2025/08/2025-Calendar-and-program-list-8.5-x-11-in-11-x-8.5-in.png
END:VEVENT
BEGIN:VEVENT
DTSTART;TZID=America/New_York:20280415T110000
DTEND;TZID=America/New_York:20280415T120000
DTSTAMP:20260425T085647
CREATED:20260424T162748Z
LAST-MODIFIED:20260424T162821Z
UID:10003119-1839409200-1839412800@lehightonlibrary.com
SUMMARY:Art Club
DESCRIPTION:ART Club is a program for kids in Kindergarten\, 1st\, 2nd\, and 3rd grades. \nJoin us the 3rd Saturday of each month. \nKids will use learn about artists\, techniques\, and materials. Hands on projects will help foster creativity! \nRegistration preferred but not required.
URL:https://lehightonlibrary.com/event/art-club-2/2028-04-15/
CATEGORIES:Kindergarten to 2nd Grade Programs
ATTACH;FMTTYPE=image/png:https://lehightonlibrary.com/wp-content/uploads/2025/08/Copy-of-Copy-of-Copy-of-Copy-of-Copy-of-NEW-2025-fall.png
END:VEVENT
BEGIN:VEVENT
DTSTART;TZID=America/New_York:20280427T170000
DTEND;TZID=America/New_York:20280427T183000
DTSTAMP:20260425T085647
CREATED:20250829T194352Z
LAST-MODIFIED:20251118T215526Z
UID:10002748-1840467600-1840473000@lehightonlibrary.com
SUMMARY:Puzzle Night
DESCRIPTION:Join us on the 4th Thursday of each month for Puzzle Night! Come alone or bring friends and family. We provide the puzzles. This program is open to everyone and free of charge.
URL:https://lehightonlibrary.com/event/puzzle-night/2028-04-27/
CATEGORIES:3rd - 5th Grade Programs,6th - 8th Grade Programs,Adult Programs,Family Programs,General Interest Programs,Kindergarten to 2nd Grade Programs,Teen & Adult Programs,Teen Programs
ATTACH;FMTTYPE=image/png:https://lehightonlibrary.com/wp-content/uploads/2025/08/Copy-of-Copy-of-Copy-of-Copy-of-Copy-of-Copy-of-Copy-of-Copy-of-Copy-of-Copy-of-Copy-of-Copy-of-Copy-of-Copy-of-Copy-of-Copy-of-Copy-of-Copy-of-Copy-of-nov-6-1.png
END:VEVENT
BEGIN:VEVENT
DTSTART;TZID=America/New_York:20280511T170000
DTEND;TZID=America/New_York:20280511T183000
DTSTAMP:20260425T085647
CREATED:20250827T162933Z
LAST-MODIFIED:20250827T162933Z
UID:10002142-1841677200-1841682600@lehightonlibrary.com
SUMMARY:Game Night
DESCRIPTION:Join us on the 2nd Thursday of each month for Game Night! Come alone and join a game\, or bring friends and family. We provide the games. This program is open to everyone and free of charge.
URL:https://lehightonlibrary.com/event/game-night-2/2028-05-11/
CATEGORIES:3rd - 5th Grade Programs,6th - 8th Grade Programs,Adult Programs,Family Programs,General Interest Programs,Kindergarten to 2nd Grade Programs,Teen & Adult Programs,Teen Programs
ATTACH;FMTTYPE=image/png:https://lehightonlibrary.com/wp-content/uploads/2025/08/2025-Calendar-and-program-list-8.5-x-11-in-11-x-8.5-in.png
END:VEVENT
BEGIN:VEVENT
DTSTART;TZID=America/New_York:20280520T110000
DTEND;TZID=America/New_York:20280520T120000
DTSTAMP:20260425T085647
CREATED:20260424T162748Z
LAST-MODIFIED:20260424T162821Z
UID:10003120-1842433200-1842436800@lehightonlibrary.com
SUMMARY:Art Club
DESCRIPTION:ART Club is a program for kids in Kindergarten\, 1st\, 2nd\, and 3rd grades. \nJoin us the 3rd Saturday of each month. \nKids will use learn about artists\, techniques\, and materials. Hands on projects will help foster creativity! \nRegistration preferred but not required.
URL:https://lehightonlibrary.com/event/art-club-2/2028-05-20/
CATEGORIES:Kindergarten to 2nd Grade Programs
ATTACH;FMTTYPE=image/png:https://lehightonlibrary.com/wp-content/uploads/2025/08/Copy-of-Copy-of-Copy-of-Copy-of-Copy-of-NEW-2025-fall.png
END:VEVENT
BEGIN:VEVENT
DTSTART;TZID=America/New_York:20280525T170000
DTEND;TZID=America/New_York:20280525T183000
DTSTAMP:20260425T085647
CREATED:20250829T194352Z
LAST-MODIFIED:20251118T215526Z
UID:10002749-1842886800-1842892200@lehightonlibrary.com
SUMMARY:Puzzle Night
DESCRIPTION:Join us on the 4th Thursday of each month for Puzzle Night! Come alone or bring friends and family. We provide the puzzles. This program is open to everyone and free of charge.
URL:https://lehightonlibrary.com/event/puzzle-night/2028-05-25/
CATEGORIES:3rd - 5th Grade Programs,6th - 8th Grade Programs,Adult Programs,Family Programs,General Interest Programs,Kindergarten to 2nd Grade Programs,Teen & Adult Programs,Teen Programs
ATTACH;FMTTYPE=image/png:https://lehightonlibrary.com/wp-content/uploads/2025/08/Copy-of-Copy-of-Copy-of-Copy-of-Copy-of-Copy-of-Copy-of-Copy-of-Copy-of-Copy-of-Copy-of-Copy-of-Copy-of-Copy-of-Copy-of-Copy-of-Copy-of-Copy-of-Copy-of-nov-6-1.png
END:VEVENT
BEGIN:VEVENT
DTSTART;TZID=America/New_York:20280608T170000
DTEND;TZID=America/New_York:20280608T183000
DTSTAMP:20260425T085647
CREATED:20250827T162933Z
LAST-MODIFIED:20250827T162933Z
UID:10002143-1844096400-1844101800@lehightonlibrary.com
SUMMARY:Game Night
DESCRIPTION:Join us on the 2nd Thursday of each month for Game Night! Come alone and join a game\, or bring friends and family. We provide the games. This program is open to everyone and free of charge.
URL:https://lehightonlibrary.com/event/game-night-2/2028-06-08/
CATEGORIES:3rd - 5th Grade Programs,6th - 8th Grade Programs,Adult Programs,Family Programs,General Interest Programs,Kindergarten to 2nd Grade Programs,Teen & Adult Programs,Teen Programs
ATTACH;FMTTYPE=image/png:https://lehightonlibrary.com/wp-content/uploads/2025/08/2025-Calendar-and-program-list-8.5-x-11-in-11-x-8.5-in.png
END:VEVENT
BEGIN:VEVENT
DTSTART;TZID=America/New_York:20280617T110000
DTEND;TZID=America/New_York:20280617T120000
DTSTAMP:20260425T085647
CREATED:20260424T162748Z
LAST-MODIFIED:20260424T162821Z
UID:10003121-1844852400-1844856000@lehightonlibrary.com
SUMMARY:Art Club
DESCRIPTION:ART Club is a program for kids in Kindergarten\, 1st\, 2nd\, and 3rd grades. \nJoin us the 3rd Saturday of each month. \nKids will use learn about artists\, techniques\, and materials. Hands on projects will help foster creativity! \nRegistration preferred but not required.
URL:https://lehightonlibrary.com/event/art-club-2/2028-06-17/
CATEGORIES:Kindergarten to 2nd Grade Programs
ATTACH;FMTTYPE=image/png:https://lehightonlibrary.com/wp-content/uploads/2025/08/Copy-of-Copy-of-Copy-of-Copy-of-Copy-of-NEW-2025-fall.png
END:VEVENT
BEGIN:VEVENT
DTSTART;TZID=America/New_York:20280622T170000
DTEND;TZID=America/New_York:20280622T183000
DTSTAMP:20260425T085647
CREATED:20250829T194352Z
LAST-MODIFIED:20251118T215526Z
UID:10002750-1845306000-1845311400@lehightonlibrary.com
SUMMARY:Puzzle Night
DESCRIPTION:Join us on the 4th Thursday of each month for Puzzle Night! Come alone or bring friends and family. We provide the puzzles. This program is open to everyone and free of charge.
URL:https://lehightonlibrary.com/event/puzzle-night/2028-06-22/
CATEGORIES:3rd - 5th Grade Programs,6th - 8th Grade Programs,Adult Programs,Family Programs,General Interest Programs,Kindergarten to 2nd Grade Programs,Teen & Adult Programs,Teen Programs
ATTACH;FMTTYPE=image/png:https://lehightonlibrary.com/wp-content/uploads/2025/08/Copy-of-Copy-of-Copy-of-Copy-of-Copy-of-Copy-of-Copy-of-Copy-of-Copy-of-Copy-of-Copy-of-Copy-of-Copy-of-Copy-of-Copy-of-Copy-of-Copy-of-Copy-of-Copy-of-nov-6-1.png
END:VEVENT
BEGIN:VEVENT
DTSTART;TZID=America/New_York:20280713T170000
DTEND;TZID=America/New_York:20280713T183000
DTSTAMP:20260425T085647
CREATED:20250827T162933Z
LAST-MODIFIED:20250827T162933Z
UID:10002144-1847120400-1847125800@lehightonlibrary.com
SUMMARY:Game Night
DESCRIPTION:Join us on the 2nd Thursday of each month for Game Night! Come alone and join a game\, or bring friends and family. We provide the games. This program is open to everyone and free of charge.
URL:https://lehightonlibrary.com/event/game-night-2/2028-07-13/
CATEGORIES:3rd - 5th Grade Programs,6th - 8th Grade Programs,Adult Programs,Family Programs,General Interest Programs,Kindergarten to 2nd Grade Programs,Teen & Adult Programs,Teen Programs
ATTACH;FMTTYPE=image/png:https://lehightonlibrary.com/wp-content/uploads/2025/08/2025-Calendar-and-program-list-8.5-x-11-in-11-x-8.5-in.png
END:VEVENT
BEGIN:VEVENT
DTSTART;TZID=America/New_York:20280715T110000
DTEND;TZID=America/New_York:20280715T120000
DTSTAMP:20260425T085647
CREATED:20260424T162748Z
LAST-MODIFIED:20260424T162821Z
UID:10003122-1847271600-1847275200@lehightonlibrary.com
SUMMARY:Art Club
DESCRIPTION:ART Club is a program for kids in Kindergarten\, 1st\, 2nd\, and 3rd grades. \nJoin us the 3rd Saturday of each month. \nKids will use learn about artists\, techniques\, and materials. Hands on projects will help foster creativity! \nRegistration preferred but not required.
URL:https://lehightonlibrary.com/event/art-club-2/2028-07-15/
CATEGORIES:Kindergarten to 2nd Grade Programs
ATTACH;FMTTYPE=image/png:https://lehightonlibrary.com/wp-content/uploads/2025/08/Copy-of-Copy-of-Copy-of-Copy-of-Copy-of-NEW-2025-fall.png
END:VEVENT
BEGIN:VEVENT
DTSTART;TZID=America/New_York:20280727T170000
DTEND;TZID=America/New_York:20280727T183000
DTSTAMP:20260425T085647
CREATED:20250829T194352Z
LAST-MODIFIED:20251118T215526Z
UID:10002751-1848330000-1848335400@lehightonlibrary.com
SUMMARY:Puzzle Night
DESCRIPTION:Join us on the 4th Thursday of each month for Puzzle Night! Come alone or bring friends and family. We provide the puzzles. This program is open to everyone and free of charge.
URL:https://lehightonlibrary.com/event/puzzle-night/2028-07-27/
CATEGORIES:3rd - 5th Grade Programs,6th - 8th Grade Programs,Adult Programs,Family Programs,General Interest Programs,Kindergarten to 2nd Grade Programs,Teen & Adult Programs,Teen Programs
ATTACH;FMTTYPE=image/png:https://lehightonlibrary.com/wp-content/uploads/2025/08/Copy-of-Copy-of-Copy-of-Copy-of-Copy-of-Copy-of-Copy-of-Copy-of-Copy-of-Copy-of-Copy-of-Copy-of-Copy-of-Copy-of-Copy-of-Copy-of-Copy-of-Copy-of-Copy-of-nov-6-1.png
END:VEVENT
BEGIN:VEVENT
DTSTART;TZID=America/New_York:20280810T170000
DTEND;TZID=America/New_York:20280810T183000
DTSTAMP:20260425T085647
CREATED:20250827T162933Z
LAST-MODIFIED:20250827T162933Z
UID:10002145-1849539600-1849545000@lehightonlibrary.com
SUMMARY:Game Night
DESCRIPTION:Join us on the 2nd Thursday of each month for Game Night! Come alone and join a game\, or bring friends and family. We provide the games. This program is open to everyone and free of charge.
URL:https://lehightonlibrary.com/event/game-night-2/2028-08-10/
CATEGORIES:3rd - 5th Grade Programs,6th - 8th Grade Programs,Adult Programs,Family Programs,General Interest Programs,Kindergarten to 2nd Grade Programs,Teen & Adult Programs,Teen Programs
ATTACH;FMTTYPE=image/png:https://lehightonlibrary.com/wp-content/uploads/2025/08/2025-Calendar-and-program-list-8.5-x-11-in-11-x-8.5-in.png
END:VEVENT
BEGIN:VEVENT
DTSTART;TZID=America/New_York:20280819T110000
DTEND;TZID=America/New_York:20280819T120000
DTSTAMP:20260425T085647
CREATED:20260424T162748Z
LAST-MODIFIED:20260424T162821Z
UID:10003123-1850295600-1850299200@lehightonlibrary.com
SUMMARY:Art Club
DESCRIPTION:ART Club is a program for kids in Kindergarten\, 1st\, 2nd\, and 3rd grades. \nJoin us the 3rd Saturday of each month. \nKids will use learn about artists\, techniques\, and materials. Hands on projects will help foster creativity! \nRegistration preferred but not required.
URL:https://lehightonlibrary.com/event/art-club-2/2028-08-19/
CATEGORIES:Kindergarten to 2nd Grade Programs
ATTACH;FMTTYPE=image/png:https://lehightonlibrary.com/wp-content/uploads/2025/08/Copy-of-Copy-of-Copy-of-Copy-of-Copy-of-NEW-2025-fall.png
END:VEVENT
BEGIN:VEVENT
DTSTART;TZID=America/New_York:20280824T170000
DTEND;TZID=America/New_York:20280824T183000
DTSTAMP:20260425T085647
CREATED:20250829T194352Z
LAST-MODIFIED:20251118T215526Z
UID:10002752-1850749200-1850754600@lehightonlibrary.com
SUMMARY:Puzzle Night
DESCRIPTION:Join us on the 4th Thursday of each month for Puzzle Night! Come alone or bring friends and family. We provide the puzzles. This program is open to everyone and free of charge.
URL:https://lehightonlibrary.com/event/puzzle-night/2028-08-24/
CATEGORIES:3rd - 5th Grade Programs,6th - 8th Grade Programs,Adult Programs,Family Programs,General Interest Programs,Kindergarten to 2nd Grade Programs,Teen & Adult Programs,Teen Programs
ATTACH;FMTTYPE=image/png:https://lehightonlibrary.com/wp-content/uploads/2025/08/Copy-of-Copy-of-Copy-of-Copy-of-Copy-of-Copy-of-Copy-of-Copy-of-Copy-of-Copy-of-Copy-of-Copy-of-Copy-of-Copy-of-Copy-of-Copy-of-Copy-of-Copy-of-Copy-of-nov-6-1.png
END:VEVENT
BEGIN:VEVENT
DTSTART;TZID=America/New_York:20280914T170000
DTEND;TZID=America/New_York:20280914T183000
DTSTAMP:20260425T085647
CREATED:20250827T162933Z
LAST-MODIFIED:20250827T162933Z
UID:10002146-1852563600-1852569000@lehightonlibrary.com
SUMMARY:Game Night
DESCRIPTION:Join us on the 2nd Thursday of each month for Game Night! Come alone and join a game\, or bring friends and family. We provide the games. This program is open to everyone and free of charge.
URL:https://lehightonlibrary.com/event/game-night-2/2028-09-14/
CATEGORIES:3rd - 5th Grade Programs,6th - 8th Grade Programs,Adult Programs,Family Programs,General Interest Programs,Kindergarten to 2nd Grade Programs,Teen & Adult Programs,Teen Programs
ATTACH;FMTTYPE=image/png:https://lehightonlibrary.com/wp-content/uploads/2025/08/2025-Calendar-and-program-list-8.5-x-11-in-11-x-8.5-in.png
END:VEVENT
BEGIN:VEVENT
DTSTART;TZID=America/New_York:20280916T110000
DTEND;TZID=America/New_York:20280916T120000
DTSTAMP:20260425T085647
CREATED:20260424T162748Z
LAST-MODIFIED:20260424T162821Z
UID:10003124-1852714800-1852718400@lehightonlibrary.com
SUMMARY:Art Club
DESCRIPTION:ART Club is a program for kids in Kindergarten\, 1st\, 2nd\, and 3rd grades. \nJoin us the 3rd Saturday of each month. \nKids will use learn about artists\, techniques\, and materials. Hands on projects will help foster creativity! \nRegistration preferred but not required.
URL:https://lehightonlibrary.com/event/art-club-2/2028-09-16/
CATEGORIES:Kindergarten to 2nd Grade Programs
ATTACH;FMTTYPE=image/png:https://lehightonlibrary.com/wp-content/uploads/2025/08/Copy-of-Copy-of-Copy-of-Copy-of-Copy-of-NEW-2025-fall.png
END:VEVENT
BEGIN:VEVENT
DTSTART;TZID=America/New_York:20280928T170000
DTEND;TZID=America/New_York:20280928T183000
DTSTAMP:20260425T085647
CREATED:20250829T194352Z
LAST-MODIFIED:20251118T215526Z
UID:10002753-1853773200-1853778600@lehightonlibrary.com
SUMMARY:Puzzle Night
DESCRIPTION:Join us on the 4th Thursday of each month for Puzzle Night! Come alone or bring friends and family. We provide the puzzles. This program is open to everyone and free of charge.
URL:https://lehightonlibrary.com/event/puzzle-night/2028-09-28/
CATEGORIES:3rd - 5th Grade Programs,6th - 8th Grade Programs,Adult Programs,Family Programs,General Interest Programs,Kindergarten to 2nd Grade Programs,Teen & Adult Programs,Teen Programs
ATTACH;FMTTYPE=image/png:https://lehightonlibrary.com/wp-content/uploads/2025/08/Copy-of-Copy-of-Copy-of-Copy-of-Copy-of-Copy-of-Copy-of-Copy-of-Copy-of-Copy-of-Copy-of-Copy-of-Copy-of-Copy-of-Copy-of-Copy-of-Copy-of-Copy-of-Copy-of-nov-6-1.png
END:VEVENT
BEGIN:VEVENT
DTSTART;TZID=America/New_York:20281012T170000
DTEND;TZID=America/New_York:20281012T183000
DTSTAMP:20260425T085647
CREATED:20250827T162933Z
LAST-MODIFIED:20250827T162933Z
UID:10002147-1854982800-1854988200@lehightonlibrary.com
SUMMARY:Game Night
DESCRIPTION:Join us on the 2nd Thursday of each month for Game Night! Come alone and join a game\, or bring friends and family. We provide the games. This program is open to everyone and free of charge.
URL:https://lehightonlibrary.com/event/game-night-2/2028-10-12/
CATEGORIES:3rd - 5th Grade Programs,6th - 8th Grade Programs,Adult Programs,Family Programs,General Interest Programs,Kindergarten to 2nd Grade Programs,Teen & Adult Programs,Teen Programs
ATTACH;FMTTYPE=image/png:https://lehightonlibrary.com/wp-content/uploads/2025/08/2025-Calendar-and-program-list-8.5-x-11-in-11-x-8.5-in.png
END:VEVENT
BEGIN:VEVENT
DTSTART;TZID=America/New_York:20281021T110000
DTEND;TZID=America/New_York:20281021T120000
DTSTAMP:20260425T085647
CREATED:20260424T162748Z
LAST-MODIFIED:20260424T162821Z
UID:10003125-1855738800-1855742400@lehightonlibrary.com
SUMMARY:Art Club
DESCRIPTION:ART Club is a program for kids in Kindergarten\, 1st\, 2nd\, and 3rd grades. \nJoin us the 3rd Saturday of each month. \nKids will use learn about artists\, techniques\, and materials. Hands on projects will help foster creativity! \nRegistration preferred but not required.
URL:https://lehightonlibrary.com/event/art-club-2/2028-10-21/
CATEGORIES:Kindergarten to 2nd Grade Programs
ATTACH;FMTTYPE=image/png:https://lehightonlibrary.com/wp-content/uploads/2025/08/Copy-of-Copy-of-Copy-of-Copy-of-Copy-of-NEW-2025-fall.png
END:VEVENT
BEGIN:VEVENT
DTSTART;TZID=America/New_York:20281026T170000
DTEND;TZID=America/New_York:20281026T183000
DTSTAMP:20260425T085647
CREATED:20250829T194352Z
LAST-MODIFIED:20251118T215526Z
UID:10002754-1856192400-1856197800@lehightonlibrary.com
SUMMARY:Puzzle Night
DESCRIPTION:Join us on the 4th Thursday of each month for Puzzle Night! Come alone or bring friends and family. We provide the puzzles. This program is open to everyone and free of charge.
URL:https://lehightonlibrary.com/event/puzzle-night/2028-10-26/
CATEGORIES:3rd - 5th Grade Programs,6th - 8th Grade Programs,Adult Programs,Family Programs,General Interest Programs,Kindergarten to 2nd Grade Programs,Teen & Adult Programs,Teen Programs
ATTACH;FMTTYPE=image/png:https://lehightonlibrary.com/wp-content/uploads/2025/08/Copy-of-Copy-of-Copy-of-Copy-of-Copy-of-Copy-of-Copy-of-Copy-of-Copy-of-Copy-of-Copy-of-Copy-of-Copy-of-Copy-of-Copy-of-Copy-of-Copy-of-Copy-of-Copy-of-nov-6-1.png
END:VEVENT
BEGIN:VEVENT
DTSTART;TZID=America/New_York:20281109T170000
DTEND;TZID=America/New_York:20281109T183000
DTSTAMP:20260425T085647
CREATED:20250827T162933Z
LAST-MODIFIED:20250827T162933Z
UID:10002148-1857402000-1857407400@lehightonlibrary.com
SUMMARY:Game Night
DESCRIPTION:Join us on the 2nd Thursday of each month for Game Night! Come alone and join a game\, or bring friends and family. We provide the games. This program is open to everyone and free of charge.
URL:https://lehightonlibrary.com/event/game-night-2/2028-11-09/
CATEGORIES:3rd - 5th Grade Programs,6th - 8th Grade Programs,Adult Programs,Family Programs,General Interest Programs,Kindergarten to 2nd Grade Programs,Teen & Adult Programs,Teen Programs
ATTACH;FMTTYPE=image/png:https://lehightonlibrary.com/wp-content/uploads/2025/08/2025-Calendar-and-program-list-8.5-x-11-in-11-x-8.5-in.png
END:VEVENT
BEGIN:VEVENT
DTSTART;TZID=America/New_York:20281118T110000
DTEND;TZID=America/New_York:20281118T120000
DTSTAMP:20260425T085647
CREATED:20260424T162748Z
LAST-MODIFIED:20260424T162821Z
UID:10003126-1858158000-1858161600@lehightonlibrary.com
SUMMARY:Art Club
DESCRIPTION:ART Club is a program for kids in Kindergarten\, 1st\, 2nd\, and 3rd grades. \nJoin us the 3rd Saturday of each month. \nKids will use learn about artists\, techniques\, and materials. Hands on projects will help foster creativity! \nRegistration preferred but not required.
URL:https://lehightonlibrary.com/event/art-club-2/2028-11-18/
CATEGORIES:Kindergarten to 2nd Grade Programs
ATTACH;FMTTYPE=image/png:https://lehightonlibrary.com/wp-content/uploads/2025/08/Copy-of-Copy-of-Copy-of-Copy-of-Copy-of-NEW-2025-fall.png
END:VEVENT
BEGIN:VEVENT
DTSTART;TZID=America/New_York:20281123T170000
DTEND;TZID=America/New_York:20281123T183000
DTSTAMP:20260425T085647
CREATED:20250829T194352Z
LAST-MODIFIED:20251118T215526Z
UID:10002755-1858611600-1858617000@lehightonlibrary.com
SUMMARY:Puzzle Night
DESCRIPTION:Join us on the 4th Thursday of each month for Puzzle Night! Come alone or bring friends and family. We provide the puzzles. This program is open to everyone and free of charge.
URL:https://lehightonlibrary.com/event/puzzle-night/2028-11-23/
CATEGORIES:3rd - 5th Grade Programs,6th - 8th Grade Programs,Adult Programs,Family Programs,General Interest Programs,Kindergarten to 2nd Grade Programs,Teen & Adult Programs,Teen Programs
ATTACH;FMTTYPE=image/png:https://lehightonlibrary.com/wp-content/uploads/2025/08/Copy-of-Copy-of-Copy-of-Copy-of-Copy-of-Copy-of-Copy-of-Copy-of-Copy-of-Copy-of-Copy-of-Copy-of-Copy-of-Copy-of-Copy-of-Copy-of-Copy-of-Copy-of-Copy-of-nov-6-1.png
END:VEVENT
BEGIN:VEVENT
DTSTART;TZID=America/New_York:20281214T170000
DTEND;TZID=America/New_York:20281214T183000
DTSTAMP:20260425T085647
CREATED:20250827T162933Z
LAST-MODIFIED:20250827T162933Z
UID:10002149-1860426000-1860431400@lehightonlibrary.com
SUMMARY:Game Night
DESCRIPTION:Join us on the 2nd Thursday of each month for Game Night! Come alone and join a game\, or bring friends and family. We provide the games. This program is open to everyone and free of charge.
URL:https://lehightonlibrary.com/event/game-night-2/2028-12-14/
CATEGORIES:3rd - 5th Grade Programs,6th - 8th Grade Programs,Adult Programs,Family Programs,General Interest Programs,Kindergarten to 2nd Grade Programs,Teen & Adult Programs,Teen Programs
ATTACH;FMTTYPE=image/png:https://lehightonlibrary.com/wp-content/uploads/2025/08/2025-Calendar-and-program-list-8.5-x-11-in-11-x-8.5-in.png
END:VEVENT
BEGIN:VEVENT
DTSTART;TZID=America/New_York:20281216T110000
DTEND;TZID=America/New_York:20281216T120000
DTSTAMP:20260425T085647
CREATED:20260424T162748Z
LAST-MODIFIED:20260424T162821Z
UID:10003127-1860577200-1860580800@lehightonlibrary.com
SUMMARY:Art Club
DESCRIPTION:ART Club is a program for kids in Kindergarten\, 1st\, 2nd\, and 3rd grades. \nJoin us the 3rd Saturday of each month. \nKids will use learn about artists\, techniques\, and materials. Hands on projects will help foster creativity! \nRegistration preferred but not required.
URL:https://lehightonlibrary.com/event/art-club-2/2028-12-16/
CATEGORIES:Kindergarten to 2nd Grade Programs
ATTACH;FMTTYPE=image/png:https://lehightonlibrary.com/wp-content/uploads/2025/08/Copy-of-Copy-of-Copy-of-Copy-of-Copy-of-NEW-2025-fall.png
END:VEVENT
BEGIN:VEVENT
DTSTART;TZID=America/New_York:20281228T170000
DTEND;TZID=America/New_York:20281228T183000
DTSTAMP:20260425T085647
CREATED:20250829T194352Z
LAST-MODIFIED:20251118T215526Z
UID:10002756-1861635600-1861641000@lehightonlibrary.com
SUMMARY:Puzzle Night
DESCRIPTION:Join us on the 4th Thursday of each month for Puzzle Night! Come alone or bring friends and family. We provide the puzzles. This program is open to everyone and free of charge.
URL:https://lehightonlibrary.com/event/puzzle-night/2028-12-28/
CATEGORIES:3rd - 5th Grade Programs,6th - 8th Grade Programs,Adult Programs,Family Programs,General Interest Programs,Kindergarten to 2nd Grade Programs,Teen & Adult Programs,Teen Programs
ATTACH;FMTTYPE=image/png:https://lehightonlibrary.com/wp-content/uploads/2025/08/Copy-of-Copy-of-Copy-of-Copy-of-Copy-of-Copy-of-Copy-of-Copy-of-Copy-of-Copy-of-Copy-of-Copy-of-Copy-of-Copy-of-Copy-of-Copy-of-Copy-of-Copy-of-Copy-of-nov-6-1.png
END:VEVENT
BEGIN:VEVENT
DTSTART;TZID=America/New_York:20290111T170000
DTEND;TZID=America/New_York:20290111T183000
DTSTAMP:20260425T085647
CREATED:20250827T162933Z
LAST-MODIFIED:20250827T162933Z
UID:10002150-1862845200-1862850600@lehightonlibrary.com
SUMMARY:Game Night
DESCRIPTION:Join us on the 2nd Thursday of each month for Game Night! Come alone and join a game\, or bring friends and family. We provide the games. This program is open to everyone and free of charge.
URL:https://lehightonlibrary.com/event/game-night-2/2029-01-11/
CATEGORIES:3rd - 5th Grade Programs,6th - 8th Grade Programs,Adult Programs,Family Programs,General Interest Programs,Kindergarten to 2nd Grade Programs,Teen & Adult Programs,Teen Programs
ATTACH;FMTTYPE=image/png:https://lehightonlibrary.com/wp-content/uploads/2025/08/2025-Calendar-and-program-list-8.5-x-11-in-11-x-8.5-in.png
END:VEVENT
BEGIN:VEVENT
DTSTART;TZID=America/New_York:20290120T110000
DTEND;TZID=America/New_York:20290120T120000
DTSTAMP:20260425T085647
CREATED:20260424T162748Z
LAST-MODIFIED:20260424T162821Z
UID:10003128-1863601200-1863604800@lehightonlibrary.com
SUMMARY:Art Club
DESCRIPTION:ART Club is a program for kids in Kindergarten\, 1st\, 2nd\, and 3rd grades. \nJoin us the 3rd Saturday of each month. \nKids will use learn about artists\, techniques\, and materials. Hands on projects will help foster creativity! \nRegistration preferred but not required.
URL:https://lehightonlibrary.com/event/art-club-2/2029-01-20/
CATEGORIES:Kindergarten to 2nd Grade Programs
ATTACH;FMTTYPE=image/png:https://lehightonlibrary.com/wp-content/uploads/2025/08/Copy-of-Copy-of-Copy-of-Copy-of-Copy-of-NEW-2025-fall.png
END:VEVENT
BEGIN:VEVENT
DTSTART;TZID=America/New_York:20290125T170000
DTEND;TZID=America/New_York:20290125T183000
DTSTAMP:20260425T085647
CREATED:20250829T194352Z
LAST-MODIFIED:20251118T215526Z
UID:10002757-1864054800-1864060200@lehightonlibrary.com
SUMMARY:Puzzle Night
DESCRIPTION:Join us on the 4th Thursday of each month for Puzzle Night! Come alone or bring friends and family. We provide the puzzles. This program is open to everyone and free of charge.
URL:https://lehightonlibrary.com/event/puzzle-night/2029-01-25/
CATEGORIES:3rd - 5th Grade Programs,6th - 8th Grade Programs,Adult Programs,Family Programs,General Interest Programs,Kindergarten to 2nd Grade Programs,Teen & Adult Programs,Teen Programs
ATTACH;FMTTYPE=image/png:https://lehightonlibrary.com/wp-content/uploads/2025/08/Copy-of-Copy-of-Copy-of-Copy-of-Copy-of-Copy-of-Copy-of-Copy-of-Copy-of-Copy-of-Copy-of-Copy-of-Copy-of-Copy-of-Copy-of-Copy-of-Copy-of-Copy-of-Copy-of-nov-6-1.png
END:VEVENT
END:VCALENDAR