BEGIN:VCALENDAR
VERSION:2.0
PRODID:-//Lehighton Area Memorial Library - ECPv6.15.20//NONSGML v1.0//EN
CALSCALE:GREGORIAN
METHOD:PUBLISH
X-ORIGINAL-URL:https://lehightonlibrary.com
X-WR-CALDESC:Events for Lehighton Area Memorial Library
REFRESH-INTERVAL;VALUE=DURATION:PT1H
X-Robots-Tag:noindex
X-PUBLISHED-TTL:PT1H
BEGIN:VTIMEZONE
TZID:America/New_York
BEGIN:DAYLIGHT
TZOFFSETFROM:-0500
TZOFFSETTO:-0400
TZNAME:EDT
DTSTART:20280312T070000
END:DAYLIGHT
BEGIN:STANDARD
TZOFFSETFROM:-0400
TZOFFSETTO:-0500
TZNAME:EST
DTSTART:20281105T060000
END:STANDARD
BEGIN:DAYLIGHT
TZOFFSETFROM:-0500
TZOFFSETTO:-0400
TZNAME:EDT
DTSTART:20290311T070000
END:DAYLIGHT
BEGIN:STANDARD
TZOFFSETFROM:-0400
TZOFFSETTO:-0500
TZNAME:EST
DTSTART:20291104T060000
END:STANDARD
BEGIN:DAYLIGHT
TZOFFSETFROM:-0500
TZOFFSETTO:-0400
TZNAME:EDT
DTSTART:20300310T070000
END:DAYLIGHT
BEGIN:STANDARD
TZOFFSETFROM:-0400
TZOFFSETTO:-0500
TZNAME:EST
DTSTART:20301103T060000
END:STANDARD
BEGIN:DAYLIGHT
TZOFFSETFROM:-0500
TZOFFSETTO:-0400
TZNAME:EDT
DTSTART:20310309T070000
END:DAYLIGHT
BEGIN:STANDARD
TZOFFSETFROM:-0400
TZOFFSETTO:-0500
TZNAME:EST
DTSTART:20311102T060000
END:STANDARD
END:VTIMEZONE
BEGIN:VEVENT
DTSTART;TZID=America/New_York:20290818T110000
DTEND;TZID=America/New_York:20290818T120000
DTSTAMP:20260425T225351
CREATED:20260424T162748Z
LAST-MODIFIED:20260424T162821Z
UID:10003135-1881745200-1881748800@lehightonlibrary.com
SUMMARY:Art Club
DESCRIPTION:ART Club is a program for kids in Kindergarten\, 1st\, 2nd\, and 3rd grades. \nJoin us the 3rd Saturday of each month. \nKids will use learn about artists\, techniques\, and materials. Hands on projects will help foster creativity! \nRegistration preferred but not required.
URL:https://lehightonlibrary.com/event/art-club-2/2029-08-18/
CATEGORIES:Kindergarten to 2nd Grade Programs
ATTACH;FMTTYPE=image/png:https://lehightonlibrary.com/wp-content/uploads/2025/08/Copy-of-Copy-of-Copy-of-Copy-of-Copy-of-NEW-2025-fall.png
END:VEVENT
BEGIN:VEVENT
DTSTART;TZID=America/New_York:20290823T170000
DTEND;TZID=America/New_York:20290823T183000
DTSTAMP:20260425T225351
CREATED:20250829T194352Z
LAST-MODIFIED:20251118T215526Z
UID:10002764-1882198800-1882204200@lehightonlibrary.com
SUMMARY:Puzzle Night
DESCRIPTION:Join us on the 4th Thursday of each month for Puzzle Night! Come alone or bring friends and family. We provide the puzzles. This program is open to everyone and free of charge.
URL:https://lehightonlibrary.com/event/puzzle-night/2029-08-23/
CATEGORIES:3rd - 5th Grade Programs,6th - 8th Grade Programs,Adult Programs,Family Programs,General Interest Programs,Kindergarten to 2nd Grade Programs,Teen & Adult Programs,Teen Programs
ATTACH;FMTTYPE=image/png:https://lehightonlibrary.com/wp-content/uploads/2025/08/Copy-of-Copy-of-Copy-of-Copy-of-Copy-of-Copy-of-Copy-of-Copy-of-Copy-of-Copy-of-Copy-of-Copy-of-Copy-of-Copy-of-Copy-of-Copy-of-Copy-of-Copy-of-Copy-of-nov-6-1.png
END:VEVENT
BEGIN:VEVENT
DTSTART;TZID=America/New_York:20290913T170000
DTEND;TZID=America/New_York:20290913T183000
DTSTAMP:20260425T225351
CREATED:20250827T162933Z
LAST-MODIFIED:20250827T162933Z
UID:10002158-1884013200-1884018600@lehightonlibrary.com
SUMMARY:Game Night
DESCRIPTION:Join us on the 2nd Thursday of each month for Game Night! Come alone and join a game\, or bring friends and family. We provide the games. This program is open to everyone and free of charge.
URL:https://lehightonlibrary.com/event/game-night-2/2029-09-13/
CATEGORIES:3rd - 5th Grade Programs,6th - 8th Grade Programs,Adult Programs,Family Programs,General Interest Programs,Kindergarten to 2nd Grade Programs,Teen & Adult Programs,Teen Programs
ATTACH;FMTTYPE=image/png:https://lehightonlibrary.com/wp-content/uploads/2025/08/2025-Calendar-and-program-list-8.5-x-11-in-11-x-8.5-in.png
END:VEVENT
BEGIN:VEVENT
DTSTART;TZID=America/New_York:20290915T110000
DTEND;TZID=America/New_York:20290915T120000
DTSTAMP:20260425T225351
CREATED:20260424T162748Z
LAST-MODIFIED:20260424T162821Z
UID:10003136-1884164400-1884168000@lehightonlibrary.com
SUMMARY:Art Club
DESCRIPTION:ART Club is a program for kids in Kindergarten\, 1st\, 2nd\, and 3rd grades. \nJoin us the 3rd Saturday of each month. \nKids will use learn about artists\, techniques\, and materials. Hands on projects will help foster creativity! \nRegistration preferred but not required.
URL:https://lehightonlibrary.com/event/art-club-2/2029-09-15/
CATEGORIES:Kindergarten to 2nd Grade Programs
ATTACH;FMTTYPE=image/png:https://lehightonlibrary.com/wp-content/uploads/2025/08/Copy-of-Copy-of-Copy-of-Copy-of-Copy-of-NEW-2025-fall.png
END:VEVENT
BEGIN:VEVENT
DTSTART;TZID=America/New_York:20290927T170000
DTEND;TZID=America/New_York:20290927T183000
DTSTAMP:20260425T225351
CREATED:20250829T194352Z
LAST-MODIFIED:20251118T215526Z
UID:10002765-1885222800-1885228200@lehightonlibrary.com
SUMMARY:Puzzle Night
DESCRIPTION:Join us on the 4th Thursday of each month for Puzzle Night! Come alone or bring friends and family. We provide the puzzles. This program is open to everyone and free of charge.
URL:https://lehightonlibrary.com/event/puzzle-night/2029-09-27/
CATEGORIES:3rd - 5th Grade Programs,6th - 8th Grade Programs,Adult Programs,Family Programs,General Interest Programs,Kindergarten to 2nd Grade Programs,Teen & Adult Programs,Teen Programs
ATTACH;FMTTYPE=image/png:https://lehightonlibrary.com/wp-content/uploads/2025/08/Copy-of-Copy-of-Copy-of-Copy-of-Copy-of-Copy-of-Copy-of-Copy-of-Copy-of-Copy-of-Copy-of-Copy-of-Copy-of-Copy-of-Copy-of-Copy-of-Copy-of-Copy-of-Copy-of-nov-6-1.png
END:VEVENT
BEGIN:VEVENT
DTSTART;TZID=America/New_York:20291011T170000
DTEND;TZID=America/New_York:20291011T183000
DTSTAMP:20260425T225351
CREATED:20250827T162933Z
LAST-MODIFIED:20250827T162933Z
UID:10002159-1886432400-1886437800@lehightonlibrary.com
SUMMARY:Game Night
DESCRIPTION:Join us on the 2nd Thursday of each month for Game Night! Come alone and join a game\, or bring friends and family. We provide the games. This program is open to everyone and free of charge.
URL:https://lehightonlibrary.com/event/game-night-2/2029-10-11/
CATEGORIES:3rd - 5th Grade Programs,6th - 8th Grade Programs,Adult Programs,Family Programs,General Interest Programs,Kindergarten to 2nd Grade Programs,Teen & Adult Programs,Teen Programs
ATTACH;FMTTYPE=image/png:https://lehightonlibrary.com/wp-content/uploads/2025/08/2025-Calendar-and-program-list-8.5-x-11-in-11-x-8.5-in.png
END:VEVENT
BEGIN:VEVENT
DTSTART;TZID=America/New_York:20291020T110000
DTEND;TZID=America/New_York:20291020T120000
DTSTAMP:20260425T225351
CREATED:20260424T162748Z
LAST-MODIFIED:20260424T162821Z
UID:10003137-1887188400-1887192000@lehightonlibrary.com
SUMMARY:Art Club
DESCRIPTION:ART Club is a program for kids in Kindergarten\, 1st\, 2nd\, and 3rd grades. \nJoin us the 3rd Saturday of each month. \nKids will use learn about artists\, techniques\, and materials. Hands on projects will help foster creativity! \nRegistration preferred but not required.
URL:https://lehightonlibrary.com/event/art-club-2/2029-10-20/
CATEGORIES:Kindergarten to 2nd Grade Programs
ATTACH;FMTTYPE=image/png:https://lehightonlibrary.com/wp-content/uploads/2025/08/Copy-of-Copy-of-Copy-of-Copy-of-Copy-of-NEW-2025-fall.png
END:VEVENT
BEGIN:VEVENT
DTSTART;TZID=America/New_York:20291025T170000
DTEND;TZID=America/New_York:20291025T183000
DTSTAMP:20260425T225351
CREATED:20250829T194352Z
LAST-MODIFIED:20251118T215526Z
UID:10002766-1887642000-1887647400@lehightonlibrary.com
SUMMARY:Puzzle Night
DESCRIPTION:Join us on the 4th Thursday of each month for Puzzle Night! Come alone or bring friends and family. We provide the puzzles. This program is open to everyone and free of charge.
URL:https://lehightonlibrary.com/event/puzzle-night/2029-10-25/
CATEGORIES:3rd - 5th Grade Programs,6th - 8th Grade Programs,Adult Programs,Family Programs,General Interest Programs,Kindergarten to 2nd Grade Programs,Teen & Adult Programs,Teen Programs
ATTACH;FMTTYPE=image/png:https://lehightonlibrary.com/wp-content/uploads/2025/08/Copy-of-Copy-of-Copy-of-Copy-of-Copy-of-Copy-of-Copy-of-Copy-of-Copy-of-Copy-of-Copy-of-Copy-of-Copy-of-Copy-of-Copy-of-Copy-of-Copy-of-Copy-of-Copy-of-nov-6-1.png
END:VEVENT
BEGIN:VEVENT
DTSTART;TZID=America/New_York:20291108T170000
DTEND;TZID=America/New_York:20291108T183000
DTSTAMP:20260425T225351
CREATED:20250827T162933Z
LAST-MODIFIED:20250827T162933Z
UID:10002160-1888851600-1888857000@lehightonlibrary.com
SUMMARY:Game Night
DESCRIPTION:Join us on the 2nd Thursday of each month for Game Night! Come alone and join a game\, or bring friends and family. We provide the games. This program is open to everyone and free of charge.
URL:https://lehightonlibrary.com/event/game-night-2/2029-11-08/
CATEGORIES:3rd - 5th Grade Programs,6th - 8th Grade Programs,Adult Programs,Family Programs,General Interest Programs,Kindergarten to 2nd Grade Programs,Teen & Adult Programs,Teen Programs
ATTACH;FMTTYPE=image/png:https://lehightonlibrary.com/wp-content/uploads/2025/08/2025-Calendar-and-program-list-8.5-x-11-in-11-x-8.5-in.png
END:VEVENT
BEGIN:VEVENT
DTSTART;TZID=America/New_York:20291117T110000
DTEND;TZID=America/New_York:20291117T120000
DTSTAMP:20260425T225351
CREATED:20260424T162748Z
LAST-MODIFIED:20260424T162821Z
UID:10003138-1889607600-1889611200@lehightonlibrary.com
SUMMARY:Art Club
DESCRIPTION:ART Club is a program for kids in Kindergarten\, 1st\, 2nd\, and 3rd grades. \nJoin us the 3rd Saturday of each month. \nKids will use learn about artists\, techniques\, and materials. Hands on projects will help foster creativity! \nRegistration preferred but not required.
URL:https://lehightonlibrary.com/event/art-club-2/2029-11-17/
CATEGORIES:Kindergarten to 2nd Grade Programs
ATTACH;FMTTYPE=image/png:https://lehightonlibrary.com/wp-content/uploads/2025/08/Copy-of-Copy-of-Copy-of-Copy-of-Copy-of-NEW-2025-fall.png
END:VEVENT
BEGIN:VEVENT
DTSTART;TZID=America/New_York:20291122T170000
DTEND;TZID=America/New_York:20291122T183000
DTSTAMP:20260425T225351
CREATED:20250829T194352Z
LAST-MODIFIED:20251118T215526Z
UID:10002767-1890061200-1890066600@lehightonlibrary.com
SUMMARY:Puzzle Night
DESCRIPTION:Join us on the 4th Thursday of each month for Puzzle Night! Come alone or bring friends and family. We provide the puzzles. This program is open to everyone and free of charge.
URL:https://lehightonlibrary.com/event/puzzle-night/2029-11-22/
CATEGORIES:3rd - 5th Grade Programs,6th - 8th Grade Programs,Adult Programs,Family Programs,General Interest Programs,Kindergarten to 2nd Grade Programs,Teen & Adult Programs,Teen Programs
ATTACH;FMTTYPE=image/png:https://lehightonlibrary.com/wp-content/uploads/2025/08/Copy-of-Copy-of-Copy-of-Copy-of-Copy-of-Copy-of-Copy-of-Copy-of-Copy-of-Copy-of-Copy-of-Copy-of-Copy-of-Copy-of-Copy-of-Copy-of-Copy-of-Copy-of-Copy-of-nov-6-1.png
END:VEVENT
BEGIN:VEVENT
DTSTART;TZID=America/New_York:20291213T170000
DTEND;TZID=America/New_York:20291213T183000
DTSTAMP:20260425T225351
CREATED:20250827T162933Z
LAST-MODIFIED:20250827T162933Z
UID:10002161-1891875600-1891881000@lehightonlibrary.com
SUMMARY:Game Night
DESCRIPTION:Join us on the 2nd Thursday of each month for Game Night! Come alone and join a game\, or bring friends and family. We provide the games. This program is open to everyone and free of charge.
URL:https://lehightonlibrary.com/event/game-night-2/2029-12-13/
CATEGORIES:3rd - 5th Grade Programs,6th - 8th Grade Programs,Adult Programs,Family Programs,General Interest Programs,Kindergarten to 2nd Grade Programs,Teen & Adult Programs,Teen Programs
ATTACH;FMTTYPE=image/png:https://lehightonlibrary.com/wp-content/uploads/2025/08/2025-Calendar-and-program-list-8.5-x-11-in-11-x-8.5-in.png
END:VEVENT
BEGIN:VEVENT
DTSTART;TZID=America/New_York:20291215T110000
DTEND;TZID=America/New_York:20291215T120000
DTSTAMP:20260425T225351
CREATED:20260424T162748Z
LAST-MODIFIED:20260424T162821Z
UID:10003139-1892026800-1892030400@lehightonlibrary.com
SUMMARY:Art Club
DESCRIPTION:ART Club is a program for kids in Kindergarten\, 1st\, 2nd\, and 3rd grades. \nJoin us the 3rd Saturday of each month. \nKids will use learn about artists\, techniques\, and materials. Hands on projects will help foster creativity! \nRegistration preferred but not required.
URL:https://lehightonlibrary.com/event/art-club-2/2029-12-15/
CATEGORIES:Kindergarten to 2nd Grade Programs
ATTACH;FMTTYPE=image/png:https://lehightonlibrary.com/wp-content/uploads/2025/08/Copy-of-Copy-of-Copy-of-Copy-of-Copy-of-NEW-2025-fall.png
END:VEVENT
BEGIN:VEVENT
DTSTART;TZID=America/New_York:20291227T170000
DTEND;TZID=America/New_York:20291227T183000
DTSTAMP:20260425T225351
CREATED:20250829T194352Z
LAST-MODIFIED:20251118T215526Z
UID:10002768-1893085200-1893090600@lehightonlibrary.com
SUMMARY:Puzzle Night
DESCRIPTION:Join us on the 4th Thursday of each month for Puzzle Night! Come alone or bring friends and family. We provide the puzzles. This program is open to everyone and free of charge.
URL:https://lehightonlibrary.com/event/puzzle-night/2029-12-27/
CATEGORIES:3rd - 5th Grade Programs,6th - 8th Grade Programs,Adult Programs,Family Programs,General Interest Programs,Kindergarten to 2nd Grade Programs,Teen & Adult Programs,Teen Programs
ATTACH;FMTTYPE=image/png:https://lehightonlibrary.com/wp-content/uploads/2025/08/Copy-of-Copy-of-Copy-of-Copy-of-Copy-of-Copy-of-Copy-of-Copy-of-Copy-of-Copy-of-Copy-of-Copy-of-Copy-of-Copy-of-Copy-of-Copy-of-Copy-of-Copy-of-Copy-of-nov-6-1.png
END:VEVENT
BEGIN:VEVENT
DTSTART;TZID=America/New_York:20300110T170000
DTEND;TZID=America/New_York:20300110T183000
DTSTAMP:20260425T225351
CREATED:20250827T162933Z
LAST-MODIFIED:20250827T162933Z
UID:10002162-1894294800-1894300200@lehightonlibrary.com
SUMMARY:Game Night
DESCRIPTION:Join us on the 2nd Thursday of each month for Game Night! Come alone and join a game\, or bring friends and family. We provide the games. This program is open to everyone and free of charge.
URL:https://lehightonlibrary.com/event/game-night-2/2030-01-10/
CATEGORIES:3rd - 5th Grade Programs,6th - 8th Grade Programs,Adult Programs,Family Programs,General Interest Programs,Kindergarten to 2nd Grade Programs,Teen & Adult Programs,Teen Programs
ATTACH;FMTTYPE=image/png:https://lehightonlibrary.com/wp-content/uploads/2025/08/2025-Calendar-and-program-list-8.5-x-11-in-11-x-8.5-in.png
END:VEVENT
BEGIN:VEVENT
DTSTART;TZID=America/New_York:20300119T110000
DTEND;TZID=America/New_York:20300119T120000
DTSTAMP:20260425T225351
CREATED:20260424T162748Z
LAST-MODIFIED:20260424T162821Z
UID:10003140-1895050800-1895054400@lehightonlibrary.com
SUMMARY:Art Club
DESCRIPTION:ART Club is a program for kids in Kindergarten\, 1st\, 2nd\, and 3rd grades. \nJoin us the 3rd Saturday of each month. \nKids will use learn about artists\, techniques\, and materials. Hands on projects will help foster creativity! \nRegistration preferred but not required.
URL:https://lehightonlibrary.com/event/art-club-2/2030-01-19/
CATEGORIES:Kindergarten to 2nd Grade Programs
ATTACH;FMTTYPE=image/png:https://lehightonlibrary.com/wp-content/uploads/2025/08/Copy-of-Copy-of-Copy-of-Copy-of-Copy-of-NEW-2025-fall.png
END:VEVENT
BEGIN:VEVENT
DTSTART;TZID=America/New_York:20300124T170000
DTEND;TZID=America/New_York:20300124T183000
DTSTAMP:20260425T225351
CREATED:20250829T194352Z
LAST-MODIFIED:20251118T215526Z
UID:10002769-1895504400-1895509800@lehightonlibrary.com
SUMMARY:Puzzle Night
DESCRIPTION:Join us on the 4th Thursday of each month for Puzzle Night! Come alone or bring friends and family. We provide the puzzles. This program is open to everyone and free of charge.
URL:https://lehightonlibrary.com/event/puzzle-night/2030-01-24/
CATEGORIES:3rd - 5th Grade Programs,6th - 8th Grade Programs,Adult Programs,Family Programs,General Interest Programs,Kindergarten to 2nd Grade Programs,Teen & Adult Programs,Teen Programs
ATTACH;FMTTYPE=image/png:https://lehightonlibrary.com/wp-content/uploads/2025/08/Copy-of-Copy-of-Copy-of-Copy-of-Copy-of-Copy-of-Copy-of-Copy-of-Copy-of-Copy-of-Copy-of-Copy-of-Copy-of-Copy-of-Copy-of-Copy-of-Copy-of-Copy-of-Copy-of-nov-6-1.png
END:VEVENT
BEGIN:VEVENT
DTSTART;TZID=America/New_York:20300214T170000
DTEND;TZID=America/New_York:20300214T183000
DTSTAMP:20260425T225351
CREATED:20250827T162933Z
LAST-MODIFIED:20250827T162933Z
UID:10002163-1897318800-1897324200@lehightonlibrary.com
SUMMARY:Game Night
DESCRIPTION:Join us on the 2nd Thursday of each month for Game Night! Come alone and join a game\, or bring friends and family. We provide the games. This program is open to everyone and free of charge.
URL:https://lehightonlibrary.com/event/game-night-2/2030-02-14/
CATEGORIES:3rd - 5th Grade Programs,6th - 8th Grade Programs,Adult Programs,Family Programs,General Interest Programs,Kindergarten to 2nd Grade Programs,Teen & Adult Programs,Teen Programs
ATTACH;FMTTYPE=image/png:https://lehightonlibrary.com/wp-content/uploads/2025/08/2025-Calendar-and-program-list-8.5-x-11-in-11-x-8.5-in.png
END:VEVENT
BEGIN:VEVENT
DTSTART;TZID=America/New_York:20300216T110000
DTEND;TZID=America/New_York:20300216T120000
DTSTAMP:20260425T225351
CREATED:20260424T162748Z
LAST-MODIFIED:20260424T162821Z
UID:10003141-1897470000-1897473600@lehightonlibrary.com
SUMMARY:Art Club
DESCRIPTION:ART Club is a program for kids in Kindergarten\, 1st\, 2nd\, and 3rd grades. \nJoin us the 3rd Saturday of each month. \nKids will use learn about artists\, techniques\, and materials. Hands on projects will help foster creativity! \nRegistration preferred but not required.
URL:https://lehightonlibrary.com/event/art-club-2/2030-02-16/
CATEGORIES:Kindergarten to 2nd Grade Programs
ATTACH;FMTTYPE=image/png:https://lehightonlibrary.com/wp-content/uploads/2025/08/Copy-of-Copy-of-Copy-of-Copy-of-Copy-of-NEW-2025-fall.png
END:VEVENT
BEGIN:VEVENT
DTSTART;TZID=America/New_York:20300228T170000
DTEND;TZID=America/New_York:20300228T183000
DTSTAMP:20260425T225351
CREATED:20250829T194352Z
LAST-MODIFIED:20251118T215526Z
UID:10002770-1898528400-1898533800@lehightonlibrary.com
SUMMARY:Puzzle Night
DESCRIPTION:Join us on the 4th Thursday of each month for Puzzle Night! Come alone or bring friends and family. We provide the puzzles. This program is open to everyone and free of charge.
URL:https://lehightonlibrary.com/event/puzzle-night/2030-02-28/
CATEGORIES:3rd - 5th Grade Programs,6th - 8th Grade Programs,Adult Programs,Family Programs,General Interest Programs,Kindergarten to 2nd Grade Programs,Teen & Adult Programs,Teen Programs
ATTACH;FMTTYPE=image/png:https://lehightonlibrary.com/wp-content/uploads/2025/08/Copy-of-Copy-of-Copy-of-Copy-of-Copy-of-Copy-of-Copy-of-Copy-of-Copy-of-Copy-of-Copy-of-Copy-of-Copy-of-Copy-of-Copy-of-Copy-of-Copy-of-Copy-of-Copy-of-nov-6-1.png
END:VEVENT
BEGIN:VEVENT
DTSTART;TZID=America/New_York:20300314T170000
DTEND;TZID=America/New_York:20300314T183000
DTSTAMP:20260425T225351
CREATED:20250827T162933Z
LAST-MODIFIED:20250827T162933Z
UID:10002164-1899738000-1899743400@lehightonlibrary.com
SUMMARY:Game Night
DESCRIPTION:Join us on the 2nd Thursday of each month for Game Night! Come alone and join a game\, or bring friends and family. We provide the games. This program is open to everyone and free of charge.
URL:https://lehightonlibrary.com/event/game-night-2/2030-03-14/
CATEGORIES:3rd - 5th Grade Programs,6th - 8th Grade Programs,Adult Programs,Family Programs,General Interest Programs,Kindergarten to 2nd Grade Programs,Teen & Adult Programs,Teen Programs
ATTACH;FMTTYPE=image/png:https://lehightonlibrary.com/wp-content/uploads/2025/08/2025-Calendar-and-program-list-8.5-x-11-in-11-x-8.5-in.png
END:VEVENT
BEGIN:VEVENT
DTSTART;TZID=America/New_York:20300316T110000
DTEND;TZID=America/New_York:20300316T120000
DTSTAMP:20260425T225351
CREATED:20260424T162748Z
LAST-MODIFIED:20260424T162821Z
UID:10003142-1899889200-1899892800@lehightonlibrary.com
SUMMARY:Art Club
DESCRIPTION:ART Club is a program for kids in Kindergarten\, 1st\, 2nd\, and 3rd grades. \nJoin us the 3rd Saturday of each month. \nKids will use learn about artists\, techniques\, and materials. Hands on projects will help foster creativity! \nRegistration preferred but not required.
URL:https://lehightonlibrary.com/event/art-club-2/2030-03-16/
CATEGORIES:Kindergarten to 2nd Grade Programs
ATTACH;FMTTYPE=image/png:https://lehightonlibrary.com/wp-content/uploads/2025/08/Copy-of-Copy-of-Copy-of-Copy-of-Copy-of-NEW-2025-fall.png
END:VEVENT
BEGIN:VEVENT
DTSTART;TZID=America/New_York:20300328T170000
DTEND;TZID=America/New_York:20300328T183000
DTSTAMP:20260425T225351
CREATED:20250829T194352Z
LAST-MODIFIED:20251118T215526Z
UID:10002771-1900947600-1900953000@lehightonlibrary.com
SUMMARY:Puzzle Night
DESCRIPTION:Join us on the 4th Thursday of each month for Puzzle Night! Come alone or bring friends and family. We provide the puzzles. This program is open to everyone and free of charge.
URL:https://lehightonlibrary.com/event/puzzle-night/2030-03-28/
CATEGORIES:3rd - 5th Grade Programs,6th - 8th Grade Programs,Adult Programs,Family Programs,General Interest Programs,Kindergarten to 2nd Grade Programs,Teen & Adult Programs,Teen Programs
ATTACH;FMTTYPE=image/png:https://lehightonlibrary.com/wp-content/uploads/2025/08/Copy-of-Copy-of-Copy-of-Copy-of-Copy-of-Copy-of-Copy-of-Copy-of-Copy-of-Copy-of-Copy-of-Copy-of-Copy-of-Copy-of-Copy-of-Copy-of-Copy-of-Copy-of-Copy-of-nov-6-1.png
END:VEVENT
BEGIN:VEVENT
DTSTART;TZID=America/New_York:20300411T170000
DTEND;TZID=America/New_York:20300411T183000
DTSTAMP:20260425T225351
CREATED:20250827T162933Z
LAST-MODIFIED:20250827T162933Z
UID:10002165-1902157200-1902162600@lehightonlibrary.com
SUMMARY:Game Night
DESCRIPTION:Join us on the 2nd Thursday of each month for Game Night! Come alone and join a game\, or bring friends and family. We provide the games. This program is open to everyone and free of charge.
URL:https://lehightonlibrary.com/event/game-night-2/2030-04-11/
CATEGORIES:3rd - 5th Grade Programs,6th - 8th Grade Programs,Adult Programs,Family Programs,General Interest Programs,Kindergarten to 2nd Grade Programs,Teen & Adult Programs,Teen Programs
ATTACH;FMTTYPE=image/png:https://lehightonlibrary.com/wp-content/uploads/2025/08/2025-Calendar-and-program-list-8.5-x-11-in-11-x-8.5-in.png
END:VEVENT
BEGIN:VEVENT
DTSTART;TZID=America/New_York:20300420T110000
DTEND;TZID=America/New_York:20300420T120000
DTSTAMP:20260425T225351
CREATED:20260424T162748Z
LAST-MODIFIED:20260424T162821Z
UID:10003143-1902913200-1902916800@lehightonlibrary.com
SUMMARY:Art Club
DESCRIPTION:ART Club is a program for kids in Kindergarten\, 1st\, 2nd\, and 3rd grades. \nJoin us the 3rd Saturday of each month. \nKids will use learn about artists\, techniques\, and materials. Hands on projects will help foster creativity! \nRegistration preferred but not required.
URL:https://lehightonlibrary.com/event/art-club-2/2030-04-20/
CATEGORIES:Kindergarten to 2nd Grade Programs
ATTACH;FMTTYPE=image/png:https://lehightonlibrary.com/wp-content/uploads/2025/08/Copy-of-Copy-of-Copy-of-Copy-of-Copy-of-NEW-2025-fall.png
END:VEVENT
BEGIN:VEVENT
DTSTART;TZID=America/New_York:20300425T170000
DTEND;TZID=America/New_York:20300425T183000
DTSTAMP:20260425T225351
CREATED:20250829T194352Z
LAST-MODIFIED:20251118T215526Z
UID:10002772-1903366800-1903372200@lehightonlibrary.com
SUMMARY:Puzzle Night
DESCRIPTION:Join us on the 4th Thursday of each month for Puzzle Night! Come alone or bring friends and family. We provide the puzzles. This program is open to everyone and free of charge.
URL:https://lehightonlibrary.com/event/puzzle-night/2030-04-25/
CATEGORIES:3rd - 5th Grade Programs,6th - 8th Grade Programs,Adult Programs,Family Programs,General Interest Programs,Kindergarten to 2nd Grade Programs,Teen & Adult Programs,Teen Programs
ATTACH;FMTTYPE=image/png:https://lehightonlibrary.com/wp-content/uploads/2025/08/Copy-of-Copy-of-Copy-of-Copy-of-Copy-of-Copy-of-Copy-of-Copy-of-Copy-of-Copy-of-Copy-of-Copy-of-Copy-of-Copy-of-Copy-of-Copy-of-Copy-of-Copy-of-Copy-of-nov-6-1.png
END:VEVENT
BEGIN:VEVENT
DTSTART;TZID=America/New_York:20300509T170000
DTEND;TZID=America/New_York:20300509T183000
DTSTAMP:20260425T225351
CREATED:20250827T162933Z
LAST-MODIFIED:20250827T162933Z
UID:10002166-1904576400-1904581800@lehightonlibrary.com
SUMMARY:Game Night
DESCRIPTION:Join us on the 2nd Thursday of each month for Game Night! Come alone and join a game\, or bring friends and family. We provide the games. This program is open to everyone and free of charge.
URL:https://lehightonlibrary.com/event/game-night-2/2030-05-09/
CATEGORIES:3rd - 5th Grade Programs,6th - 8th Grade Programs,Adult Programs,Family Programs,General Interest Programs,Kindergarten to 2nd Grade Programs,Teen & Adult Programs,Teen Programs
ATTACH;FMTTYPE=image/png:https://lehightonlibrary.com/wp-content/uploads/2025/08/2025-Calendar-and-program-list-8.5-x-11-in-11-x-8.5-in.png
END:VEVENT
BEGIN:VEVENT
DTSTART;TZID=America/New_York:20300518T110000
DTEND;TZID=America/New_York:20300518T120000
DTSTAMP:20260425T225351
CREATED:20260424T162748Z
LAST-MODIFIED:20260424T162821Z
UID:10003144-1905332400-1905336000@lehightonlibrary.com
SUMMARY:Art Club
DESCRIPTION:ART Club is a program for kids in Kindergarten\, 1st\, 2nd\, and 3rd grades. \nJoin us the 3rd Saturday of each month. \nKids will use learn about artists\, techniques\, and materials. Hands on projects will help foster creativity! \nRegistration preferred but not required.
URL:https://lehightonlibrary.com/event/art-club-2/2030-05-18/
CATEGORIES:Kindergarten to 2nd Grade Programs
ATTACH;FMTTYPE=image/png:https://lehightonlibrary.com/wp-content/uploads/2025/08/Copy-of-Copy-of-Copy-of-Copy-of-Copy-of-NEW-2025-fall.png
END:VEVENT
BEGIN:VEVENT
DTSTART;TZID=America/New_York:20300523T170000
DTEND;TZID=America/New_York:20300523T183000
DTSTAMP:20260425T225351
CREATED:20250829T194352Z
LAST-MODIFIED:20251118T215526Z
UID:10002773-1905786000-1905791400@lehightonlibrary.com
SUMMARY:Puzzle Night
DESCRIPTION:Join us on the 4th Thursday of each month for Puzzle Night! Come alone or bring friends and family. We provide the puzzles. This program is open to everyone and free of charge.
URL:https://lehightonlibrary.com/event/puzzle-night/2030-05-23/
CATEGORIES:3rd - 5th Grade Programs,6th - 8th Grade Programs,Adult Programs,Family Programs,General Interest Programs,Kindergarten to 2nd Grade Programs,Teen & Adult Programs,Teen Programs
ATTACH;FMTTYPE=image/png:https://lehightonlibrary.com/wp-content/uploads/2025/08/Copy-of-Copy-of-Copy-of-Copy-of-Copy-of-Copy-of-Copy-of-Copy-of-Copy-of-Copy-of-Copy-of-Copy-of-Copy-of-Copy-of-Copy-of-Copy-of-Copy-of-Copy-of-Copy-of-nov-6-1.png
END:VEVENT
BEGIN:VEVENT
DTSTART;TZID=America/New_York:20300613T170000
DTEND;TZID=America/New_York:20300613T183000
DTSTAMP:20260425T225351
CREATED:20250827T162933Z
LAST-MODIFIED:20250827T162933Z
UID:10002167-1907600400-1907605800@lehightonlibrary.com
SUMMARY:Game Night
DESCRIPTION:Join us on the 2nd Thursday of each month for Game Night! Come alone and join a game\, or bring friends and family. We provide the games. This program is open to everyone and free of charge.
URL:https://lehightonlibrary.com/event/game-night-2/2030-06-13/
CATEGORIES:3rd - 5th Grade Programs,6th - 8th Grade Programs,Adult Programs,Family Programs,General Interest Programs,Kindergarten to 2nd Grade Programs,Teen & Adult Programs,Teen Programs
ATTACH;FMTTYPE=image/png:https://lehightonlibrary.com/wp-content/uploads/2025/08/2025-Calendar-and-program-list-8.5-x-11-in-11-x-8.5-in.png
END:VEVENT
END:VCALENDAR