BEGIN:VCALENDAR
VERSION:2.0
PRODID:-//Lehighton Area Memorial Library - ECPv6.15.20//NONSGML v1.0//EN
CALSCALE:GREGORIAN
METHOD:PUBLISH
X-ORIGINAL-URL:https://lehightonlibrary.com
X-WR-CALDESC:Events for Lehighton Area Memorial Library
REFRESH-INTERVAL;VALUE=DURATION:PT1H
X-Robots-Tag:noindex
X-PUBLISHED-TTL:PT1H
BEGIN:VTIMEZONE
TZID:America/New_York
BEGIN:DAYLIGHT
TZOFFSETFROM:-0500
TZOFFSETTO:-0400
TZNAME:EDT
DTSTART:20250309T070000
END:DAYLIGHT
BEGIN:STANDARD
TZOFFSETFROM:-0400
TZOFFSETTO:-0500
TZNAME:EST
DTSTART:20251102T060000
END:STANDARD
BEGIN:DAYLIGHT
TZOFFSETFROM:-0500
TZOFFSETTO:-0400
TZNAME:EDT
DTSTART:20260308T070000
END:DAYLIGHT
BEGIN:STANDARD
TZOFFSETFROM:-0400
TZOFFSETTO:-0500
TZNAME:EST
DTSTART:20261101T060000
END:STANDARD
BEGIN:DAYLIGHT
TZOFFSETFROM:-0500
TZOFFSETTO:-0400
TZNAME:EDT
DTSTART:20270314T070000
END:DAYLIGHT
BEGIN:STANDARD
TZOFFSETFROM:-0400
TZOFFSETTO:-0500
TZNAME:EST
DTSTART:20271107T060000
END:STANDARD
END:VTIMEZONE
BEGIN:VEVENT
DTSTART;TZID=America/New_York:20260620T110000
DTEND;TZID=America/New_York:20260620T120000
DTSTAMP:20260425T120811
CREATED:20260424T162748Z
LAST-MODIFIED:20260424T162821Z
UID:10003097-1781953200-1781956800@lehightonlibrary.com
SUMMARY:Art Club
DESCRIPTION:ART Club is a program for kids in Kindergarten\, 1st\, 2nd\, and 3rd grades. \nJoin us the 3rd Saturday of each month. \nKids will use learn about artists\, techniques\, and materials. Hands on projects will help foster creativity! \nRegistration preferred but not required.
URL:https://lehightonlibrary.com/event/art-club-2/2026-06-20/
CATEGORIES:Kindergarten to 2nd Grade Programs
ATTACH;FMTTYPE=image/png:https://lehightonlibrary.com/wp-content/uploads/2025/08/Copy-of-Copy-of-Copy-of-Copy-of-Copy-of-NEW-2025-fall.png
END:VEVENT
END:VCALENDAR