BEGIN:VCALENDAR
VERSION:2.0
PRODID:-//Lehighton Area Memorial Library - ECPv6.15.20//NONSGML v1.0//EN
CALSCALE:GREGORIAN
METHOD:PUBLISH
X-ORIGINAL-URL:https://lehightonlibrary.com
X-WR-CALDESC:Events for Lehighton Area Memorial Library
REFRESH-INTERVAL;VALUE=DURATION:PT1H
X-Robots-Tag:noindex
X-PUBLISHED-TTL:PT1H
BEGIN:VTIMEZONE
TZID:America/New_York
BEGIN:DAYLIGHT
TZOFFSETFROM:-0500
TZOFFSETTO:-0400
TZNAME:EDT
DTSTART:20270314T070000
END:DAYLIGHT
BEGIN:STANDARD
TZOFFSETFROM:-0400
TZOFFSETTO:-0500
TZNAME:EST
DTSTART:20271107T060000
END:STANDARD
BEGIN:DAYLIGHT
TZOFFSETFROM:-0500
TZOFFSETTO:-0400
TZNAME:EDT
DTSTART:20280312T070000
END:DAYLIGHT
BEGIN:STANDARD
TZOFFSETFROM:-0400
TZOFFSETTO:-0500
TZNAME:EST
DTSTART:20281105T060000
END:STANDARD
BEGIN:DAYLIGHT
TZOFFSETFROM:-0500
TZOFFSETTO:-0400
TZNAME:EDT
DTSTART:20290311T070000
END:DAYLIGHT
BEGIN:STANDARD
TZOFFSETFROM:-0400
TZOFFSETTO:-0500
TZNAME:EST
DTSTART:20291104T060000
END:STANDARD
END:VTIMEZONE
BEGIN:VEVENT
DTSTART;TZID=America/New_York:20280201T173000
DTEND;TZID=America/New_York:20280201T183000
DTSTAMP:20260419T224435
CREATED:20260327T171622Z
LAST-MODIFIED:20260327T171622Z
UID:10003047-1833039000-1833042600@lehightonlibrary.com
SUMMARY:Family Storytime
DESCRIPTION:Join us on the First Tuesday of Each Month at 5:30 PM \nThe activities are designed for Preschool to 1st Grade and can be enjoyed by all ages.
URL:https://lehightonlibrary.com/event/family-storytime-2/2028-02-01/
CATEGORIES:Family Programs
ATTACH;FMTTYPE=image/png:https://lehightonlibrary.com/wp-content/uploads/2026/03/Copy-of-Copy-of-Copy-of-Copy-of-2026-WINTER-Posts-1080-x-1080-px.png
END:VEVENT
BEGIN:VEVENT
DTSTART;TZID=America/New_York:20280205T120000
DTEND;TZID=America/New_York:20280205T130000
DTSTAMP:20260419T224435
CREATED:20260116T211344Z
LAST-MODIFIED:20260327T171817Z
UID:10002865-1833364800-1833368400@lehightonlibrary.com
SUMMARY:Family Storytime
DESCRIPTION:Join us on the First Saturday of Each Month 12-1 pm \nThe activities are designed for Preschool to 1st Grade and can be enjoyed by all ages.
URL:https://lehightonlibrary.com/event/family-storytime/2028-02-05/
CATEGORIES:Family Programs
ATTACH;FMTTYPE=image/png:https://lehightonlibrary.com/wp-content/uploads/2026/03/Copy-of-Copy-of-Copy-of-Copy-of-2026-WINTER-Posts-1080-x-1080-px.png
END:VEVENT
BEGIN:VEVENT
DTSTART;TZID=America/New_York:20280210T170000
DTEND;TZID=America/New_York:20280210T183000
DTSTAMP:20260419T224435
CREATED:20250827T162933Z
LAST-MODIFIED:20250827T162933Z
UID:10002139-1833814800-1833820200@lehightonlibrary.com
SUMMARY:Game Night
DESCRIPTION:Join us on the 2nd Thursday of each month for Game Night! Come alone and join a game\, or bring friends and family. We provide the games. This program is open to everyone and free of charge.
URL:https://lehightonlibrary.com/event/game-night-2/2028-02-10/
CATEGORIES:3rd - 5th Grade Programs,6th - 8th Grade Programs,Adult Programs,Family Programs,General Interest Programs,Kindergarten to 2nd Grade Programs,Teen & Adult Programs,Teen Programs
ATTACH;FMTTYPE=image/png:https://lehightonlibrary.com/wp-content/uploads/2025/08/2025-Calendar-and-program-list-8.5-x-11-in-11-x-8.5-in.png
END:VEVENT
BEGIN:VEVENT
DTSTART;TZID=America/New_York:20280224T170000
DTEND;TZID=America/New_York:20280224T183000
DTSTAMP:20260419T224435
CREATED:20250829T194352Z
LAST-MODIFIED:20251118T215526Z
UID:10002746-1835024400-1835029800@lehightonlibrary.com
SUMMARY:Puzzle Night
DESCRIPTION:Join us on the 4th Thursday of each month for Puzzle Night! Come alone or bring friends and family. We provide the puzzles. This program is open to everyone and free of charge.
URL:https://lehightonlibrary.com/event/puzzle-night/2028-02-24/
CATEGORIES:3rd - 5th Grade Programs,6th - 8th Grade Programs,Adult Programs,Family Programs,General Interest Programs,Kindergarten to 2nd Grade Programs,Teen & Adult Programs,Teen Programs
ATTACH;FMTTYPE=image/png:https://lehightonlibrary.com/wp-content/uploads/2025/08/Copy-of-Copy-of-Copy-of-Copy-of-Copy-of-Copy-of-Copy-of-Copy-of-Copy-of-Copy-of-Copy-of-Copy-of-Copy-of-Copy-of-Copy-of-Copy-of-Copy-of-Copy-of-Copy-of-nov-6-1.png
END:VEVENT
BEGIN:VEVENT
DTSTART;TZID=America/New_York:20280304T120000
DTEND;TZID=America/New_York:20280304T130000
DTSTAMP:20260419T224435
CREATED:20260116T211344Z
LAST-MODIFIED:20260327T171817Z
UID:10002866-1835784000-1835787600@lehightonlibrary.com
SUMMARY:Family Storytime
DESCRIPTION:Join us on the First Saturday of Each Month 12-1 pm \nThe activities are designed for Preschool to 1st Grade and can be enjoyed by all ages.
URL:https://lehightonlibrary.com/event/family-storytime/2028-03-04/
CATEGORIES:Family Programs
ATTACH;FMTTYPE=image/png:https://lehightonlibrary.com/wp-content/uploads/2026/03/Copy-of-Copy-of-Copy-of-Copy-of-2026-WINTER-Posts-1080-x-1080-px.png
END:VEVENT
BEGIN:VEVENT
DTSTART;TZID=America/New_York:20280307T173000
DTEND;TZID=America/New_York:20280307T183000
DTSTAMP:20260419T224435
CREATED:20260327T171622Z
LAST-MODIFIED:20260327T171622Z
UID:10003048-1836063000-1836066600@lehightonlibrary.com
SUMMARY:Family Storytime
DESCRIPTION:Join us on the First Tuesday of Each Month at 5:30 PM \nThe activities are designed for Preschool to 1st Grade and can be enjoyed by all ages.
URL:https://lehightonlibrary.com/event/family-storytime-2/2028-03-07/
CATEGORIES:Family Programs
ATTACH;FMTTYPE=image/png:https://lehightonlibrary.com/wp-content/uploads/2026/03/Copy-of-Copy-of-Copy-of-Copy-of-2026-WINTER-Posts-1080-x-1080-px.png
END:VEVENT
BEGIN:VEVENT
DTSTART;TZID=America/New_York:20280309T170000
DTEND;TZID=America/New_York:20280309T183000
DTSTAMP:20260419T224435
CREATED:20250827T162933Z
LAST-MODIFIED:20250827T162933Z
UID:10002140-1836234000-1836239400@lehightonlibrary.com
SUMMARY:Game Night
DESCRIPTION:Join us on the 2nd Thursday of each month for Game Night! Come alone and join a game\, or bring friends and family. We provide the games. This program is open to everyone and free of charge.
URL:https://lehightonlibrary.com/event/game-night-2/2028-03-09/
CATEGORIES:3rd - 5th Grade Programs,6th - 8th Grade Programs,Adult Programs,Family Programs,General Interest Programs,Kindergarten to 2nd Grade Programs,Teen & Adult Programs,Teen Programs
ATTACH;FMTTYPE=image/png:https://lehightonlibrary.com/wp-content/uploads/2025/08/2025-Calendar-and-program-list-8.5-x-11-in-11-x-8.5-in.png
END:VEVENT
BEGIN:VEVENT
DTSTART;TZID=America/New_York:20280323T170000
DTEND;TZID=America/New_York:20280323T183000
DTSTAMP:20260419T224435
CREATED:20250829T194352Z
LAST-MODIFIED:20251118T215526Z
UID:10002747-1837443600-1837449000@lehightonlibrary.com
SUMMARY:Puzzle Night
DESCRIPTION:Join us on the 4th Thursday of each month for Puzzle Night! Come alone or bring friends and family. We provide the puzzles. This program is open to everyone and free of charge.
URL:https://lehightonlibrary.com/event/puzzle-night/2028-03-23/
CATEGORIES:3rd - 5th Grade Programs,6th - 8th Grade Programs,Adult Programs,Family Programs,General Interest Programs,Kindergarten to 2nd Grade Programs,Teen & Adult Programs,Teen Programs
ATTACH;FMTTYPE=image/png:https://lehightonlibrary.com/wp-content/uploads/2025/08/Copy-of-Copy-of-Copy-of-Copy-of-Copy-of-Copy-of-Copy-of-Copy-of-Copy-of-Copy-of-Copy-of-Copy-of-Copy-of-Copy-of-Copy-of-Copy-of-Copy-of-Copy-of-Copy-of-nov-6-1.png
END:VEVENT
BEGIN:VEVENT
DTSTART;TZID=America/New_York:20280401T120000
DTEND;TZID=America/New_York:20280401T130000
DTSTAMP:20260419T224435
CREATED:20260116T211344Z
LAST-MODIFIED:20260327T171817Z
UID:10002867-1838203200-1838206800@lehightonlibrary.com
SUMMARY:Family Storytime
DESCRIPTION:Join us on the First Saturday of Each Month 12-1 pm \nThe activities are designed for Preschool to 1st Grade and can be enjoyed by all ages.
URL:https://lehightonlibrary.com/event/family-storytime/2028-04-01/
CATEGORIES:Family Programs
ATTACH;FMTTYPE=image/png:https://lehightonlibrary.com/wp-content/uploads/2026/03/Copy-of-Copy-of-Copy-of-Copy-of-2026-WINTER-Posts-1080-x-1080-px.png
END:VEVENT
BEGIN:VEVENT
DTSTART;TZID=America/New_York:20280404T173000
DTEND;TZID=America/New_York:20280404T183000
DTSTAMP:20260419T224435
CREATED:20260327T171622Z
LAST-MODIFIED:20260327T171622Z
UID:10003049-1838482200-1838485800@lehightonlibrary.com
SUMMARY:Family Storytime
DESCRIPTION:Join us on the First Tuesday of Each Month at 5:30 PM \nThe activities are designed for Preschool to 1st Grade and can be enjoyed by all ages.
URL:https://lehightonlibrary.com/event/family-storytime-2/2028-04-04/
CATEGORIES:Family Programs
ATTACH;FMTTYPE=image/png:https://lehightonlibrary.com/wp-content/uploads/2026/03/Copy-of-Copy-of-Copy-of-Copy-of-2026-WINTER-Posts-1080-x-1080-px.png
END:VEVENT
BEGIN:VEVENT
DTSTART;TZID=America/New_York:20280413T170000
DTEND;TZID=America/New_York:20280413T183000
DTSTAMP:20260419T224435
CREATED:20250827T162933Z
LAST-MODIFIED:20250827T162933Z
UID:10002141-1839258000-1839263400@lehightonlibrary.com
SUMMARY:Game Night
DESCRIPTION:Join us on the 2nd Thursday of each month for Game Night! Come alone and join a game\, or bring friends and family. We provide the games. This program is open to everyone and free of charge.
URL:https://lehightonlibrary.com/event/game-night-2/2028-04-13/
CATEGORIES:3rd - 5th Grade Programs,6th - 8th Grade Programs,Adult Programs,Family Programs,General Interest Programs,Kindergarten to 2nd Grade Programs,Teen & Adult Programs,Teen Programs
ATTACH;FMTTYPE=image/png:https://lehightonlibrary.com/wp-content/uploads/2025/08/2025-Calendar-and-program-list-8.5-x-11-in-11-x-8.5-in.png
END:VEVENT
BEGIN:VEVENT
DTSTART;TZID=America/New_York:20280427T170000
DTEND;TZID=America/New_York:20280427T183000
DTSTAMP:20260419T224435
CREATED:20250829T194352Z
LAST-MODIFIED:20251118T215526Z
UID:10002748-1840467600-1840473000@lehightonlibrary.com
SUMMARY:Puzzle Night
DESCRIPTION:Join us on the 4th Thursday of each month for Puzzle Night! Come alone or bring friends and family. We provide the puzzles. This program is open to everyone and free of charge.
URL:https://lehightonlibrary.com/event/puzzle-night/2028-04-27/
CATEGORIES:3rd - 5th Grade Programs,6th - 8th Grade Programs,Adult Programs,Family Programs,General Interest Programs,Kindergarten to 2nd Grade Programs,Teen & Adult Programs,Teen Programs
ATTACH;FMTTYPE=image/png:https://lehightonlibrary.com/wp-content/uploads/2025/08/Copy-of-Copy-of-Copy-of-Copy-of-Copy-of-Copy-of-Copy-of-Copy-of-Copy-of-Copy-of-Copy-of-Copy-of-Copy-of-Copy-of-Copy-of-Copy-of-Copy-of-Copy-of-Copy-of-nov-6-1.png
END:VEVENT
BEGIN:VEVENT
DTSTART;TZID=America/New_York:20280502T173000
DTEND;TZID=America/New_York:20280502T183000
DTSTAMP:20260419T224435
CREATED:20260327T171622Z
LAST-MODIFIED:20260327T171622Z
UID:10003050-1840901400-1840905000@lehightonlibrary.com
SUMMARY:Family Storytime
DESCRIPTION:Join us on the First Tuesday of Each Month at 5:30 PM \nThe activities are designed for Preschool to 1st Grade and can be enjoyed by all ages.
URL:https://lehightonlibrary.com/event/family-storytime-2/2028-05-02/
CATEGORIES:Family Programs
ATTACH;FMTTYPE=image/png:https://lehightonlibrary.com/wp-content/uploads/2026/03/Copy-of-Copy-of-Copy-of-Copy-of-2026-WINTER-Posts-1080-x-1080-px.png
END:VEVENT
BEGIN:VEVENT
DTSTART;TZID=America/New_York:20280506T120000
DTEND;TZID=America/New_York:20280506T130000
DTSTAMP:20260419T224435
CREATED:20260116T211344Z
LAST-MODIFIED:20260327T171817Z
UID:10002868-1841227200-1841230800@lehightonlibrary.com
SUMMARY:Family Storytime
DESCRIPTION:Join us on the First Saturday of Each Month 12-1 pm \nThe activities are designed for Preschool to 1st Grade and can be enjoyed by all ages.
URL:https://lehightonlibrary.com/event/family-storytime/2028-05-06/
CATEGORIES:Family Programs
ATTACH;FMTTYPE=image/png:https://lehightonlibrary.com/wp-content/uploads/2026/03/Copy-of-Copy-of-Copy-of-Copy-of-2026-WINTER-Posts-1080-x-1080-px.png
END:VEVENT
BEGIN:VEVENT
DTSTART;TZID=America/New_York:20280511T170000
DTEND;TZID=America/New_York:20280511T183000
DTSTAMP:20260419T224435
CREATED:20250827T162933Z
LAST-MODIFIED:20250827T162933Z
UID:10002142-1841677200-1841682600@lehightonlibrary.com
SUMMARY:Game Night
DESCRIPTION:Join us on the 2nd Thursday of each month for Game Night! Come alone and join a game\, or bring friends and family. We provide the games. This program is open to everyone and free of charge.
URL:https://lehightonlibrary.com/event/game-night-2/2028-05-11/
CATEGORIES:3rd - 5th Grade Programs,6th - 8th Grade Programs,Adult Programs,Family Programs,General Interest Programs,Kindergarten to 2nd Grade Programs,Teen & Adult Programs,Teen Programs
ATTACH;FMTTYPE=image/png:https://lehightonlibrary.com/wp-content/uploads/2025/08/2025-Calendar-and-program-list-8.5-x-11-in-11-x-8.5-in.png
END:VEVENT
BEGIN:VEVENT
DTSTART;TZID=America/New_York:20280525T170000
DTEND;TZID=America/New_York:20280525T183000
DTSTAMP:20260419T224435
CREATED:20250829T194352Z
LAST-MODIFIED:20251118T215526Z
UID:10002749-1842886800-1842892200@lehightonlibrary.com
SUMMARY:Puzzle Night
DESCRIPTION:Join us on the 4th Thursday of each month for Puzzle Night! Come alone or bring friends and family. We provide the puzzles. This program is open to everyone and free of charge.
URL:https://lehightonlibrary.com/event/puzzle-night/2028-05-25/
CATEGORIES:3rd - 5th Grade Programs,6th - 8th Grade Programs,Adult Programs,Family Programs,General Interest Programs,Kindergarten to 2nd Grade Programs,Teen & Adult Programs,Teen Programs
ATTACH;FMTTYPE=image/png:https://lehightonlibrary.com/wp-content/uploads/2025/08/Copy-of-Copy-of-Copy-of-Copy-of-Copy-of-Copy-of-Copy-of-Copy-of-Copy-of-Copy-of-Copy-of-Copy-of-Copy-of-Copy-of-Copy-of-Copy-of-Copy-of-Copy-of-Copy-of-nov-6-1.png
END:VEVENT
BEGIN:VEVENT
DTSTART;TZID=America/New_York:20280603T120000
DTEND;TZID=America/New_York:20280603T130000
DTSTAMP:20260419T224435
CREATED:20260116T211344Z
LAST-MODIFIED:20260327T171817Z
UID:10002869-1843646400-1843650000@lehightonlibrary.com
SUMMARY:Family Storytime
DESCRIPTION:Join us on the First Saturday of Each Month 12-1 pm \nThe activities are designed for Preschool to 1st Grade and can be enjoyed by all ages.
URL:https://lehightonlibrary.com/event/family-storytime/2028-06-03/
CATEGORIES:Family Programs
ATTACH;FMTTYPE=image/png:https://lehightonlibrary.com/wp-content/uploads/2026/03/Copy-of-Copy-of-Copy-of-Copy-of-2026-WINTER-Posts-1080-x-1080-px.png
END:VEVENT
BEGIN:VEVENT
DTSTART;TZID=America/New_York:20280606T173000
DTEND;TZID=America/New_York:20280606T183000
DTSTAMP:20260419T224435
CREATED:20260327T171622Z
LAST-MODIFIED:20260327T171622Z
UID:10003051-1843925400-1843929000@lehightonlibrary.com
SUMMARY:Family Storytime
DESCRIPTION:Join us on the First Tuesday of Each Month at 5:30 PM \nThe activities are designed for Preschool to 1st Grade and can be enjoyed by all ages.
URL:https://lehightonlibrary.com/event/family-storytime-2/2028-06-06/
CATEGORIES:Family Programs
ATTACH;FMTTYPE=image/png:https://lehightonlibrary.com/wp-content/uploads/2026/03/Copy-of-Copy-of-Copy-of-Copy-of-2026-WINTER-Posts-1080-x-1080-px.png
END:VEVENT
BEGIN:VEVENT
DTSTART;TZID=America/New_York:20280608T170000
DTEND;TZID=America/New_York:20280608T183000
DTSTAMP:20260419T224435
CREATED:20250827T162933Z
LAST-MODIFIED:20250827T162933Z
UID:10002143-1844096400-1844101800@lehightonlibrary.com
SUMMARY:Game Night
DESCRIPTION:Join us on the 2nd Thursday of each month for Game Night! Come alone and join a game\, or bring friends and family. We provide the games. This program is open to everyone and free of charge.
URL:https://lehightonlibrary.com/event/game-night-2/2028-06-08/
CATEGORIES:3rd - 5th Grade Programs,6th - 8th Grade Programs,Adult Programs,Family Programs,General Interest Programs,Kindergarten to 2nd Grade Programs,Teen & Adult Programs,Teen Programs
ATTACH;FMTTYPE=image/png:https://lehightonlibrary.com/wp-content/uploads/2025/08/2025-Calendar-and-program-list-8.5-x-11-in-11-x-8.5-in.png
END:VEVENT
BEGIN:VEVENT
DTSTART;TZID=America/New_York:20280622T170000
DTEND;TZID=America/New_York:20280622T183000
DTSTAMP:20260419T224435
CREATED:20250829T194352Z
LAST-MODIFIED:20251118T215526Z
UID:10002750-1845306000-1845311400@lehightonlibrary.com
SUMMARY:Puzzle Night
DESCRIPTION:Join us on the 4th Thursday of each month for Puzzle Night! Come alone or bring friends and family. We provide the puzzles. This program is open to everyone and free of charge.
URL:https://lehightonlibrary.com/event/puzzle-night/2028-06-22/
CATEGORIES:3rd - 5th Grade Programs,6th - 8th Grade Programs,Adult Programs,Family Programs,General Interest Programs,Kindergarten to 2nd Grade Programs,Teen & Adult Programs,Teen Programs
ATTACH;FMTTYPE=image/png:https://lehightonlibrary.com/wp-content/uploads/2025/08/Copy-of-Copy-of-Copy-of-Copy-of-Copy-of-Copy-of-Copy-of-Copy-of-Copy-of-Copy-of-Copy-of-Copy-of-Copy-of-Copy-of-Copy-of-Copy-of-Copy-of-Copy-of-Copy-of-nov-6-1.png
END:VEVENT
BEGIN:VEVENT
DTSTART;TZID=America/New_York:20280701T120000
DTEND;TZID=America/New_York:20280701T130000
DTSTAMP:20260419T224435
CREATED:20260116T211344Z
LAST-MODIFIED:20260327T171817Z
UID:10002870-1846065600-1846069200@lehightonlibrary.com
SUMMARY:Family Storytime
DESCRIPTION:Join us on the First Saturday of Each Month 12-1 pm \nThe activities are designed for Preschool to 1st Grade and can be enjoyed by all ages.
URL:https://lehightonlibrary.com/event/family-storytime/2028-07-01/
CATEGORIES:Family Programs
ATTACH;FMTTYPE=image/png:https://lehightonlibrary.com/wp-content/uploads/2026/03/Copy-of-Copy-of-Copy-of-Copy-of-2026-WINTER-Posts-1080-x-1080-px.png
END:VEVENT
BEGIN:VEVENT
DTSTART;TZID=America/New_York:20280704T173000
DTEND;TZID=America/New_York:20280704T183000
DTSTAMP:20260419T224435
CREATED:20260327T171622Z
LAST-MODIFIED:20260327T171622Z
UID:10003052-1846344600-1846348200@lehightonlibrary.com
SUMMARY:Family Storytime
DESCRIPTION:Join us on the First Tuesday of Each Month at 5:30 PM \nThe activities are designed for Preschool to 1st Grade and can be enjoyed by all ages.
URL:https://lehightonlibrary.com/event/family-storytime-2/2028-07-04/
CATEGORIES:Family Programs
ATTACH;FMTTYPE=image/png:https://lehightonlibrary.com/wp-content/uploads/2026/03/Copy-of-Copy-of-Copy-of-Copy-of-2026-WINTER-Posts-1080-x-1080-px.png
END:VEVENT
BEGIN:VEVENT
DTSTART;TZID=America/New_York:20280713T170000
DTEND;TZID=America/New_York:20280713T183000
DTSTAMP:20260419T224435
CREATED:20250827T162933Z
LAST-MODIFIED:20250827T162933Z
UID:10002144-1847120400-1847125800@lehightonlibrary.com
SUMMARY:Game Night
DESCRIPTION:Join us on the 2nd Thursday of each month for Game Night! Come alone and join a game\, or bring friends and family. We provide the games. This program is open to everyone and free of charge.
URL:https://lehightonlibrary.com/event/game-night-2/2028-07-13/
CATEGORIES:3rd - 5th Grade Programs,6th - 8th Grade Programs,Adult Programs,Family Programs,General Interest Programs,Kindergarten to 2nd Grade Programs,Teen & Adult Programs,Teen Programs
ATTACH;FMTTYPE=image/png:https://lehightonlibrary.com/wp-content/uploads/2025/08/2025-Calendar-and-program-list-8.5-x-11-in-11-x-8.5-in.png
END:VEVENT
BEGIN:VEVENT
DTSTART;TZID=America/New_York:20280727T170000
DTEND;TZID=America/New_York:20280727T183000
DTSTAMP:20260419T224435
CREATED:20250829T194352Z
LAST-MODIFIED:20251118T215526Z
UID:10002751-1848330000-1848335400@lehightonlibrary.com
SUMMARY:Puzzle Night
DESCRIPTION:Join us on the 4th Thursday of each month for Puzzle Night! Come alone or bring friends and family. We provide the puzzles. This program is open to everyone and free of charge.
URL:https://lehightonlibrary.com/event/puzzle-night/2028-07-27/
CATEGORIES:3rd - 5th Grade Programs,6th - 8th Grade Programs,Adult Programs,Family Programs,General Interest Programs,Kindergarten to 2nd Grade Programs,Teen & Adult Programs,Teen Programs
ATTACH;FMTTYPE=image/png:https://lehightonlibrary.com/wp-content/uploads/2025/08/Copy-of-Copy-of-Copy-of-Copy-of-Copy-of-Copy-of-Copy-of-Copy-of-Copy-of-Copy-of-Copy-of-Copy-of-Copy-of-Copy-of-Copy-of-Copy-of-Copy-of-Copy-of-Copy-of-nov-6-1.png
END:VEVENT
BEGIN:VEVENT
DTSTART;TZID=America/New_York:20280801T173000
DTEND;TZID=America/New_York:20280801T183000
DTSTAMP:20260419T224435
CREATED:20260327T171622Z
LAST-MODIFIED:20260327T171622Z
UID:10003053-1848763800-1848767400@lehightonlibrary.com
SUMMARY:Family Storytime
DESCRIPTION:Join us on the First Tuesday of Each Month at 5:30 PM \nThe activities are designed for Preschool to 1st Grade and can be enjoyed by all ages.
URL:https://lehightonlibrary.com/event/family-storytime-2/2028-08-01/
CATEGORIES:Family Programs
ATTACH;FMTTYPE=image/png:https://lehightonlibrary.com/wp-content/uploads/2026/03/Copy-of-Copy-of-Copy-of-Copy-of-2026-WINTER-Posts-1080-x-1080-px.png
END:VEVENT
BEGIN:VEVENT
DTSTART;TZID=America/New_York:20280805T120000
DTEND;TZID=America/New_York:20280805T130000
DTSTAMP:20260419T224435
CREATED:20260116T211344Z
LAST-MODIFIED:20260327T171817Z
UID:10002871-1849089600-1849093200@lehightonlibrary.com
SUMMARY:Family Storytime
DESCRIPTION:Join us on the First Saturday of Each Month 12-1 pm \nThe activities are designed for Preschool to 1st Grade and can be enjoyed by all ages.
URL:https://lehightonlibrary.com/event/family-storytime/2028-08-05/
CATEGORIES:Family Programs
ATTACH;FMTTYPE=image/png:https://lehightonlibrary.com/wp-content/uploads/2026/03/Copy-of-Copy-of-Copy-of-Copy-of-2026-WINTER-Posts-1080-x-1080-px.png
END:VEVENT
BEGIN:VEVENT
DTSTART;TZID=America/New_York:20280810T170000
DTEND;TZID=America/New_York:20280810T183000
DTSTAMP:20260419T224435
CREATED:20250827T162933Z
LAST-MODIFIED:20250827T162933Z
UID:10002145-1849539600-1849545000@lehightonlibrary.com
SUMMARY:Game Night
DESCRIPTION:Join us on the 2nd Thursday of each month for Game Night! Come alone and join a game\, or bring friends and family. We provide the games. This program is open to everyone and free of charge.
URL:https://lehightonlibrary.com/event/game-night-2/2028-08-10/
CATEGORIES:3rd - 5th Grade Programs,6th - 8th Grade Programs,Adult Programs,Family Programs,General Interest Programs,Kindergarten to 2nd Grade Programs,Teen & Adult Programs,Teen Programs
ATTACH;FMTTYPE=image/png:https://lehightonlibrary.com/wp-content/uploads/2025/08/2025-Calendar-and-program-list-8.5-x-11-in-11-x-8.5-in.png
END:VEVENT
BEGIN:VEVENT
DTSTART;TZID=America/New_York:20280824T170000
DTEND;TZID=America/New_York:20280824T183000
DTSTAMP:20260419T224435
CREATED:20250829T194352Z
LAST-MODIFIED:20251118T215526Z
UID:10002752-1850749200-1850754600@lehightonlibrary.com
SUMMARY:Puzzle Night
DESCRIPTION:Join us on the 4th Thursday of each month for Puzzle Night! Come alone or bring friends and family. We provide the puzzles. This program is open to everyone and free of charge.
URL:https://lehightonlibrary.com/event/puzzle-night/2028-08-24/
CATEGORIES:3rd - 5th Grade Programs,6th - 8th Grade Programs,Adult Programs,Family Programs,General Interest Programs,Kindergarten to 2nd Grade Programs,Teen & Adult Programs,Teen Programs
ATTACH;FMTTYPE=image/png:https://lehightonlibrary.com/wp-content/uploads/2025/08/Copy-of-Copy-of-Copy-of-Copy-of-Copy-of-Copy-of-Copy-of-Copy-of-Copy-of-Copy-of-Copy-of-Copy-of-Copy-of-Copy-of-Copy-of-Copy-of-Copy-of-Copy-of-Copy-of-nov-6-1.png
END:VEVENT
BEGIN:VEVENT
DTSTART;TZID=America/New_York:20280902T120000
DTEND;TZID=America/New_York:20280902T130000
DTSTAMP:20260419T224435
CREATED:20260116T211344Z
LAST-MODIFIED:20260327T171817Z
UID:10002872-1851508800-1851512400@lehightonlibrary.com
SUMMARY:Family Storytime
DESCRIPTION:Join us on the First Saturday of Each Month 12-1 pm \nThe activities are designed for Preschool to 1st Grade and can be enjoyed by all ages.
URL:https://lehightonlibrary.com/event/family-storytime/2028-09-02/
CATEGORIES:Family Programs
ATTACH;FMTTYPE=image/png:https://lehightonlibrary.com/wp-content/uploads/2026/03/Copy-of-Copy-of-Copy-of-Copy-of-2026-WINTER-Posts-1080-x-1080-px.png
END:VEVENT
BEGIN:VEVENT
DTSTART;TZID=America/New_York:20280905T173000
DTEND;TZID=America/New_York:20280905T183000
DTSTAMP:20260419T224435
CREATED:20260327T171622Z
LAST-MODIFIED:20260327T171622Z
UID:10003054-1851787800-1851791400@lehightonlibrary.com
SUMMARY:Family Storytime
DESCRIPTION:Join us on the First Tuesday of Each Month at 5:30 PM \nThe activities are designed for Preschool to 1st Grade and can be enjoyed by all ages.
URL:https://lehightonlibrary.com/event/family-storytime-2/2028-09-05/
CATEGORIES:Family Programs
ATTACH;FMTTYPE=image/png:https://lehightonlibrary.com/wp-content/uploads/2026/03/Copy-of-Copy-of-Copy-of-Copy-of-2026-WINTER-Posts-1080-x-1080-px.png
END:VEVENT
END:VCALENDAR