BEGIN:VCALENDAR
VERSION:2.0
PRODID:-//Lehighton Area Memorial Library - ECPv6.15.20//NONSGML v1.0//EN
CALSCALE:GREGORIAN
METHOD:PUBLISH
X-WR-CALNAME:Lehighton Area Memorial Library
X-ORIGINAL-URL:https://lehightonlibrary.com
X-WR-CALDESC:Events for Lehighton Area Memorial Library
REFRESH-INTERVAL;VALUE=DURATION:PT1H
X-Robots-Tag:noindex
X-PUBLISHED-TTL:PT1H
BEGIN:VTIMEZONE
TZID:UTC
BEGIN:STANDARD
TZOFFSETFROM:+0000
TZOFFSETTO:+0000
TZNAME:UTC
DTSTART:20250101T000000
END:STANDARD
END:VTIMEZONE
BEGIN:VTIMEZONE
TZID:America/New_York
BEGIN:DAYLIGHT
TZOFFSETFROM:-0500
TZOFFSETTO:-0400
TZNAME:EDT
DTSTART:20250309T070000
END:DAYLIGHT
BEGIN:STANDARD
TZOFFSETFROM:-0400
TZOFFSETTO:-0500
TZNAME:EST
DTSTART:20251102T060000
END:STANDARD
BEGIN:DAYLIGHT
TZOFFSETFROM:-0500
TZOFFSETTO:-0400
TZNAME:EDT
DTSTART:20260308T070000
END:DAYLIGHT
BEGIN:STANDARD
TZOFFSETFROM:-0400
TZOFFSETTO:-0500
TZNAME:EST
DTSTART:20261101T060000
END:STANDARD
BEGIN:DAYLIGHT
TZOFFSETFROM:-0500
TZOFFSETTO:-0400
TZNAME:EDT
DTSTART:20270314T070000
END:DAYLIGHT
BEGIN:STANDARD
TZOFFSETFROM:-0400
TZOFFSETTO:-0500
TZNAME:EST
DTSTART:20271107T060000
END:STANDARD
BEGIN:DAYLIGHT
TZOFFSETFROM:-0500
TZOFFSETTO:-0400
TZNAME:EDT
DTSTART:20280312T070000
END:DAYLIGHT
BEGIN:STANDARD
TZOFFSETFROM:-0400
TZOFFSETTO:-0500
TZNAME:EST
DTSTART:20281105T060000
END:STANDARD
END:VTIMEZONE
BEGIN:VEVENT
DTSTART;TZID=UTC:20261014T103000
DTEND;TZID=UTC:20261014T113000
DTSTAMP:20260424T121703
CREATED:20230902T023317Z
LAST-MODIFIED:20250611T151300Z
UID:10000216-1791973800-1791977400@lehightonlibrary.com
SUMMARY:Preschool Storytime
DESCRIPTION:Recommended for children ages 3 to 6 and their caregivers. \nEnjoy stories\, music\, and crafts! \nFree and open to all!  \nNo registration required.
URL:https://lehightonlibrary.com/event/preschool-storytime/2026-10-14/
CATEGORIES:Baby, Toddler, and Preschooler Programs
ATTACH;FMTTYPE=image/png:https://lehightonlibrary.com/wp-content/uploads/2023/05/Copy-of-Copy-of-4Copy-of-INSTA-story-2023-new-2023-programs-FB-Facebook-Post-Landscape-Instagram-Story-Instagram-Post-Square-2.png
END:VEVENT
BEGIN:VEVENT
DTSTART;TZID=America/New_York:20261016T103000
DTEND;TZID=America/New_York:20261016T105000
DTSTAMP:20260424T121704
CREATED:20241230T165813Z
LAST-MODIFIED:20260319T201858Z
UID:10000858-1792146600-1792147800@lehightonlibrary.com
SUMMARY:Baby & Toddler Time
DESCRIPTION:These 20 minute sessions introduce developmentally appropriate songs\, rhymes\, fingerplays\, and action rhymes. \nBaby & Toddler Time is a wonderful way to introduce your child to the joys of language in a relaxed and fun atmosphere. This program is designed so the child is with their caregiver and the\ngrownup is actively involved. \nThis program is recommended for babies and toddlers\, 6 to 36 months and their caregivers. Registration and attendance every week is not required.
URL:https://lehightonlibrary.com/event/baby-toddler-time/2026-10-16/
CATEGORIES:Baby, Toddler, and Preschooler Programs
ATTACH;FMTTYPE=image/png:https://lehightonlibrary.com/wp-content/uploads/2023/05/Copy-of-Copy-of-4Copy-of-INSTA-story-2023-new-2023-programs-FB-Facebook-Post-Landscape-Instagram-Story-Instagram-Post-Square-3.png
END:VEVENT
BEGIN:VEVENT
DTSTART;TZID=UTC:20261021T103000
DTEND;TZID=UTC:20261021T113000
DTSTAMP:20260424T121704
CREATED:20230902T023317Z
LAST-MODIFIED:20250611T151300Z
UID:10000217-1792578600-1792582200@lehightonlibrary.com
SUMMARY:Preschool Storytime
DESCRIPTION:Recommended for children ages 3 to 6 and their caregivers. \nEnjoy stories\, music\, and crafts! \nFree and open to all!  \nNo registration required.
URL:https://lehightonlibrary.com/event/preschool-storytime/2026-10-21/
CATEGORIES:Baby, Toddler, and Preschooler Programs
ATTACH;FMTTYPE=image/png:https://lehightonlibrary.com/wp-content/uploads/2023/05/Copy-of-Copy-of-4Copy-of-INSTA-story-2023-new-2023-programs-FB-Facebook-Post-Landscape-Instagram-Story-Instagram-Post-Square-2.png
END:VEVENT
BEGIN:VEVENT
DTSTART;TZID=America/New_York:20261023T103000
DTEND;TZID=America/New_York:20261023T105000
DTSTAMP:20260424T121704
CREATED:20241230T165813Z
LAST-MODIFIED:20260319T201858Z
UID:10000859-1792751400-1792752600@lehightonlibrary.com
SUMMARY:Baby & Toddler Time
DESCRIPTION:These 20 minute sessions introduce developmentally appropriate songs\, rhymes\, fingerplays\, and action rhymes. \nBaby & Toddler Time is a wonderful way to introduce your child to the joys of language in a relaxed and fun atmosphere. This program is designed so the child is with their caregiver and the\ngrownup is actively involved. \nThis program is recommended for babies and toddlers\, 6 to 36 months and their caregivers. Registration and attendance every week is not required.
URL:https://lehightonlibrary.com/event/baby-toddler-time/2026-10-23/
CATEGORIES:Baby, Toddler, and Preschooler Programs
ATTACH;FMTTYPE=image/png:https://lehightonlibrary.com/wp-content/uploads/2023/05/Copy-of-Copy-of-4Copy-of-INSTA-story-2023-new-2023-programs-FB-Facebook-Post-Landscape-Instagram-Story-Instagram-Post-Square-3.png
END:VEVENT
BEGIN:VEVENT
DTSTART;TZID=UTC:20261028T103000
DTEND;TZID=UTC:20261028T113000
DTSTAMP:20260424T121704
CREATED:20230902T023317Z
LAST-MODIFIED:20250611T151300Z
UID:10000218-1793183400-1793187000@lehightonlibrary.com
SUMMARY:Preschool Storytime
DESCRIPTION:Recommended for children ages 3 to 6 and their caregivers. \nEnjoy stories\, music\, and crafts! \nFree and open to all!  \nNo registration required.
URL:https://lehightonlibrary.com/event/preschool-storytime/2026-10-28/
CATEGORIES:Baby, Toddler, and Preschooler Programs
ATTACH;FMTTYPE=image/png:https://lehightonlibrary.com/wp-content/uploads/2023/05/Copy-of-Copy-of-4Copy-of-INSTA-story-2023-new-2023-programs-FB-Facebook-Post-Landscape-Instagram-Story-Instagram-Post-Square-2.png
END:VEVENT
BEGIN:VEVENT
DTSTART;TZID=America/New_York:20261030T103000
DTEND;TZID=America/New_York:20261030T105000
DTSTAMP:20260424T121704
CREATED:20241230T165813Z
LAST-MODIFIED:20260319T201858Z
UID:10000860-1793356200-1793357400@lehightonlibrary.com
SUMMARY:Baby & Toddler Time
DESCRIPTION:These 20 minute sessions introduce developmentally appropriate songs\, rhymes\, fingerplays\, and action rhymes. \nBaby & Toddler Time is a wonderful way to introduce your child to the joys of language in a relaxed and fun atmosphere. This program is designed so the child is with their caregiver and the\ngrownup is actively involved. \nThis program is recommended for babies and toddlers\, 6 to 36 months and their caregivers. Registration and attendance every week is not required.
URL:https://lehightonlibrary.com/event/baby-toddler-time/2026-10-30/
CATEGORIES:Baby, Toddler, and Preschooler Programs
ATTACH;FMTTYPE=image/png:https://lehightonlibrary.com/wp-content/uploads/2023/05/Copy-of-Copy-of-4Copy-of-INSTA-story-2023-new-2023-programs-FB-Facebook-Post-Landscape-Instagram-Story-Instagram-Post-Square-3.png
END:VEVENT
BEGIN:VEVENT
DTSTART;TZID=UTC:20261104T103000
DTEND;TZID=UTC:20261104T113000
DTSTAMP:20260424T121704
CREATED:20230902T023317Z
LAST-MODIFIED:20250611T151300Z
UID:10000219-1793788200-1793791800@lehightonlibrary.com
SUMMARY:Preschool Storytime
DESCRIPTION:Recommended for children ages 3 to 6 and their caregivers. \nEnjoy stories\, music\, and crafts! \nFree and open to all!  \nNo registration required.
URL:https://lehightonlibrary.com/event/preschool-storytime/2026-11-04/
CATEGORIES:Baby, Toddler, and Preschooler Programs
ATTACH;FMTTYPE=image/png:https://lehightonlibrary.com/wp-content/uploads/2023/05/Copy-of-Copy-of-4Copy-of-INSTA-story-2023-new-2023-programs-FB-Facebook-Post-Landscape-Instagram-Story-Instagram-Post-Square-2.png
END:VEVENT
BEGIN:VEVENT
DTSTART;TZID=America/New_York:20261106T103000
DTEND;TZID=America/New_York:20261106T105000
DTSTAMP:20260424T121704
CREATED:20241230T165813Z
LAST-MODIFIED:20260319T201858Z
UID:10000861-1793961000-1793962200@lehightonlibrary.com
SUMMARY:Baby & Toddler Time
DESCRIPTION:These 20 minute sessions introduce developmentally appropriate songs\, rhymes\, fingerplays\, and action rhymes. \nBaby & Toddler Time is a wonderful way to introduce your child to the joys of language in a relaxed and fun atmosphere. This program is designed so the child is with their caregiver and the\ngrownup is actively involved. \nThis program is recommended for babies and toddlers\, 6 to 36 months and their caregivers. Registration and attendance every week is not required.
URL:https://lehightonlibrary.com/event/baby-toddler-time/2026-11-06/
CATEGORIES:Baby, Toddler, and Preschooler Programs
ATTACH;FMTTYPE=image/png:https://lehightonlibrary.com/wp-content/uploads/2023/05/Copy-of-Copy-of-4Copy-of-INSTA-story-2023-new-2023-programs-FB-Facebook-Post-Landscape-Instagram-Story-Instagram-Post-Square-3.png
END:VEVENT
BEGIN:VEVENT
DTSTART;TZID=UTC:20261111T103000
DTEND;TZID=UTC:20261111T113000
DTSTAMP:20260424T121704
CREATED:20230902T023317Z
LAST-MODIFIED:20250611T151300Z
UID:10000220-1794393000-1794396600@lehightonlibrary.com
SUMMARY:Preschool Storytime
DESCRIPTION:Recommended for children ages 3 to 6 and their caregivers. \nEnjoy stories\, music\, and crafts! \nFree and open to all!  \nNo registration required.
URL:https://lehightonlibrary.com/event/preschool-storytime/2026-11-11/
CATEGORIES:Baby, Toddler, and Preschooler Programs
ATTACH;FMTTYPE=image/png:https://lehightonlibrary.com/wp-content/uploads/2023/05/Copy-of-Copy-of-4Copy-of-INSTA-story-2023-new-2023-programs-FB-Facebook-Post-Landscape-Instagram-Story-Instagram-Post-Square-2.png
END:VEVENT
BEGIN:VEVENT
DTSTART;TZID=America/New_York:20261113T103000
DTEND;TZID=America/New_York:20261113T105000
DTSTAMP:20260424T121704
CREATED:20241230T165813Z
LAST-MODIFIED:20260319T201858Z
UID:10000862-1794565800-1794567000@lehightonlibrary.com
SUMMARY:Baby & Toddler Time
DESCRIPTION:These 20 minute sessions introduce developmentally appropriate songs\, rhymes\, fingerplays\, and action rhymes. \nBaby & Toddler Time is a wonderful way to introduce your child to the joys of language in a relaxed and fun atmosphere. This program is designed so the child is with their caregiver and the\ngrownup is actively involved. \nThis program is recommended for babies and toddlers\, 6 to 36 months and their caregivers. Registration and attendance every week is not required.
URL:https://lehightonlibrary.com/event/baby-toddler-time/2026-11-13/
CATEGORIES:Baby, Toddler, and Preschooler Programs
ATTACH;FMTTYPE=image/png:https://lehightonlibrary.com/wp-content/uploads/2023/05/Copy-of-Copy-of-4Copy-of-INSTA-story-2023-new-2023-programs-FB-Facebook-Post-Landscape-Instagram-Story-Instagram-Post-Square-3.png
END:VEVENT
BEGIN:VEVENT
DTSTART;TZID=UTC:20261118T103000
DTEND;TZID=UTC:20261118T113000
DTSTAMP:20260424T121704
CREATED:20230902T023317Z
LAST-MODIFIED:20250611T151300Z
UID:10000221-1794997800-1795001400@lehightonlibrary.com
SUMMARY:Preschool Storytime
DESCRIPTION:Recommended for children ages 3 to 6 and their caregivers. \nEnjoy stories\, music\, and crafts! \nFree and open to all!  \nNo registration required.
URL:https://lehightonlibrary.com/event/preschool-storytime/2026-11-18/
CATEGORIES:Baby, Toddler, and Preschooler Programs
ATTACH;FMTTYPE=image/png:https://lehightonlibrary.com/wp-content/uploads/2023/05/Copy-of-Copy-of-4Copy-of-INSTA-story-2023-new-2023-programs-FB-Facebook-Post-Landscape-Instagram-Story-Instagram-Post-Square-2.png
END:VEVENT
BEGIN:VEVENT
DTSTART;TZID=America/New_York:20261120T103000
DTEND;TZID=America/New_York:20261120T105000
DTSTAMP:20260424T121704
CREATED:20241230T165813Z
LAST-MODIFIED:20260319T201858Z
UID:10000863-1795170600-1795171800@lehightonlibrary.com
SUMMARY:Baby & Toddler Time
DESCRIPTION:These 20 minute sessions introduce developmentally appropriate songs\, rhymes\, fingerplays\, and action rhymes. \nBaby & Toddler Time is a wonderful way to introduce your child to the joys of language in a relaxed and fun atmosphere. This program is designed so the child is with their caregiver and the\ngrownup is actively involved. \nThis program is recommended for babies and toddlers\, 6 to 36 months and their caregivers. Registration and attendance every week is not required.
URL:https://lehightonlibrary.com/event/baby-toddler-time/2026-11-20/
CATEGORIES:Baby, Toddler, and Preschooler Programs
ATTACH;FMTTYPE=image/png:https://lehightonlibrary.com/wp-content/uploads/2023/05/Copy-of-Copy-of-4Copy-of-INSTA-story-2023-new-2023-programs-FB-Facebook-Post-Landscape-Instagram-Story-Instagram-Post-Square-3.png
END:VEVENT
BEGIN:VEVENT
DTSTART;TZID=UTC:20261125T103000
DTEND;TZID=UTC:20261125T113000
DTSTAMP:20260424T121704
CREATED:20230902T023317Z
LAST-MODIFIED:20250611T151300Z
UID:10000222-1795602600-1795606200@lehightonlibrary.com
SUMMARY:Preschool Storytime
DESCRIPTION:Recommended for children ages 3 to 6 and their caregivers. \nEnjoy stories\, music\, and crafts! \nFree and open to all!  \nNo registration required.
URL:https://lehightonlibrary.com/event/preschool-storytime/2026-11-25/
CATEGORIES:Baby, Toddler, and Preschooler Programs
ATTACH;FMTTYPE=image/png:https://lehightonlibrary.com/wp-content/uploads/2023/05/Copy-of-Copy-of-4Copy-of-INSTA-story-2023-new-2023-programs-FB-Facebook-Post-Landscape-Instagram-Story-Instagram-Post-Square-2.png
END:VEVENT
BEGIN:VEVENT
DTSTART;TZID=America/New_York:20261127T103000
DTEND;TZID=America/New_York:20261127T105000
DTSTAMP:20260424T121704
CREATED:20241230T165813Z
LAST-MODIFIED:20260319T201858Z
UID:10000864-1795775400-1795776600@lehightonlibrary.com
SUMMARY:Baby & Toddler Time
DESCRIPTION:These 20 minute sessions introduce developmentally appropriate songs\, rhymes\, fingerplays\, and action rhymes. \nBaby & Toddler Time is a wonderful way to introduce your child to the joys of language in a relaxed and fun atmosphere. This program is designed so the child is with their caregiver and the\ngrownup is actively involved. \nThis program is recommended for babies and toddlers\, 6 to 36 months and their caregivers. Registration and attendance every week is not required.
URL:https://lehightonlibrary.com/event/baby-toddler-time/2026-11-27/
CATEGORIES:Baby, Toddler, and Preschooler Programs
ATTACH;FMTTYPE=image/png:https://lehightonlibrary.com/wp-content/uploads/2023/05/Copy-of-Copy-of-4Copy-of-INSTA-story-2023-new-2023-programs-FB-Facebook-Post-Landscape-Instagram-Story-Instagram-Post-Square-3.png
END:VEVENT
BEGIN:VEVENT
DTSTART;TZID=UTC:20261202T103000
DTEND;TZID=UTC:20261202T113000
DTSTAMP:20260424T121704
CREATED:20230902T023317Z
LAST-MODIFIED:20250611T151300Z
UID:10000223-1796207400-1796211000@lehightonlibrary.com
SUMMARY:Preschool Storytime
DESCRIPTION:Recommended for children ages 3 to 6 and their caregivers. \nEnjoy stories\, music\, and crafts! \nFree and open to all!  \nNo registration required.
URL:https://lehightonlibrary.com/event/preschool-storytime/2026-12-02/
CATEGORIES:Baby, Toddler, and Preschooler Programs
ATTACH;FMTTYPE=image/png:https://lehightonlibrary.com/wp-content/uploads/2023/05/Copy-of-Copy-of-4Copy-of-INSTA-story-2023-new-2023-programs-FB-Facebook-Post-Landscape-Instagram-Story-Instagram-Post-Square-2.png
END:VEVENT
BEGIN:VEVENT
DTSTART;TZID=America/New_York:20261204T103000
DTEND;TZID=America/New_York:20261204T105000
DTSTAMP:20260424T121704
CREATED:20241230T165813Z
LAST-MODIFIED:20260319T201858Z
UID:10000865-1796380200-1796381400@lehightonlibrary.com
SUMMARY:Baby & Toddler Time
DESCRIPTION:These 20 minute sessions introduce developmentally appropriate songs\, rhymes\, fingerplays\, and action rhymes. \nBaby & Toddler Time is a wonderful way to introduce your child to the joys of language in a relaxed and fun atmosphere. This program is designed so the child is with their caregiver and the\ngrownup is actively involved. \nThis program is recommended for babies and toddlers\, 6 to 36 months and their caregivers. Registration and attendance every week is not required.
URL:https://lehightonlibrary.com/event/baby-toddler-time/2026-12-04/
CATEGORIES:Baby, Toddler, and Preschooler Programs
ATTACH;FMTTYPE=image/png:https://lehightonlibrary.com/wp-content/uploads/2023/05/Copy-of-Copy-of-4Copy-of-INSTA-story-2023-new-2023-programs-FB-Facebook-Post-Landscape-Instagram-Story-Instagram-Post-Square-3.png
END:VEVENT
BEGIN:VEVENT
DTSTART;TZID=UTC:20261209T103000
DTEND;TZID=UTC:20261209T113000
DTSTAMP:20260424T121704
CREATED:20230902T023317Z
LAST-MODIFIED:20250611T151300Z
UID:10000224-1796812200-1796815800@lehightonlibrary.com
SUMMARY:Preschool Storytime
DESCRIPTION:Recommended for children ages 3 to 6 and their caregivers. \nEnjoy stories\, music\, and crafts! \nFree and open to all!  \nNo registration required.
URL:https://lehightonlibrary.com/event/preschool-storytime/2026-12-09/
CATEGORIES:Baby, Toddler, and Preschooler Programs
ATTACH;FMTTYPE=image/png:https://lehightonlibrary.com/wp-content/uploads/2023/05/Copy-of-Copy-of-4Copy-of-INSTA-story-2023-new-2023-programs-FB-Facebook-Post-Landscape-Instagram-Story-Instagram-Post-Square-2.png
END:VEVENT
BEGIN:VEVENT
DTSTART;TZID=America/New_York:20261211T103000
DTEND;TZID=America/New_York:20261211T105000
DTSTAMP:20260424T121704
CREATED:20241230T165813Z
LAST-MODIFIED:20260319T201858Z
UID:10000866-1796985000-1796986200@lehightonlibrary.com
SUMMARY:Baby & Toddler Time
DESCRIPTION:These 20 minute sessions introduce developmentally appropriate songs\, rhymes\, fingerplays\, and action rhymes. \nBaby & Toddler Time is a wonderful way to introduce your child to the joys of language in a relaxed and fun atmosphere. This program is designed so the child is with their caregiver and the\ngrownup is actively involved. \nThis program is recommended for babies and toddlers\, 6 to 36 months and their caregivers. Registration and attendance every week is not required.
URL:https://lehightonlibrary.com/event/baby-toddler-time/2026-12-11/
CATEGORIES:Baby, Toddler, and Preschooler Programs
ATTACH;FMTTYPE=image/png:https://lehightonlibrary.com/wp-content/uploads/2023/05/Copy-of-Copy-of-4Copy-of-INSTA-story-2023-new-2023-programs-FB-Facebook-Post-Landscape-Instagram-Story-Instagram-Post-Square-3.png
END:VEVENT
BEGIN:VEVENT
DTSTART;TZID=UTC:20261216T103000
DTEND;TZID=UTC:20261216T113000
DTSTAMP:20260424T121704
CREATED:20230902T023317Z
LAST-MODIFIED:20250611T151300Z
UID:10000225-1797417000-1797420600@lehightonlibrary.com
SUMMARY:Preschool Storytime
DESCRIPTION:Recommended for children ages 3 to 6 and their caregivers. \nEnjoy stories\, music\, and crafts! \nFree and open to all!  \nNo registration required.
URL:https://lehightonlibrary.com/event/preschool-storytime/2026-12-16/
CATEGORIES:Baby, Toddler, and Preschooler Programs
ATTACH;FMTTYPE=image/png:https://lehightonlibrary.com/wp-content/uploads/2023/05/Copy-of-Copy-of-4Copy-of-INSTA-story-2023-new-2023-programs-FB-Facebook-Post-Landscape-Instagram-Story-Instagram-Post-Square-2.png
END:VEVENT
BEGIN:VEVENT
DTSTART;TZID=America/New_York:20261218T103000
DTEND;TZID=America/New_York:20261218T105000
DTSTAMP:20260424T121704
CREATED:20241230T165813Z
LAST-MODIFIED:20260319T201858Z
UID:10000867-1797589800-1797591000@lehightonlibrary.com
SUMMARY:Baby & Toddler Time
DESCRIPTION:These 20 minute sessions introduce developmentally appropriate songs\, rhymes\, fingerplays\, and action rhymes. \nBaby & Toddler Time is a wonderful way to introduce your child to the joys of language in a relaxed and fun atmosphere. This program is designed so the child is with their caregiver and the\ngrownup is actively involved. \nThis program is recommended for babies and toddlers\, 6 to 36 months and their caregivers. Registration and attendance every week is not required.
URL:https://lehightonlibrary.com/event/baby-toddler-time/2026-12-18/
CATEGORIES:Baby, Toddler, and Preschooler Programs
ATTACH;FMTTYPE=image/png:https://lehightonlibrary.com/wp-content/uploads/2023/05/Copy-of-Copy-of-4Copy-of-INSTA-story-2023-new-2023-programs-FB-Facebook-Post-Landscape-Instagram-Story-Instagram-Post-Square-3.png
END:VEVENT
BEGIN:VEVENT
DTSTART;TZID=UTC:20261223T103000
DTEND;TZID=UTC:20261223T113000
DTSTAMP:20260424T121704
CREATED:20230902T023317Z
LAST-MODIFIED:20250611T151300Z
UID:10000226-1798021800-1798025400@lehightonlibrary.com
SUMMARY:Preschool Storytime
DESCRIPTION:Recommended for children ages 3 to 6 and their caregivers. \nEnjoy stories\, music\, and crafts! \nFree and open to all!  \nNo registration required.
URL:https://lehightonlibrary.com/event/preschool-storytime/2026-12-23/
CATEGORIES:Baby, Toddler, and Preschooler Programs
ATTACH;FMTTYPE=image/png:https://lehightonlibrary.com/wp-content/uploads/2023/05/Copy-of-Copy-of-4Copy-of-INSTA-story-2023-new-2023-programs-FB-Facebook-Post-Landscape-Instagram-Story-Instagram-Post-Square-2.png
END:VEVENT
BEGIN:VEVENT
DTSTART;TZID=America/New_York:20261225T103000
DTEND;TZID=America/New_York:20261225T105000
DTSTAMP:20260424T121704
CREATED:20241230T165813Z
LAST-MODIFIED:20260319T201858Z
UID:10000868-1798194600-1798195800@lehightonlibrary.com
SUMMARY:Baby & Toddler Time
DESCRIPTION:These 20 minute sessions introduce developmentally appropriate songs\, rhymes\, fingerplays\, and action rhymes. \nBaby & Toddler Time is a wonderful way to introduce your child to the joys of language in a relaxed and fun atmosphere. This program is designed so the child is with their caregiver and the\ngrownup is actively involved. \nThis program is recommended for babies and toddlers\, 6 to 36 months and their caregivers. Registration and attendance every week is not required.
URL:https://lehightonlibrary.com/event/baby-toddler-time/2026-12-25/
CATEGORIES:Baby, Toddler, and Preschooler Programs
ATTACH;FMTTYPE=image/png:https://lehightonlibrary.com/wp-content/uploads/2023/05/Copy-of-Copy-of-4Copy-of-INSTA-story-2023-new-2023-programs-FB-Facebook-Post-Landscape-Instagram-Story-Instagram-Post-Square-3.png
END:VEVENT
BEGIN:VEVENT
DTSTART;TZID=UTC:20261230T103000
DTEND;TZID=UTC:20261230T113000
DTSTAMP:20260424T121704
CREATED:20230902T023317Z
LAST-MODIFIED:20250611T151300Z
UID:10000227-1798626600-1798630200@lehightonlibrary.com
SUMMARY:Preschool Storytime
DESCRIPTION:Recommended for children ages 3 to 6 and their caregivers. \nEnjoy stories\, music\, and crafts! \nFree and open to all!  \nNo registration required.
URL:https://lehightonlibrary.com/event/preschool-storytime/2026-12-30/
CATEGORIES:Baby, Toddler, and Preschooler Programs
ATTACH;FMTTYPE=image/png:https://lehightonlibrary.com/wp-content/uploads/2023/05/Copy-of-Copy-of-4Copy-of-INSTA-story-2023-new-2023-programs-FB-Facebook-Post-Landscape-Instagram-Story-Instagram-Post-Square-2.png
END:VEVENT
BEGIN:VEVENT
DTSTART;TZID=America/New_York:20270101T103000
DTEND;TZID=America/New_York:20270101T105000
DTSTAMP:20260424T121704
CREATED:20241230T165813Z
LAST-MODIFIED:20260319T201858Z
UID:10000869-1798799400-1798800600@lehightonlibrary.com
SUMMARY:Baby & Toddler Time
DESCRIPTION:These 20 minute sessions introduce developmentally appropriate songs\, rhymes\, fingerplays\, and action rhymes. \nBaby & Toddler Time is a wonderful way to introduce your child to the joys of language in a relaxed and fun atmosphere. This program is designed so the child is with their caregiver and the\ngrownup is actively involved. \nThis program is recommended for babies and toddlers\, 6 to 36 months and their caregivers. Registration and attendance every week is not required.
URL:https://lehightonlibrary.com/event/baby-toddler-time/2027-01-01/
CATEGORIES:Baby, Toddler, and Preschooler Programs
ATTACH;FMTTYPE=image/png:https://lehightonlibrary.com/wp-content/uploads/2023/05/Copy-of-Copy-of-4Copy-of-INSTA-story-2023-new-2023-programs-FB-Facebook-Post-Landscape-Instagram-Story-Instagram-Post-Square-3.png
END:VEVENT
BEGIN:VEVENT
DTSTART;TZID=UTC:20270106T103000
DTEND;TZID=UTC:20270106T113000
DTSTAMP:20260424T121704
CREATED:20230902T023317Z
LAST-MODIFIED:20250611T151300Z
UID:10000228-1799231400-1799235000@lehightonlibrary.com
SUMMARY:Preschool Storytime
DESCRIPTION:Recommended for children ages 3 to 6 and their caregivers. \nEnjoy stories\, music\, and crafts! \nFree and open to all!  \nNo registration required.
URL:https://lehightonlibrary.com/event/preschool-storytime/2027-01-06/
CATEGORIES:Baby, Toddler, and Preschooler Programs
ATTACH;FMTTYPE=image/png:https://lehightonlibrary.com/wp-content/uploads/2023/05/Copy-of-Copy-of-4Copy-of-INSTA-story-2023-new-2023-programs-FB-Facebook-Post-Landscape-Instagram-Story-Instagram-Post-Square-2.png
END:VEVENT
BEGIN:VEVENT
DTSTART;TZID=America/New_York:20270108T103000
DTEND;TZID=America/New_York:20270108T105000
DTSTAMP:20260424T121704
CREATED:20241230T165813Z
LAST-MODIFIED:20260319T201858Z
UID:10000870-1799404200-1799405400@lehightonlibrary.com
SUMMARY:Baby & Toddler Time
DESCRIPTION:These 20 minute sessions introduce developmentally appropriate songs\, rhymes\, fingerplays\, and action rhymes. \nBaby & Toddler Time is a wonderful way to introduce your child to the joys of language in a relaxed and fun atmosphere. This program is designed so the child is with their caregiver and the\ngrownup is actively involved. \nThis program is recommended for babies and toddlers\, 6 to 36 months and their caregivers. Registration and attendance every week is not required.
URL:https://lehightonlibrary.com/event/baby-toddler-time/2027-01-08/
CATEGORIES:Baby, Toddler, and Preschooler Programs
ATTACH;FMTTYPE=image/png:https://lehightonlibrary.com/wp-content/uploads/2023/05/Copy-of-Copy-of-4Copy-of-INSTA-story-2023-new-2023-programs-FB-Facebook-Post-Landscape-Instagram-Story-Instagram-Post-Square-3.png
END:VEVENT
BEGIN:VEVENT
DTSTART;TZID=UTC:20270113T103000
DTEND;TZID=UTC:20270113T113000
DTSTAMP:20260424T121704
CREATED:20230902T023317Z
LAST-MODIFIED:20250611T151300Z
UID:10000229-1799836200-1799839800@lehightonlibrary.com
SUMMARY:Preschool Storytime
DESCRIPTION:Recommended for children ages 3 to 6 and their caregivers. \nEnjoy stories\, music\, and crafts! \nFree and open to all!  \nNo registration required.
URL:https://lehightonlibrary.com/event/preschool-storytime/2027-01-13/
CATEGORIES:Baby, Toddler, and Preschooler Programs
ATTACH;FMTTYPE=image/png:https://lehightonlibrary.com/wp-content/uploads/2023/05/Copy-of-Copy-of-4Copy-of-INSTA-story-2023-new-2023-programs-FB-Facebook-Post-Landscape-Instagram-Story-Instagram-Post-Square-2.png
END:VEVENT
BEGIN:VEVENT
DTSTART;TZID=America/New_York:20270115T103000
DTEND;TZID=America/New_York:20270115T105000
DTSTAMP:20260424T121704
CREATED:20241230T165813Z
LAST-MODIFIED:20260319T201858Z
UID:10000871-1800009000-1800010200@lehightonlibrary.com
SUMMARY:Baby & Toddler Time
DESCRIPTION:These 20 minute sessions introduce developmentally appropriate songs\, rhymes\, fingerplays\, and action rhymes. \nBaby & Toddler Time is a wonderful way to introduce your child to the joys of language in a relaxed and fun atmosphere. This program is designed so the child is with their caregiver and the\ngrownup is actively involved. \nThis program is recommended for babies and toddlers\, 6 to 36 months and their caregivers. Registration and attendance every week is not required.
URL:https://lehightonlibrary.com/event/baby-toddler-time/2027-01-15/
CATEGORIES:Baby, Toddler, and Preschooler Programs
ATTACH;FMTTYPE=image/png:https://lehightonlibrary.com/wp-content/uploads/2023/05/Copy-of-Copy-of-4Copy-of-INSTA-story-2023-new-2023-programs-FB-Facebook-Post-Landscape-Instagram-Story-Instagram-Post-Square-3.png
END:VEVENT
BEGIN:VEVENT
DTSTART;TZID=UTC:20270120T103000
DTEND;TZID=UTC:20270120T113000
DTSTAMP:20260424T121704
CREATED:20230902T023317Z
LAST-MODIFIED:20250611T151300Z
UID:10000230-1800441000-1800444600@lehightonlibrary.com
SUMMARY:Preschool Storytime
DESCRIPTION:Recommended for children ages 3 to 6 and their caregivers. \nEnjoy stories\, music\, and crafts! \nFree and open to all!  \nNo registration required.
URL:https://lehightonlibrary.com/event/preschool-storytime/2027-01-20/
CATEGORIES:Baby, Toddler, and Preschooler Programs
ATTACH;FMTTYPE=image/png:https://lehightonlibrary.com/wp-content/uploads/2023/05/Copy-of-Copy-of-4Copy-of-INSTA-story-2023-new-2023-programs-FB-Facebook-Post-Landscape-Instagram-Story-Instagram-Post-Square-2.png
END:VEVENT
BEGIN:VEVENT
DTSTART;TZID=America/New_York:20270122T103000
DTEND;TZID=America/New_York:20270122T105000
DTSTAMP:20260424T121704
CREATED:20241230T165813Z
LAST-MODIFIED:20260319T201858Z
UID:10000872-1800613800-1800615000@lehightonlibrary.com
SUMMARY:Baby & Toddler Time
DESCRIPTION:These 20 minute sessions introduce developmentally appropriate songs\, rhymes\, fingerplays\, and action rhymes. \nBaby & Toddler Time is a wonderful way to introduce your child to the joys of language in a relaxed and fun atmosphere. This program is designed so the child is with their caregiver and the\ngrownup is actively involved. \nThis program is recommended for babies and toddlers\, 6 to 36 months and their caregivers. Registration and attendance every week is not required.
URL:https://lehightonlibrary.com/event/baby-toddler-time/2027-01-22/
CATEGORIES:Baby, Toddler, and Preschooler Programs
ATTACH;FMTTYPE=image/png:https://lehightonlibrary.com/wp-content/uploads/2023/05/Copy-of-Copy-of-4Copy-of-INSTA-story-2023-new-2023-programs-FB-Facebook-Post-Landscape-Instagram-Story-Instagram-Post-Square-3.png
END:VEVENT
END:VCALENDAR