BEGIN:VCALENDAR
VERSION:2.0
PRODID:-//Lehighton Area Memorial Library - ECPv6.15.20//NONSGML v1.0//EN
CALSCALE:GREGORIAN
METHOD:PUBLISH
X-WR-CALNAME:Lehighton Area Memorial Library
X-ORIGINAL-URL:https://lehightonlibrary.com
X-WR-CALDESC:Events for Lehighton Area Memorial Library
REFRESH-INTERVAL;VALUE=DURATION:PT1H
X-Robots-Tag:noindex
X-PUBLISHED-TTL:PT1H
BEGIN:VTIMEZONE
TZID:America/New_York
BEGIN:DAYLIGHT
TZOFFSETFROM:-0500
TZOFFSETTO:-0400
TZNAME:EDT
DTSTART:20240310T070000
END:DAYLIGHT
BEGIN:STANDARD
TZOFFSETFROM:-0400
TZOFFSETTO:-0500
TZNAME:EST
DTSTART:20241103T060000
END:STANDARD
BEGIN:DAYLIGHT
TZOFFSETFROM:-0500
TZOFFSETTO:-0400
TZNAME:EDT
DTSTART:20250309T070000
END:DAYLIGHT
BEGIN:STANDARD
TZOFFSETFROM:-0400
TZOFFSETTO:-0500
TZNAME:EST
DTSTART:20251102T060000
END:STANDARD
BEGIN:DAYLIGHT
TZOFFSETFROM:-0500
TZOFFSETTO:-0400
TZNAME:EDT
DTSTART:20260308T070000
END:DAYLIGHT
BEGIN:STANDARD
TZOFFSETFROM:-0400
TZOFFSETTO:-0500
TZNAME:EST
DTSTART:20261101T060000
END:STANDARD
END:VTIMEZONE
BEGIN:VTIMEZONE
TZID:UTC
BEGIN:STANDARD
TZOFFSETFROM:+0000
TZOFFSETTO:+0000
TZNAME:UTC
DTSTART:20240101T000000
END:STANDARD
END:VTIMEZONE
BEGIN:VEVENT
DTSTART;TZID=America/New_York:20251128T103000
DTEND;TZID=America/New_York:20251128T105000
DTSTAMP:20260422T171452
CREATED:20241230T165813Z
LAST-MODIFIED:20260319T201858Z
UID:10000812-1764325800-1764327000@lehightonlibrary.com
SUMMARY:Baby & Toddler Time
DESCRIPTION:These 20 minute sessions introduce developmentally appropriate songs\, rhymes\, fingerplays\, and action rhymes. \nBaby & Toddler Time is a wonderful way to introduce your child to the joys of language in a relaxed and fun atmosphere. This program is designed so the child is with their caregiver and the\ngrownup is actively involved. \nThis program is recommended for babies and toddlers\, 6 to 36 months and their caregivers. Registration and attendance every week is not required.
URL:https://lehightonlibrary.com/event/baby-toddler-time/2025-11-28/
CATEGORIES:Baby, Toddler, and Preschooler Programs
ATTACH;FMTTYPE=image/png:https://lehightonlibrary.com/wp-content/uploads/2023/05/Copy-of-Copy-of-4Copy-of-INSTA-story-2023-new-2023-programs-FB-Facebook-Post-Landscape-Instagram-Story-Instagram-Post-Square-3.png
END:VEVENT
BEGIN:VEVENT
DTSTART;TZID=UTC:20251126T103000
DTEND;TZID=UTC:20251126T113000
DTSTAMP:20260422T171452
CREATED:20230902T023317Z
LAST-MODIFIED:20250611T151300Z
UID:10000170-1764153000-1764156600@lehightonlibrary.com
SUMMARY:Preschool Storytime
DESCRIPTION:Recommended for children ages 3 to 6 and their caregivers. \nEnjoy stories\, music\, and crafts! \nFree and open to all!  \nNo registration required.
URL:https://lehightonlibrary.com/event/preschool-storytime/2025-11-26/
CATEGORIES:Baby, Toddler, and Preschooler Programs
ATTACH;FMTTYPE=image/png:https://lehightonlibrary.com/wp-content/uploads/2023/05/Copy-of-Copy-of-4Copy-of-INSTA-story-2023-new-2023-programs-FB-Facebook-Post-Landscape-Instagram-Story-Instagram-Post-Square-2.png
END:VEVENT
BEGIN:VEVENT
DTSTART;TZID=America/New_York:20251121T103000
DTEND;TZID=America/New_York:20251121T105000
DTSTAMP:20260422T171452
CREATED:20241230T165813Z
LAST-MODIFIED:20260319T201858Z
UID:10000811-1763721000-1763722200@lehightonlibrary.com
SUMMARY:Baby & Toddler Time
DESCRIPTION:These 20 minute sessions introduce developmentally appropriate songs\, rhymes\, fingerplays\, and action rhymes. \nBaby & Toddler Time is a wonderful way to introduce your child to the joys of language in a relaxed and fun atmosphere. This program is designed so the child is with their caregiver and the\ngrownup is actively involved. \nThis program is recommended for babies and toddlers\, 6 to 36 months and their caregivers. Registration and attendance every week is not required.
URL:https://lehightonlibrary.com/event/baby-toddler-time/2025-11-21/
CATEGORIES:Baby, Toddler, and Preschooler Programs
ATTACH;FMTTYPE=image/png:https://lehightonlibrary.com/wp-content/uploads/2023/05/Copy-of-Copy-of-4Copy-of-INSTA-story-2023-new-2023-programs-FB-Facebook-Post-Landscape-Instagram-Story-Instagram-Post-Square-3.png
END:VEVENT
BEGIN:VEVENT
DTSTART;TZID=UTC:20251119T103000
DTEND;TZID=UTC:20251119T113000
DTSTAMP:20260422T171452
CREATED:20230902T023317Z
LAST-MODIFIED:20250611T151300Z
UID:10000169-1763548200-1763551800@lehightonlibrary.com
SUMMARY:Preschool Storytime
DESCRIPTION:Recommended for children ages 3 to 6 and their caregivers. \nEnjoy stories\, music\, and crafts! \nFree and open to all!  \nNo registration required.
URL:https://lehightonlibrary.com/event/preschool-storytime/2025-11-19/
CATEGORIES:Baby, Toddler, and Preschooler Programs
ATTACH;FMTTYPE=image/png:https://lehightonlibrary.com/wp-content/uploads/2023/05/Copy-of-Copy-of-4Copy-of-INSTA-story-2023-new-2023-programs-FB-Facebook-Post-Landscape-Instagram-Story-Instagram-Post-Square-2.png
END:VEVENT
BEGIN:VEVENT
DTSTART;TZID=America/New_York:20251114T103000
DTEND;TZID=America/New_York:20251114T105000
DTSTAMP:20260422T171452
CREATED:20241230T165813Z
LAST-MODIFIED:20260319T201858Z
UID:10000810-1763116200-1763117400@lehightonlibrary.com
SUMMARY:Baby & Toddler Time
DESCRIPTION:These 20 minute sessions introduce developmentally appropriate songs\, rhymes\, fingerplays\, and action rhymes. \nBaby & Toddler Time is a wonderful way to introduce your child to the joys of language in a relaxed and fun atmosphere. This program is designed so the child is with their caregiver and the\ngrownup is actively involved. \nThis program is recommended for babies and toddlers\, 6 to 36 months and their caregivers. Registration and attendance every week is not required.
URL:https://lehightonlibrary.com/event/baby-toddler-time/2025-11-14/
CATEGORIES:Baby, Toddler, and Preschooler Programs
ATTACH;FMTTYPE=image/png:https://lehightonlibrary.com/wp-content/uploads/2023/05/Copy-of-Copy-of-4Copy-of-INSTA-story-2023-new-2023-programs-FB-Facebook-Post-Landscape-Instagram-Story-Instagram-Post-Square-3.png
END:VEVENT
BEGIN:VEVENT
DTSTART;TZID=UTC:20251112T103000
DTEND;TZID=UTC:20251112T113000
DTSTAMP:20260422T171452
CREATED:20230902T023317Z
LAST-MODIFIED:20250611T151300Z
UID:10000168-1762943400-1762947000@lehightonlibrary.com
SUMMARY:Preschool Storytime
DESCRIPTION:Recommended for children ages 3 to 6 and their caregivers. \nEnjoy stories\, music\, and crafts! \nFree and open to all!  \nNo registration required.
URL:https://lehightonlibrary.com/event/preschool-storytime/2025-11-12/
CATEGORIES:Baby, Toddler, and Preschooler Programs
ATTACH;FMTTYPE=image/png:https://lehightonlibrary.com/wp-content/uploads/2023/05/Copy-of-Copy-of-4Copy-of-INSTA-story-2023-new-2023-programs-FB-Facebook-Post-Landscape-Instagram-Story-Instagram-Post-Square-2.png
END:VEVENT
BEGIN:VEVENT
DTSTART;TZID=America/New_York:20251107T103000
DTEND;TZID=America/New_York:20251107T105000
DTSTAMP:20260422T171452
CREATED:20241230T165813Z
LAST-MODIFIED:20260319T201858Z
UID:10000809-1762511400-1762512600@lehightonlibrary.com
SUMMARY:Baby & Toddler Time
DESCRIPTION:These 20 minute sessions introduce developmentally appropriate songs\, rhymes\, fingerplays\, and action rhymes. \nBaby & Toddler Time is a wonderful way to introduce your child to the joys of language in a relaxed and fun atmosphere. This program is designed so the child is with their caregiver and the\ngrownup is actively involved. \nThis program is recommended for babies and toddlers\, 6 to 36 months and their caregivers. Registration and attendance every week is not required.
URL:https://lehightonlibrary.com/event/baby-toddler-time/2025-11-07/
CATEGORIES:Baby, Toddler, and Preschooler Programs
ATTACH;FMTTYPE=image/png:https://lehightonlibrary.com/wp-content/uploads/2023/05/Copy-of-Copy-of-4Copy-of-INSTA-story-2023-new-2023-programs-FB-Facebook-Post-Landscape-Instagram-Story-Instagram-Post-Square-3.png
END:VEVENT
BEGIN:VEVENT
DTSTART;TZID=UTC:20251105T103000
DTEND;TZID=UTC:20251105T113000
DTSTAMP:20260422T171452
CREATED:20230902T023317Z
LAST-MODIFIED:20250611T151300Z
UID:10000167-1762338600-1762342200@lehightonlibrary.com
SUMMARY:Preschool Storytime
DESCRIPTION:Recommended for children ages 3 to 6 and their caregivers. \nEnjoy stories\, music\, and crafts! \nFree and open to all!  \nNo registration required.
URL:https://lehightonlibrary.com/event/preschool-storytime/2025-11-05/
CATEGORIES:Baby, Toddler, and Preschooler Programs
ATTACH;FMTTYPE=image/png:https://lehightonlibrary.com/wp-content/uploads/2023/05/Copy-of-Copy-of-4Copy-of-INSTA-story-2023-new-2023-programs-FB-Facebook-Post-Landscape-Instagram-Story-Instagram-Post-Square-2.png
END:VEVENT
BEGIN:VEVENT
DTSTART;TZID=America/New_York:20251031T103000
DTEND;TZID=America/New_York:20251031T105000
DTSTAMP:20260422T171452
CREATED:20241230T165813Z
LAST-MODIFIED:20260319T201858Z
UID:10000808-1761906600-1761907800@lehightonlibrary.com
SUMMARY:Baby & Toddler Time
DESCRIPTION:These 20 minute sessions introduce developmentally appropriate songs\, rhymes\, fingerplays\, and action rhymes. \nBaby & Toddler Time is a wonderful way to introduce your child to the joys of language in a relaxed and fun atmosphere. This program is designed so the child is with their caregiver and the\ngrownup is actively involved. \nThis program is recommended for babies and toddlers\, 6 to 36 months and their caregivers. Registration and attendance every week is not required.
URL:https://lehightonlibrary.com/event/baby-toddler-time/2025-10-31/
CATEGORIES:Baby, Toddler, and Preschooler Programs
ATTACH;FMTTYPE=image/png:https://lehightonlibrary.com/wp-content/uploads/2023/05/Copy-of-Copy-of-4Copy-of-INSTA-story-2023-new-2023-programs-FB-Facebook-Post-Landscape-Instagram-Story-Instagram-Post-Square-3.png
END:VEVENT
BEGIN:VEVENT
DTSTART;TZID=UTC:20251029T103000
DTEND;TZID=UTC:20251029T113000
DTSTAMP:20260422T171452
CREATED:20230902T023317Z
LAST-MODIFIED:20250611T151300Z
UID:10000166-1761733800-1761737400@lehightonlibrary.com
SUMMARY:Preschool Storytime
DESCRIPTION:Recommended for children ages 3 to 6 and their caregivers. \nEnjoy stories\, music\, and crafts! \nFree and open to all!  \nNo registration required.
URL:https://lehightonlibrary.com/event/preschool-storytime/2025-10-29/
CATEGORIES:Baby, Toddler, and Preschooler Programs
ATTACH;FMTTYPE=image/png:https://lehightonlibrary.com/wp-content/uploads/2023/05/Copy-of-Copy-of-4Copy-of-INSTA-story-2023-new-2023-programs-FB-Facebook-Post-Landscape-Instagram-Story-Instagram-Post-Square-2.png
END:VEVENT
BEGIN:VEVENT
DTSTART;TZID=America/New_York:20251024T103000
DTEND;TZID=America/New_York:20251024T105000
DTSTAMP:20260422T171452
CREATED:20241230T165813Z
LAST-MODIFIED:20260319T201858Z
UID:10000807-1761301800-1761303000@lehightonlibrary.com
SUMMARY:Baby & Toddler Time
DESCRIPTION:These 20 minute sessions introduce developmentally appropriate songs\, rhymes\, fingerplays\, and action rhymes. \nBaby & Toddler Time is a wonderful way to introduce your child to the joys of language in a relaxed and fun atmosphere. This program is designed so the child is with their caregiver and the\ngrownup is actively involved. \nThis program is recommended for babies and toddlers\, 6 to 36 months and their caregivers. Registration and attendance every week is not required.
URL:https://lehightonlibrary.com/event/baby-toddler-time/2025-10-24/
CATEGORIES:Baby, Toddler, and Preschooler Programs
ATTACH;FMTTYPE=image/png:https://lehightonlibrary.com/wp-content/uploads/2023/05/Copy-of-Copy-of-4Copy-of-INSTA-story-2023-new-2023-programs-FB-Facebook-Post-Landscape-Instagram-Story-Instagram-Post-Square-3.png
END:VEVENT
BEGIN:VEVENT
DTSTART;TZID=UTC:20251022T103000
DTEND;TZID=UTC:20251022T113000
DTSTAMP:20260422T171452
CREATED:20230902T023317Z
LAST-MODIFIED:20250611T151300Z
UID:10000165-1761129000-1761132600@lehightonlibrary.com
SUMMARY:Preschool Storytime
DESCRIPTION:Recommended for children ages 3 to 6 and their caregivers. \nEnjoy stories\, music\, and crafts! \nFree and open to all!  \nNo registration required.
URL:https://lehightonlibrary.com/event/preschool-storytime/2025-10-22/
CATEGORIES:Baby, Toddler, and Preschooler Programs
ATTACH;FMTTYPE=image/png:https://lehightonlibrary.com/wp-content/uploads/2023/05/Copy-of-Copy-of-4Copy-of-INSTA-story-2023-new-2023-programs-FB-Facebook-Post-Landscape-Instagram-Story-Instagram-Post-Square-2.png
END:VEVENT
BEGIN:VEVENT
DTSTART;TZID=America/New_York:20251017T103000
DTEND;TZID=America/New_York:20251017T105000
DTSTAMP:20260422T171452
CREATED:20241230T165813Z
LAST-MODIFIED:20260319T201858Z
UID:10000806-1760697000-1760698200@lehightonlibrary.com
SUMMARY:Baby & Toddler Time
DESCRIPTION:These 20 minute sessions introduce developmentally appropriate songs\, rhymes\, fingerplays\, and action rhymes. \nBaby & Toddler Time is a wonderful way to introduce your child to the joys of language in a relaxed and fun atmosphere. This program is designed so the child is with their caregiver and the\ngrownup is actively involved. \nThis program is recommended for babies and toddlers\, 6 to 36 months and their caregivers. Registration and attendance every week is not required.
URL:https://lehightonlibrary.com/event/baby-toddler-time/2025-10-17/
CATEGORIES:Baby, Toddler, and Preschooler Programs
ATTACH;FMTTYPE=image/png:https://lehightonlibrary.com/wp-content/uploads/2023/05/Copy-of-Copy-of-4Copy-of-INSTA-story-2023-new-2023-programs-FB-Facebook-Post-Landscape-Instagram-Story-Instagram-Post-Square-3.png
END:VEVENT
BEGIN:VEVENT
DTSTART;TZID=UTC:20251015T103000
DTEND;TZID=UTC:20251015T113000
DTSTAMP:20260422T171452
CREATED:20230902T023317Z
LAST-MODIFIED:20250611T151300Z
UID:10000164-1760524200-1760527800@lehightonlibrary.com
SUMMARY:Preschool Storytime
DESCRIPTION:Recommended for children ages 3 to 6 and their caregivers. \nEnjoy stories\, music\, and crafts! \nFree and open to all!  \nNo registration required.
URL:https://lehightonlibrary.com/event/preschool-storytime/2025-10-15/
CATEGORIES:Baby, Toddler, and Preschooler Programs
ATTACH;FMTTYPE=image/png:https://lehightonlibrary.com/wp-content/uploads/2023/05/Copy-of-Copy-of-4Copy-of-INSTA-story-2023-new-2023-programs-FB-Facebook-Post-Landscape-Instagram-Story-Instagram-Post-Square-2.png
END:VEVENT
BEGIN:VEVENT
DTSTART;TZID=America/New_York:20251010T103000
DTEND;TZID=America/New_York:20251010T105000
DTSTAMP:20260422T171452
CREATED:20241230T165813Z
LAST-MODIFIED:20260319T201858Z
UID:10000805-1760092200-1760093400@lehightonlibrary.com
SUMMARY:Baby & Toddler Time
DESCRIPTION:These 20 minute sessions introduce developmentally appropriate songs\, rhymes\, fingerplays\, and action rhymes. \nBaby & Toddler Time is a wonderful way to introduce your child to the joys of language in a relaxed and fun atmosphere. This program is designed so the child is with their caregiver and the\ngrownup is actively involved. \nThis program is recommended for babies and toddlers\, 6 to 36 months and their caregivers. Registration and attendance every week is not required.
URL:https://lehightonlibrary.com/event/baby-toddler-time/2025-10-10/
CATEGORIES:Baby, Toddler, and Preschooler Programs
ATTACH;FMTTYPE=image/png:https://lehightonlibrary.com/wp-content/uploads/2023/05/Copy-of-Copy-of-4Copy-of-INSTA-story-2023-new-2023-programs-FB-Facebook-Post-Landscape-Instagram-Story-Instagram-Post-Square-3.png
END:VEVENT
BEGIN:VEVENT
DTSTART;TZID=UTC:20251008T103000
DTEND;TZID=UTC:20251008T113000
DTSTAMP:20260422T171452
CREATED:20230902T023317Z
LAST-MODIFIED:20250611T151300Z
UID:10000163-1759919400-1759923000@lehightonlibrary.com
SUMMARY:Preschool Storytime
DESCRIPTION:Recommended for children ages 3 to 6 and their caregivers. \nEnjoy stories\, music\, and crafts! \nFree and open to all!  \nNo registration required.
URL:https://lehightonlibrary.com/event/preschool-storytime/2025-10-08/
CATEGORIES:Baby, Toddler, and Preschooler Programs
ATTACH;FMTTYPE=image/png:https://lehightonlibrary.com/wp-content/uploads/2023/05/Copy-of-Copy-of-4Copy-of-INSTA-story-2023-new-2023-programs-FB-Facebook-Post-Landscape-Instagram-Story-Instagram-Post-Square-2.png
END:VEVENT
BEGIN:VEVENT
DTSTART;TZID=America/New_York:20251003T103000
DTEND;TZID=America/New_York:20251003T105000
DTSTAMP:20260422T171452
CREATED:20241230T165813Z
LAST-MODIFIED:20260319T201858Z
UID:10000804-1759487400-1759488600@lehightonlibrary.com
SUMMARY:Baby & Toddler Time
DESCRIPTION:These 20 minute sessions introduce developmentally appropriate songs\, rhymes\, fingerplays\, and action rhymes. \nBaby & Toddler Time is a wonderful way to introduce your child to the joys of language in a relaxed and fun atmosphere. This program is designed so the child is with their caregiver and the\ngrownup is actively involved. \nThis program is recommended for babies and toddlers\, 6 to 36 months and their caregivers. Registration and attendance every week is not required.
URL:https://lehightonlibrary.com/event/baby-toddler-time/2025-10-03/
CATEGORIES:Baby, Toddler, and Preschooler Programs
ATTACH;FMTTYPE=image/png:https://lehightonlibrary.com/wp-content/uploads/2023/05/Copy-of-Copy-of-4Copy-of-INSTA-story-2023-new-2023-programs-FB-Facebook-Post-Landscape-Instagram-Story-Instagram-Post-Square-3.png
END:VEVENT
BEGIN:VEVENT
DTSTART;TZID=UTC:20251001T103000
DTEND;TZID=UTC:20251001T113000
DTSTAMP:20260422T171452
CREATED:20230902T023317Z
LAST-MODIFIED:20250611T151300Z
UID:10000162-1759314600-1759318200@lehightonlibrary.com
SUMMARY:Preschool Storytime
DESCRIPTION:Recommended for children ages 3 to 6 and their caregivers. \nEnjoy stories\, music\, and crafts! \nFree and open to all!  \nNo registration required.
URL:https://lehightonlibrary.com/event/preschool-storytime/2025-10-01/
CATEGORIES:Baby, Toddler, and Preschooler Programs
ATTACH;FMTTYPE=image/png:https://lehightonlibrary.com/wp-content/uploads/2023/05/Copy-of-Copy-of-4Copy-of-INSTA-story-2023-new-2023-programs-FB-Facebook-Post-Landscape-Instagram-Story-Instagram-Post-Square-2.png
END:VEVENT
BEGIN:VEVENT
DTSTART;TZID=America/New_York:20250926T103000
DTEND;TZID=America/New_York:20250926T105000
DTSTAMP:20260422T171452
CREATED:20241230T165813Z
LAST-MODIFIED:20260319T201858Z
UID:10000803-1758882600-1758883800@lehightonlibrary.com
SUMMARY:Baby & Toddler Time
DESCRIPTION:These 20 minute sessions introduce developmentally appropriate songs\, rhymes\, fingerplays\, and action rhymes. \nBaby & Toddler Time is a wonderful way to introduce your child to the joys of language in a relaxed and fun atmosphere. This program is designed so the child is with their caregiver and the\ngrownup is actively involved. \nThis program is recommended for babies and toddlers\, 6 to 36 months and their caregivers. Registration and attendance every week is not required.
URL:https://lehightonlibrary.com/event/baby-toddler-time/2025-09-26/
CATEGORIES:Baby, Toddler, and Preschooler Programs
ATTACH;FMTTYPE=image/png:https://lehightonlibrary.com/wp-content/uploads/2023/05/Copy-of-Copy-of-4Copy-of-INSTA-story-2023-new-2023-programs-FB-Facebook-Post-Landscape-Instagram-Story-Instagram-Post-Square-3.png
END:VEVENT
BEGIN:VEVENT
DTSTART;TZID=UTC:20250924T103000
DTEND;TZID=UTC:20250924T113000
DTSTAMP:20260422T171452
CREATED:20230902T023317Z
LAST-MODIFIED:20250611T151300Z
UID:10000161-1758709800-1758713400@lehightonlibrary.com
SUMMARY:Preschool Storytime
DESCRIPTION:Recommended for children ages 3 to 6 and their caregivers. \nEnjoy stories\, music\, and crafts! \nFree and open to all!  \nNo registration required.
URL:https://lehightonlibrary.com/event/preschool-storytime/2025-09-24/
CATEGORIES:Baby, Toddler, and Preschooler Programs
ATTACH;FMTTYPE=image/png:https://lehightonlibrary.com/wp-content/uploads/2023/05/Copy-of-Copy-of-4Copy-of-INSTA-story-2023-new-2023-programs-FB-Facebook-Post-Landscape-Instagram-Story-Instagram-Post-Square-2.png
END:VEVENT
BEGIN:VEVENT
DTSTART;TZID=America/New_York:20250919T103000
DTEND;TZID=America/New_York:20250919T105000
DTSTAMP:20260422T171452
CREATED:20241230T165813Z
LAST-MODIFIED:20260319T201858Z
UID:10000802-1758277800-1758279000@lehightonlibrary.com
SUMMARY:Baby & Toddler Time
DESCRIPTION:These 20 minute sessions introduce developmentally appropriate songs\, rhymes\, fingerplays\, and action rhymes. \nBaby & Toddler Time is a wonderful way to introduce your child to the joys of language in a relaxed and fun atmosphere. This program is designed so the child is with their caregiver and the\ngrownup is actively involved. \nThis program is recommended for babies and toddlers\, 6 to 36 months and their caregivers. Registration and attendance every week is not required.
URL:https://lehightonlibrary.com/event/baby-toddler-time/2025-09-19/
CATEGORIES:Baby, Toddler, and Preschooler Programs
ATTACH;FMTTYPE=image/png:https://lehightonlibrary.com/wp-content/uploads/2023/05/Copy-of-Copy-of-4Copy-of-INSTA-story-2023-new-2023-programs-FB-Facebook-Post-Landscape-Instagram-Story-Instagram-Post-Square-3.png
END:VEVENT
BEGIN:VEVENT
DTSTART;TZID=UTC:20250917T103000
DTEND;TZID=UTC:20250917T113000
DTSTAMP:20260422T171452
CREATED:20230902T023317Z
LAST-MODIFIED:20250611T151300Z
UID:10000160-1758105000-1758108600@lehightonlibrary.com
SUMMARY:Preschool Storytime
DESCRIPTION:Recommended for children ages 3 to 6 and their caregivers. \nEnjoy stories\, music\, and crafts! \nFree and open to all!  \nNo registration required.
URL:https://lehightonlibrary.com/event/preschool-storytime/2025-09-17/
CATEGORIES:Baby, Toddler, and Preschooler Programs
ATTACH;FMTTYPE=image/png:https://lehightonlibrary.com/wp-content/uploads/2023/05/Copy-of-Copy-of-4Copy-of-INSTA-story-2023-new-2023-programs-FB-Facebook-Post-Landscape-Instagram-Story-Instagram-Post-Square-2.png
END:VEVENT
BEGIN:VEVENT
DTSTART;TZID=America/New_York:20250912T103000
DTEND;TZID=America/New_York:20250912T105000
DTSTAMP:20260422T171452
CREATED:20241230T165813Z
LAST-MODIFIED:20260319T201858Z
UID:10000801-1757673000-1757674200@lehightonlibrary.com
SUMMARY:Baby & Toddler Time
DESCRIPTION:These 20 minute sessions introduce developmentally appropriate songs\, rhymes\, fingerplays\, and action rhymes. \nBaby & Toddler Time is a wonderful way to introduce your child to the joys of language in a relaxed and fun atmosphere. This program is designed so the child is with their caregiver and the\ngrownup is actively involved. \nThis program is recommended for babies and toddlers\, 6 to 36 months and their caregivers. Registration and attendance every week is not required.
URL:https://lehightonlibrary.com/event/baby-toddler-time/2025-09-12/
CATEGORIES:Baby, Toddler, and Preschooler Programs
ATTACH;FMTTYPE=image/png:https://lehightonlibrary.com/wp-content/uploads/2023/05/Copy-of-Copy-of-4Copy-of-INSTA-story-2023-new-2023-programs-FB-Facebook-Post-Landscape-Instagram-Story-Instagram-Post-Square-3.png
END:VEVENT
BEGIN:VEVENT
DTSTART;TZID=UTC:20250910T103000
DTEND;TZID=UTC:20250910T113000
DTSTAMP:20260422T171452
CREATED:20230902T023317Z
LAST-MODIFIED:20250611T151300Z
UID:10000159-1757500200-1757503800@lehightonlibrary.com
SUMMARY:Preschool Storytime
DESCRIPTION:Recommended for children ages 3 to 6 and their caregivers. \nEnjoy stories\, music\, and crafts! \nFree and open to all!  \nNo registration required.
URL:https://lehightonlibrary.com/event/preschool-storytime/2025-09-10/
CATEGORIES:Baby, Toddler, and Preschooler Programs
ATTACH;FMTTYPE=image/png:https://lehightonlibrary.com/wp-content/uploads/2023/05/Copy-of-Copy-of-4Copy-of-INSTA-story-2023-new-2023-programs-FB-Facebook-Post-Landscape-Instagram-Story-Instagram-Post-Square-2.png
END:VEVENT
BEGIN:VEVENT
DTSTART;TZID=America/New_York:20250905T103000
DTEND;TZID=America/New_York:20250905T105000
DTSTAMP:20260422T171452
CREATED:20241230T165813Z
LAST-MODIFIED:20260319T201858Z
UID:10000800-1757068200-1757069400@lehightonlibrary.com
SUMMARY:Baby & Toddler Time
DESCRIPTION:These 20 minute sessions introduce developmentally appropriate songs\, rhymes\, fingerplays\, and action rhymes. \nBaby & Toddler Time is a wonderful way to introduce your child to the joys of language in a relaxed and fun atmosphere. This program is designed so the child is with their caregiver and the\ngrownup is actively involved. \nThis program is recommended for babies and toddlers\, 6 to 36 months and their caregivers. Registration and attendance every week is not required.
URL:https://lehightonlibrary.com/event/baby-toddler-time/2025-09-05/
CATEGORIES:Baby, Toddler, and Preschooler Programs
ATTACH;FMTTYPE=image/png:https://lehightonlibrary.com/wp-content/uploads/2023/05/Copy-of-Copy-of-4Copy-of-INSTA-story-2023-new-2023-programs-FB-Facebook-Post-Landscape-Instagram-Story-Instagram-Post-Square-3.png
END:VEVENT
BEGIN:VEVENT
DTSTART;TZID=UTC:20250903T103000
DTEND;TZID=UTC:20250903T113000
DTSTAMP:20260422T171452
CREATED:20230902T023317Z
LAST-MODIFIED:20250611T151300Z
UID:10000158-1756895400-1756899000@lehightonlibrary.com
SUMMARY:Preschool Storytime
DESCRIPTION:Recommended for children ages 3 to 6 and their caregivers. \nEnjoy stories\, music\, and crafts! \nFree and open to all!  \nNo registration required.
URL:https://lehightonlibrary.com/event/preschool-storytime/2025-09-03/
CATEGORIES:Baby, Toddler, and Preschooler Programs
ATTACH;FMTTYPE=image/png:https://lehightonlibrary.com/wp-content/uploads/2023/05/Copy-of-Copy-of-4Copy-of-INSTA-story-2023-new-2023-programs-FB-Facebook-Post-Landscape-Instagram-Story-Instagram-Post-Square-2.png
END:VEVENT
BEGIN:VEVENT
DTSTART;TZID=America/New_York:20250829T103000
DTEND;TZID=America/New_York:20250829T105000
DTSTAMP:20260422T171453
CREATED:20241230T165813Z
LAST-MODIFIED:20260319T201858Z
UID:10000799-1756463400-1756464600@lehightonlibrary.com
SUMMARY:Baby & Toddler Time
DESCRIPTION:These 20 minute sessions introduce developmentally appropriate songs\, rhymes\, fingerplays\, and action rhymes. \nBaby & Toddler Time is a wonderful way to introduce your child to the joys of language in a relaxed and fun atmosphere. This program is designed so the child is with their caregiver and the\ngrownup is actively involved. \nThis program is recommended for babies and toddlers\, 6 to 36 months and their caregivers. Registration and attendance every week is not required.
URL:https://lehightonlibrary.com/event/baby-toddler-time/2025-08-29/
CATEGORIES:Baby, Toddler, and Preschooler Programs
ATTACH;FMTTYPE=image/png:https://lehightonlibrary.com/wp-content/uploads/2023/05/Copy-of-Copy-of-4Copy-of-INSTA-story-2023-new-2023-programs-FB-Facebook-Post-Landscape-Instagram-Story-Instagram-Post-Square-3.png
END:VEVENT
BEGIN:VEVENT
DTSTART;TZID=UTC:20250827T103000
DTEND;TZID=UTC:20250827T113000
DTSTAMP:20260422T171453
CREATED:20230902T023317Z
LAST-MODIFIED:20250611T151300Z
UID:10000157-1756290600-1756294200@lehightonlibrary.com
SUMMARY:Preschool Storytime
DESCRIPTION:Recommended for children ages 3 to 6 and their caregivers. \nEnjoy stories\, music\, and crafts! \nFree and open to all!  \nNo registration required.
URL:https://lehightonlibrary.com/event/preschool-storytime/2025-08-27/
CATEGORIES:Baby, Toddler, and Preschooler Programs
ATTACH;FMTTYPE=image/png:https://lehightonlibrary.com/wp-content/uploads/2023/05/Copy-of-Copy-of-4Copy-of-INSTA-story-2023-new-2023-programs-FB-Facebook-Post-Landscape-Instagram-Story-Instagram-Post-Square-2.png
END:VEVENT
BEGIN:VEVENT
DTSTART;TZID=America/New_York:20250822T103000
DTEND;TZID=America/New_York:20250822T105000
DTSTAMP:20260422T171453
CREATED:20241230T165813Z
LAST-MODIFIED:20260319T201858Z
UID:10000798-1755858600-1755859800@lehightonlibrary.com
SUMMARY:Baby & Toddler Time
DESCRIPTION:These 20 minute sessions introduce developmentally appropriate songs\, rhymes\, fingerplays\, and action rhymes. \nBaby & Toddler Time is a wonderful way to introduce your child to the joys of language in a relaxed and fun atmosphere. This program is designed so the child is with their caregiver and the\ngrownup is actively involved. \nThis program is recommended for babies and toddlers\, 6 to 36 months and their caregivers. Registration and attendance every week is not required.
URL:https://lehightonlibrary.com/event/baby-toddler-time/2025-08-22/
CATEGORIES:Baby, Toddler, and Preschooler Programs
ATTACH;FMTTYPE=image/png:https://lehightonlibrary.com/wp-content/uploads/2023/05/Copy-of-Copy-of-4Copy-of-INSTA-story-2023-new-2023-programs-FB-Facebook-Post-Landscape-Instagram-Story-Instagram-Post-Square-3.png
END:VEVENT
BEGIN:VEVENT
DTSTART;TZID=UTC:20250820T103000
DTEND;TZID=UTC:20250820T113000
DTSTAMP:20260422T171453
CREATED:20230902T023317Z
LAST-MODIFIED:20250611T151300Z
UID:10000156-1755685800-1755689400@lehightonlibrary.com
SUMMARY:Preschool Storytime
DESCRIPTION:Recommended for children ages 3 to 6 and their caregivers. \nEnjoy stories\, music\, and crafts! \nFree and open to all!  \nNo registration required.
URL:https://lehightonlibrary.com/event/preschool-storytime/2025-08-20/
CATEGORIES:Baby, Toddler, and Preschooler Programs
ATTACH;FMTTYPE=image/png:https://lehightonlibrary.com/wp-content/uploads/2023/05/Copy-of-Copy-of-4Copy-of-INSTA-story-2023-new-2023-programs-FB-Facebook-Post-Landscape-Instagram-Story-Instagram-Post-Square-2.png
END:VEVENT
END:VCALENDAR