BEGIN:VCALENDAR
VERSION:2.0
PRODID:-//Lehighton Area Memorial Library - ECPv6.15.20//NONSGML v1.0//EN
CALSCALE:GREGORIAN
METHOD:PUBLISH
X-ORIGINAL-URL:https://lehightonlibrary.com
X-WR-CALDESC:Events for Lehighton Area Memorial Library
REFRESH-INTERVAL;VALUE=DURATION:PT1H
X-Robots-Tag:noindex
X-PUBLISHED-TTL:PT1H
BEGIN:VTIMEZONE
TZID:UTC
BEGIN:STANDARD
TZOFFSETFROM:+0000
TZOFFSETTO:+0000
TZNAME:UTC
DTSTART:20250101T000000
END:STANDARD
END:VTIMEZONE
BEGIN:VEVENT
DTSTART;TZID=UTC:20260429T103000
DTEND;TZID=UTC:20260429T113000
DTSTAMP:20260422T103206
CREATED:20230902T023317Z
LAST-MODIFIED:20250611T151300Z
UID:10000192-1777458600-1777462200@lehightonlibrary.com
SUMMARY:Preschool Storytime
DESCRIPTION:Recommended for children ages 3 to 6 and their caregivers. \nEnjoy stories\, music\, and crafts! \nFree and open to all!  \nNo registration required.
URL:https://lehightonlibrary.com/event/preschool-storytime/2026-04-29/
CATEGORIES:Baby, Toddler, and Preschooler Programs
ATTACH;FMTTYPE=image/png:https://lehightonlibrary.com/wp-content/uploads/2023/05/Copy-of-Copy-of-4Copy-of-INSTA-story-2023-new-2023-programs-FB-Facebook-Post-Landscape-Instagram-Story-Instagram-Post-Square-2.png
END:VEVENT
END:VCALENDAR