BEGIN:VCALENDAR
VERSION:2.0
PRODID:-//Lehighton Area Memorial Library - ECPv6.15.20//NONSGML v1.0//EN
CALSCALE:GREGORIAN
METHOD:PUBLISH
X-ORIGINAL-URL:https://lehightonlibrary.com
X-WR-CALDESC:Events for Lehighton Area Memorial Library
REFRESH-INTERVAL;VALUE=DURATION:PT1H
X-Robots-Tag:noindex
X-PUBLISHED-TTL:PT1H
BEGIN:VTIMEZONE
TZID:America/New_York
BEGIN:DAYLIGHT
TZOFFSETFROM:-0500
TZOFFSETTO:-0400
TZNAME:EDT
DTSTART:20250309T070000
END:DAYLIGHT
BEGIN:STANDARD
TZOFFSETFROM:-0400
TZOFFSETTO:-0500
TZNAME:EST
DTSTART:20251102T060000
END:STANDARD
BEGIN:DAYLIGHT
TZOFFSETFROM:-0500
TZOFFSETTO:-0400
TZNAME:EDT
DTSTART:20260308T070000
END:DAYLIGHT
BEGIN:STANDARD
TZOFFSETFROM:-0400
TZOFFSETTO:-0500
TZNAME:EST
DTSTART:20261101T060000
END:STANDARD
BEGIN:DAYLIGHT
TZOFFSETFROM:-0500
TZOFFSETTO:-0400
TZNAME:EDT
DTSTART:20270314T070000
END:DAYLIGHT
BEGIN:STANDARD
TZOFFSETFROM:-0400
TZOFFSETTO:-0500
TZNAME:EST
DTSTART:20271107T060000
END:STANDARD
END:VTIMEZONE
BEGIN:VTIMEZONE
TZID:UTC
BEGIN:STANDARD
TZOFFSETFROM:+0000
TZOFFSETTO:+0000
TZNAME:UTC
DTSTART:20250101T000000
END:STANDARD
END:VTIMEZONE
BEGIN:VEVENT
DTSTART;TZID=America/New_York:20260501T103000
DTEND;TZID=America/New_York:20260501T105000
DTSTAMP:20260424T070903
CREATED:20241230T165813Z
LAST-MODIFIED:20260319T201858Z
UID:10000834-1777631400-1777632600@lehightonlibrary.com
SUMMARY:Baby & Toddler Time
DESCRIPTION:These 20 minute sessions introduce developmentally appropriate songs\, rhymes\, fingerplays\, and action rhymes. \nBaby & Toddler Time is a wonderful way to introduce your child to the joys of language in a relaxed and fun atmosphere. This program is designed so the child is with their caregiver and the\ngrownup is actively involved. \nThis program is recommended for babies and toddlers\, 6 to 36 months and their caregivers. Registration and attendance every week is not required.
URL:https://lehightonlibrary.com/event/baby-toddler-time/2026-05-01/
CATEGORIES:Baby, Toddler, and Preschooler Programs
ATTACH;FMTTYPE=image/png:https://lehightonlibrary.com/wp-content/uploads/2023/05/Copy-of-Copy-of-4Copy-of-INSTA-story-2023-new-2023-programs-FB-Facebook-Post-Landscape-Instagram-Story-Instagram-Post-Square-3.png
END:VEVENT
BEGIN:VEVENT
DTSTART;TZID=UTC:20260506T103000
DTEND;TZID=UTC:20260506T113000
DTSTAMP:20260424T070903
CREATED:20230902T023317Z
LAST-MODIFIED:20250611T151300Z
UID:10000193-1778063400-1778067000@lehightonlibrary.com
SUMMARY:Preschool Storytime
DESCRIPTION:Recommended for children ages 3 to 6 and their caregivers. \nEnjoy stories\, music\, and crafts! \nFree and open to all!  \nNo registration required.
URL:https://lehightonlibrary.com/event/preschool-storytime/2026-05-06/
CATEGORIES:Baby, Toddler, and Preschooler Programs
ATTACH;FMTTYPE=image/png:https://lehightonlibrary.com/wp-content/uploads/2023/05/Copy-of-Copy-of-4Copy-of-INSTA-story-2023-new-2023-programs-FB-Facebook-Post-Landscape-Instagram-Story-Instagram-Post-Square-2.png
END:VEVENT
BEGIN:VEVENT
DTSTART;TZID=America/New_York:20260508T103000
DTEND;TZID=America/New_York:20260508T105000
DTSTAMP:20260424T070903
CREATED:20241230T165813Z
LAST-MODIFIED:20260319T201858Z
UID:10000835-1778236200-1778237400@lehightonlibrary.com
SUMMARY:Baby & Toddler Time
DESCRIPTION:These 20 minute sessions introduce developmentally appropriate songs\, rhymes\, fingerplays\, and action rhymes. \nBaby & Toddler Time is a wonderful way to introduce your child to the joys of language in a relaxed and fun atmosphere. This program is designed so the child is with their caregiver and the\ngrownup is actively involved. \nThis program is recommended for babies and toddlers\, 6 to 36 months and their caregivers. Registration and attendance every week is not required.
URL:https://lehightonlibrary.com/event/baby-toddler-time/2026-05-08/
CATEGORIES:Baby, Toddler, and Preschooler Programs
ATTACH;FMTTYPE=image/png:https://lehightonlibrary.com/wp-content/uploads/2023/05/Copy-of-Copy-of-4Copy-of-INSTA-story-2023-new-2023-programs-FB-Facebook-Post-Landscape-Instagram-Story-Instagram-Post-Square-3.png
END:VEVENT
BEGIN:VEVENT
DTSTART;TZID=UTC:20260513T103000
DTEND;TZID=UTC:20260513T113000
DTSTAMP:20260424T070903
CREATED:20230902T023317Z
LAST-MODIFIED:20250611T151300Z
UID:10000194-1778668200-1778671800@lehightonlibrary.com
SUMMARY:Preschool Storytime
DESCRIPTION:Recommended for children ages 3 to 6 and their caregivers. \nEnjoy stories\, music\, and crafts! \nFree and open to all!  \nNo registration required.
URL:https://lehightonlibrary.com/event/preschool-storytime/2026-05-13/
CATEGORIES:Baby, Toddler, and Preschooler Programs
ATTACH;FMTTYPE=image/png:https://lehightonlibrary.com/wp-content/uploads/2023/05/Copy-of-Copy-of-4Copy-of-INSTA-story-2023-new-2023-programs-FB-Facebook-Post-Landscape-Instagram-Story-Instagram-Post-Square-2.png
END:VEVENT
BEGIN:VEVENT
DTSTART;TZID=America/New_York:20260515T103000
DTEND;TZID=America/New_York:20260515T105000
DTSTAMP:20260424T070903
CREATED:20241230T165813Z
LAST-MODIFIED:20260319T201858Z
UID:10000836-1778841000-1778842200@lehightonlibrary.com
SUMMARY:Baby & Toddler Time
DESCRIPTION:These 20 minute sessions introduce developmentally appropriate songs\, rhymes\, fingerplays\, and action rhymes. \nBaby & Toddler Time is a wonderful way to introduce your child to the joys of language in a relaxed and fun atmosphere. This program is designed so the child is with their caregiver and the\ngrownup is actively involved. \nThis program is recommended for babies and toddlers\, 6 to 36 months and their caregivers. Registration and attendance every week is not required.
URL:https://lehightonlibrary.com/event/baby-toddler-time/2026-05-15/
CATEGORIES:Baby, Toddler, and Preschooler Programs
ATTACH;FMTTYPE=image/png:https://lehightonlibrary.com/wp-content/uploads/2023/05/Copy-of-Copy-of-4Copy-of-INSTA-story-2023-new-2023-programs-FB-Facebook-Post-Landscape-Instagram-Story-Instagram-Post-Square-3.png
END:VEVENT
BEGIN:VEVENT
DTSTART;TZID=UTC:20260520T103000
DTEND;TZID=UTC:20260520T113000
DTSTAMP:20260424T070903
CREATED:20230902T023317Z
LAST-MODIFIED:20250611T151300Z
UID:10000195-1779273000-1779276600@lehightonlibrary.com
SUMMARY:Preschool Storytime
DESCRIPTION:Recommended for children ages 3 to 6 and their caregivers. \nEnjoy stories\, music\, and crafts! \nFree and open to all!  \nNo registration required.
URL:https://lehightonlibrary.com/event/preschool-storytime/2026-05-20/
CATEGORIES:Baby, Toddler, and Preschooler Programs
ATTACH;FMTTYPE=image/png:https://lehightonlibrary.com/wp-content/uploads/2023/05/Copy-of-Copy-of-4Copy-of-INSTA-story-2023-new-2023-programs-FB-Facebook-Post-Landscape-Instagram-Story-Instagram-Post-Square-2.png
END:VEVENT
BEGIN:VEVENT
DTSTART;TZID=America/New_York:20260522T103000
DTEND;TZID=America/New_York:20260522T105000
DTSTAMP:20260424T070903
CREATED:20241230T165813Z
LAST-MODIFIED:20260319T201858Z
UID:10000837-1779445800-1779447000@lehightonlibrary.com
SUMMARY:Baby & Toddler Time
DESCRIPTION:These 20 minute sessions introduce developmentally appropriate songs\, rhymes\, fingerplays\, and action rhymes. \nBaby & Toddler Time is a wonderful way to introduce your child to the joys of language in a relaxed and fun atmosphere. This program is designed so the child is with their caregiver and the\ngrownup is actively involved. \nThis program is recommended for babies and toddlers\, 6 to 36 months and their caregivers. Registration and attendance every week is not required.
URL:https://lehightonlibrary.com/event/baby-toddler-time/2026-05-22/
CATEGORIES:Baby, Toddler, and Preschooler Programs
ATTACH;FMTTYPE=image/png:https://lehightonlibrary.com/wp-content/uploads/2023/05/Copy-of-Copy-of-4Copy-of-INSTA-story-2023-new-2023-programs-FB-Facebook-Post-Landscape-Instagram-Story-Instagram-Post-Square-3.png
END:VEVENT
BEGIN:VEVENT
DTSTART;TZID=UTC:20260527T103000
DTEND;TZID=UTC:20260527T113000
DTSTAMP:20260424T070903
CREATED:20230902T023317Z
LAST-MODIFIED:20250611T151300Z
UID:10000196-1779877800-1779881400@lehightonlibrary.com
SUMMARY:Preschool Storytime
DESCRIPTION:Recommended for children ages 3 to 6 and their caregivers. \nEnjoy stories\, music\, and crafts! \nFree and open to all!  \nNo registration required.
URL:https://lehightonlibrary.com/event/preschool-storytime/2026-05-27/
CATEGORIES:Baby, Toddler, and Preschooler Programs
ATTACH;FMTTYPE=image/png:https://lehightonlibrary.com/wp-content/uploads/2023/05/Copy-of-Copy-of-4Copy-of-INSTA-story-2023-new-2023-programs-FB-Facebook-Post-Landscape-Instagram-Story-Instagram-Post-Square-2.png
END:VEVENT
BEGIN:VEVENT
DTSTART;TZID=America/New_York:20260529T103000
DTEND;TZID=America/New_York:20260529T105000
DTSTAMP:20260424T070903
CREATED:20241230T165813Z
LAST-MODIFIED:20260319T201858Z
UID:10000838-1780050600-1780051800@lehightonlibrary.com
SUMMARY:Baby & Toddler Time
DESCRIPTION:These 20 minute sessions introduce developmentally appropriate songs\, rhymes\, fingerplays\, and action rhymes. \nBaby & Toddler Time is a wonderful way to introduce your child to the joys of language in a relaxed and fun atmosphere. This program is designed so the child is with their caregiver and the\ngrownup is actively involved. \nThis program is recommended for babies and toddlers\, 6 to 36 months and their caregivers. Registration and attendance every week is not required.
URL:https://lehightonlibrary.com/event/baby-toddler-time/2026-05-29/
CATEGORIES:Baby, Toddler, and Preschooler Programs
ATTACH;FMTTYPE=image/png:https://lehightonlibrary.com/wp-content/uploads/2023/05/Copy-of-Copy-of-4Copy-of-INSTA-story-2023-new-2023-programs-FB-Facebook-Post-Landscape-Instagram-Story-Instagram-Post-Square-3.png
END:VEVENT
END:VCALENDAR