BEGIN:VCALENDAR
VERSION:2.0
PRODID:-//Lehighton Area Memorial Library - ECPv6.15.20//NONSGML v1.0//EN
CALSCALE:GREGORIAN
METHOD:PUBLISH
X-ORIGINAL-URL:https://lehightonlibrary.com
X-WR-CALDESC:Events for Lehighton Area Memorial Library
REFRESH-INTERVAL;VALUE=DURATION:PT1H
X-Robots-Tag:noindex
X-PUBLISHED-TTL:PT1H
BEGIN:VTIMEZONE
TZID:UTC
BEGIN:STANDARD
TZOFFSETFROM:+0000
TZOFFSETTO:+0000
TZNAME:UTC
DTSTART:20250101T000000
END:STANDARD
END:VTIMEZONE
BEGIN:VTIMEZONE
TZID:America/New_York
BEGIN:DAYLIGHT
TZOFFSETFROM:-0500
TZOFFSETTO:-0400
TZNAME:EDT
DTSTART:20250309T070000
END:DAYLIGHT
BEGIN:STANDARD
TZOFFSETFROM:-0400
TZOFFSETTO:-0500
TZNAME:EST
DTSTART:20251102T060000
END:STANDARD
BEGIN:DAYLIGHT
TZOFFSETFROM:-0500
TZOFFSETTO:-0400
TZNAME:EDT
DTSTART:20260308T070000
END:DAYLIGHT
BEGIN:STANDARD
TZOFFSETFROM:-0400
TZOFFSETTO:-0500
TZNAME:EST
DTSTART:20261101T060000
END:STANDARD
BEGIN:DAYLIGHT
TZOFFSETFROM:-0500
TZOFFSETTO:-0400
TZNAME:EDT
DTSTART:20270314T070000
END:DAYLIGHT
BEGIN:STANDARD
TZOFFSETFROM:-0400
TZOFFSETTO:-0500
TZNAME:EST
DTSTART:20271107T060000
END:STANDARD
END:VTIMEZONE
BEGIN:VEVENT
DTSTART;TZID=UTC:20260304T103000
DTEND;TZID=UTC:20260304T113000
DTSTAMP:20260422T124611
CREATED:20230902T023317Z
LAST-MODIFIED:20250611T151300Z
UID:10000184-1772620200-1772623800@lehightonlibrary.com
SUMMARY:Preschool Storytime
DESCRIPTION:Recommended for children ages 3 to 6 and their caregivers. \nEnjoy stories\, music\, and crafts! \nFree and open to all!  \nNo registration required.
URL:https://lehightonlibrary.com/event/preschool-storytime/2026-03-04/
CATEGORIES:Baby, Toddler, and Preschooler Programs
ATTACH;FMTTYPE=image/png:https://lehightonlibrary.com/wp-content/uploads/2023/05/Copy-of-Copy-of-4Copy-of-INSTA-story-2023-new-2023-programs-FB-Facebook-Post-Landscape-Instagram-Story-Instagram-Post-Square-2.png
END:VEVENT
BEGIN:VEVENT
DTSTART;TZID=America/New_York:20260306T103000
DTEND;TZID=America/New_York:20260306T105000
DTSTAMP:20260422T124611
CREATED:20241230T165813Z
LAST-MODIFIED:20260319T201858Z
UID:10000826-1772793000-1772794200@lehightonlibrary.com
SUMMARY:Baby & Toddler Time
DESCRIPTION:These 20 minute sessions introduce developmentally appropriate songs\, rhymes\, fingerplays\, and action rhymes. \nBaby & Toddler Time is a wonderful way to introduce your child to the joys of language in a relaxed and fun atmosphere. This program is designed so the child is with their caregiver and the\ngrownup is actively involved. \nThis program is recommended for babies and toddlers\, 6 to 36 months and their caregivers. Registration and attendance every week is not required.
URL:https://lehightonlibrary.com/event/baby-toddler-time/2026-03-06/
CATEGORIES:Baby, Toddler, and Preschooler Programs
ATTACH;FMTTYPE=image/png:https://lehightonlibrary.com/wp-content/uploads/2023/05/Copy-of-Copy-of-4Copy-of-INSTA-story-2023-new-2023-programs-FB-Facebook-Post-Landscape-Instagram-Story-Instagram-Post-Square-3.png
END:VEVENT
BEGIN:VEVENT
DTSTART;TZID=UTC:20260311T103000
DTEND;TZID=UTC:20260311T113000
DTSTAMP:20260422T124611
CREATED:20230902T023317Z
LAST-MODIFIED:20250611T151300Z
UID:10000185-1773225000-1773228600@lehightonlibrary.com
SUMMARY:Preschool Storytime
DESCRIPTION:Recommended for children ages 3 to 6 and their caregivers. \nEnjoy stories\, music\, and crafts! \nFree and open to all!  \nNo registration required.
URL:https://lehightonlibrary.com/event/preschool-storytime/2026-03-11/
CATEGORIES:Baby, Toddler, and Preschooler Programs
ATTACH;FMTTYPE=image/png:https://lehightonlibrary.com/wp-content/uploads/2023/05/Copy-of-Copy-of-4Copy-of-INSTA-story-2023-new-2023-programs-FB-Facebook-Post-Landscape-Instagram-Story-Instagram-Post-Square-2.png
END:VEVENT
BEGIN:VEVENT
DTSTART;TZID=America/New_York:20260313T103000
DTEND;TZID=America/New_York:20260313T105000
DTSTAMP:20260422T124611
CREATED:20241230T165813Z
LAST-MODIFIED:20260319T201858Z
UID:10000827-1773397800-1773399000@lehightonlibrary.com
SUMMARY:Baby & Toddler Time
DESCRIPTION:These 20 minute sessions introduce developmentally appropriate songs\, rhymes\, fingerplays\, and action rhymes. \nBaby & Toddler Time is a wonderful way to introduce your child to the joys of language in a relaxed and fun atmosphere. This program is designed so the child is with their caregiver and the\ngrownup is actively involved. \nThis program is recommended for babies and toddlers\, 6 to 36 months and their caregivers. Registration and attendance every week is not required.
URL:https://lehightonlibrary.com/event/baby-toddler-time/2026-03-13/
CATEGORIES:Baby, Toddler, and Preschooler Programs
ATTACH;FMTTYPE=image/png:https://lehightonlibrary.com/wp-content/uploads/2023/05/Copy-of-Copy-of-4Copy-of-INSTA-story-2023-new-2023-programs-FB-Facebook-Post-Landscape-Instagram-Story-Instagram-Post-Square-3.png
END:VEVENT
BEGIN:VEVENT
DTSTART;TZID=UTC:20260318T103000
DTEND;TZID=UTC:20260318T113000
DTSTAMP:20260422T124611
CREATED:20230902T023317Z
LAST-MODIFIED:20250611T151300Z
UID:10000186-1773829800-1773833400@lehightonlibrary.com
SUMMARY:Preschool Storytime
DESCRIPTION:Recommended for children ages 3 to 6 and their caregivers. \nEnjoy stories\, music\, and crafts! \nFree and open to all!  \nNo registration required.
URL:https://lehightonlibrary.com/event/preschool-storytime/2026-03-18/
CATEGORIES:Baby, Toddler, and Preschooler Programs
ATTACH;FMTTYPE=image/png:https://lehightonlibrary.com/wp-content/uploads/2023/05/Copy-of-Copy-of-4Copy-of-INSTA-story-2023-new-2023-programs-FB-Facebook-Post-Landscape-Instagram-Story-Instagram-Post-Square-2.png
END:VEVENT
BEGIN:VEVENT
DTSTART;TZID=America/New_York:20260320T103000
DTEND;TZID=America/New_York:20260320T105000
DTSTAMP:20260422T124611
CREATED:20241230T165813Z
LAST-MODIFIED:20260319T201858Z
UID:10000828-1774002600-1774003800@lehightonlibrary.com
SUMMARY:Baby & Toddler Time
DESCRIPTION:These 20 minute sessions introduce developmentally appropriate songs\, rhymes\, fingerplays\, and action rhymes. \nBaby & Toddler Time is a wonderful way to introduce your child to the joys of language in a relaxed and fun atmosphere. This program is designed so the child is with their caregiver and the\ngrownup is actively involved. \nThis program is recommended for babies and toddlers\, 6 to 36 months and their caregivers. Registration and attendance every week is not required.
URL:https://lehightonlibrary.com/event/baby-toddler-time/2026-03-20/
CATEGORIES:Baby, Toddler, and Preschooler Programs
ATTACH;FMTTYPE=image/png:https://lehightonlibrary.com/wp-content/uploads/2023/05/Copy-of-Copy-of-4Copy-of-INSTA-story-2023-new-2023-programs-FB-Facebook-Post-Landscape-Instagram-Story-Instagram-Post-Square-3.png
END:VEVENT
BEGIN:VEVENT
DTSTART;TZID=UTC:20260325T103000
DTEND;TZID=UTC:20260325T113000
DTSTAMP:20260422T124611
CREATED:20230902T023317Z
LAST-MODIFIED:20250611T151300Z
UID:10000187-1774434600-1774438200@lehightonlibrary.com
SUMMARY:Preschool Storytime
DESCRIPTION:Recommended for children ages 3 to 6 and their caregivers. \nEnjoy stories\, music\, and crafts! \nFree and open to all!  \nNo registration required.
URL:https://lehightonlibrary.com/event/preschool-storytime/2026-03-25/
CATEGORIES:Baby, Toddler, and Preschooler Programs
ATTACH;FMTTYPE=image/png:https://lehightonlibrary.com/wp-content/uploads/2023/05/Copy-of-Copy-of-4Copy-of-INSTA-story-2023-new-2023-programs-FB-Facebook-Post-Landscape-Instagram-Story-Instagram-Post-Square-2.png
END:VEVENT
BEGIN:VEVENT
DTSTART;TZID=America/New_York:20260327T103000
DTEND;TZID=America/New_York:20260327T105000
DTSTAMP:20260422T124611
CREATED:20241230T165813Z
LAST-MODIFIED:20260319T201858Z
UID:10000829-1774607400-1774608600@lehightonlibrary.com
SUMMARY:Baby & Toddler Time
DESCRIPTION:These 20 minute sessions introduce developmentally appropriate songs\, rhymes\, fingerplays\, and action rhymes. \nBaby & Toddler Time is a wonderful way to introduce your child to the joys of language in a relaxed and fun atmosphere. This program is designed so the child is with their caregiver and the\ngrownup is actively involved. \nThis program is recommended for babies and toddlers\, 6 to 36 months and their caregivers. Registration and attendance every week is not required.
URL:https://lehightonlibrary.com/event/baby-toddler-time/2026-03-27/
CATEGORIES:Baby, Toddler, and Preschooler Programs
ATTACH;FMTTYPE=image/png:https://lehightonlibrary.com/wp-content/uploads/2023/05/Copy-of-Copy-of-4Copy-of-INSTA-story-2023-new-2023-programs-FB-Facebook-Post-Landscape-Instagram-Story-Instagram-Post-Square-3.png
END:VEVENT
END:VCALENDAR